BEGIN:VCALENDAR
VERSION:2.0
PRODID:-//RSDO - ECPv6.15.20//NONSGML v1.0//EN
CALSCALE:GREGORIAN
METHOD:PUBLISH
X-ORIGINAL-URL:https://www.rsdo.org
X-WR-CALDESC:Évènements pour RSDO
REFRESH-INTERVAL;VALUE=DURATION:PT1H
X-Robots-Tag:noindex
X-PUBLISHED-TTL:PT1H
BEGIN:VTIMEZONE
TZID:America/New_York
BEGIN:DAYLIGHT
TZOFFSETFROM:-0500
TZOFFSETTO:-0400
TZNAME:EDT
DTSTART:20200308T070000
END:DAYLIGHT
BEGIN:STANDARD
TZOFFSETFROM:-0400
TZOFFSETTO:-0500
TZNAME:EST
DTSTART:20201101T060000
END:STANDARD
BEGIN:DAYLIGHT
TZOFFSETFROM:-0500
TZOFFSETTO:-0400
TZNAME:EDT
DTSTART:20210314T070000
END:DAYLIGHT
BEGIN:STANDARD
TZOFFSETFROM:-0400
TZOFFSETTO:-0500
TZNAME:EST
DTSTART:20211107T060000
END:STANDARD
BEGIN:DAYLIGHT
TZOFFSETFROM:-0500
TZOFFSETTO:-0400
TZNAME:EDT
DTSTART:20220313T070000
END:DAYLIGHT
BEGIN:STANDARD
TZOFFSETFROM:-0400
TZOFFSETTO:-0500
TZNAME:EST
DTSTART:20221106T060000
END:STANDARD
END:VTIMEZONE
BEGIN:VEVENT
DTSTART;TZID=America/New_York:20210114T110000
DTEND;TZID=America/New_York:20210114T120000
DTSTAMP:20260421T103043
CREATED:20201227T014725Z
LAST-MODIFIED:20201227T014725Z
UID:10000613-1610622000-1610625600@www.rsdo.org
SUMMARY:Cours de zumba virtuel
DESCRIPTION:Cette activité gratuite est réservée aux membres et sera transmise virtuellement. \nEssai gratuit d’un cours pour les non-membres \nLa Zumba est un programme d’entraînement physique complet\, alliant tous les éléments de la remise en forme : cardio et préparation musculaire\, équilibre et flexibilité. \nLes chorégraphies s’inspirent principalement des danses latines\, mais aussi de styles variés comme la danse du ventre ou la Quebradita. \nLes sessions virtuelles seront animées par la dynamique Jiana Saad. \nLe lien pour rejoindre le cours virtuellement sera transmis par courriel avant chaque cours aux membres. \nPour information et inscription\, veuillez communiquer avec Sylvie Gagnon à conference@rsdo.org \n  \n 
URL:https://www.rsdo.org/evenements/cours-de-zumba-virtuel/2021-01-14/
LOCATION:ZOOM
CATEGORIES:Cours
ATTACH;FMTTYPE=image/jpeg:https://www.rsdo.org/wp-content/uploads/2020/12/Image-zumba.jpg
END:VEVENT
BEGIN:VEVENT
DTSTART;TZID=America/New_York:20210112T110000
DTEND;TZID=America/New_York:20210112T120000
DTSTAMP:20260421T103043
CREATED:20201227T014725Z
LAST-MODIFIED:20201227T014725Z
UID:10000612-1610449200-1610452800@www.rsdo.org
SUMMARY:Cours de zumba virtuel
DESCRIPTION:Cette activité gratuite est réservée aux membres et sera transmise virtuellement. \nEssai gratuit d’un cours pour les non-membres \nLa Zumba est un programme d’entraînement physique complet\, alliant tous les éléments de la remise en forme : cardio et préparation musculaire\, équilibre et flexibilité. \nLes chorégraphies s’inspirent principalement des danses latines\, mais aussi de styles variés comme la danse du ventre ou la Quebradita. \nLes sessions virtuelles seront animées par la dynamique Jiana Saad. \nLe lien pour rejoindre le cours virtuellement sera transmis par courriel avant chaque cours aux membres. \nPour information et inscription\, veuillez communiquer avec Sylvie Gagnon à conference@rsdo.org \n  \n 
URL:https://www.rsdo.org/evenements/cours-de-zumba-virtuel/2021-01-12/
LOCATION:ZOOM
CATEGORIES:Cours
ATTACH;FMTTYPE=image/jpeg:https://www.rsdo.org/wp-content/uploads/2020/12/Image-zumba.jpg
END:VEVENT
END:VCALENDAR