BEGIN:VCALENDAR
VERSION:2.0
PRODID:-//RSDO - ECPv6.15.20//NONSGML v1.0//EN
CALSCALE:GREGORIAN
METHOD:PUBLISH
X-ORIGINAL-URL:https://www.rsdo.org
X-WR-CALDESC:Évènements pour RSDO
REFRESH-INTERVAL;VALUE=DURATION:PT1H
X-Robots-Tag:noindex
X-PUBLISHED-TTL:PT1H
BEGIN:VTIMEZONE
TZID:America/New_York
BEGIN:DAYLIGHT
TZOFFSETFROM:-0500
TZOFFSETTO:-0400
TZNAME:EDT
DTSTART:20170312T070000
END:DAYLIGHT
BEGIN:STANDARD
TZOFFSETFROM:-0400
TZOFFSETTO:-0500
TZNAME:EST
DTSTART:20171105T060000
END:STANDARD
BEGIN:DAYLIGHT
TZOFFSETFROM:-0500
TZOFFSETTO:-0400
TZNAME:EDT
DTSTART:20180311T070000
END:DAYLIGHT
BEGIN:STANDARD
TZOFFSETFROM:-0400
TZOFFSETTO:-0500
TZNAME:EST
DTSTART:20181104T060000
END:STANDARD
BEGIN:DAYLIGHT
TZOFFSETFROM:-0500
TZOFFSETTO:-0400
TZNAME:EDT
DTSTART:20190310T070000
END:DAYLIGHT
BEGIN:STANDARD
TZOFFSETFROM:-0400
TZOFFSETTO:-0500
TZNAME:EST
DTSTART:20191103T060000
END:STANDARD
END:VTIMEZONE
BEGIN:VEVENT
DTSTART;TZID=America/New_York:20180612T100000
DTEND;TZID=America/New_York:20180612T113000
DTSTAMP:20260419T100412
CREATED:20180605T022315Z
LAST-MODIFIED:20180605T024705Z
UID:10001135-1528797600-1528803000@www.rsdo.org
SUMMARY:Marche santé et randonnée pédestre - Vaudreuil-Dorion
DESCRIPTION:Nous avons maintenant 4 points de rencontre pour les marches régulières \nLes membres étant répartis sur un grand territoire\, il y a maintenant 4 points de rencontres pour les marches régulières gratuites d’une durée maximale d’une heure et demie. S’il y a des volontaires pour organiser des marches régulières dans une région qui leur conviendrait davantage\, n’hésitez pas à contacter Gisèle T. au 514 620-6652. \nPour les marches spontanées qui s’ajouteront à celles-ci\, un courriel vous sera envoyé pour chaque sortie avec les informations pertinentes. Toutes les suggestions sont les bienvenues. Gisèle T. responsable des marches santé 514 620-6652. \nVaudreuil-Dorion \nChaque mardi et jeudi à 10:00 \nPoint de rencontre\, devant Opti-Centre Saint-Jean-Baptiste au 145\, Harwood\, Vaudreuil-Dorion\, J7V 1Y3. \nRenseignements :    Viateur B. au 450 455-1014 ou Claire M. au 450 218-0967.
URL:https://www.rsdo.org/evenements/marche-sante-randonnee-pedestre-vaudreuil-dorion/2018-06-12/
LOCATION:Opti-Centre St-Jean-Baptiste\, 145\, Harwood\, Vaudreuil-Dorion\, Québec\, J7V 1Y3\, Canada
CATEGORIES:Ateliers
ATTACH;FMTTYPE=image/jpeg:https://www.rsdo.org/wp-content/uploads/2018/06/Randonnée-pédestre-2.jpg
GEO:45.3836495;-74.0116336
X-APPLE-STRUCTURED-LOCATION;VALUE=URI;X-ADDRESS=Opti-Centre St-Jean-Baptiste 145 Harwood Vaudreuil-Dorion Québec J7V 1Y3 Canada;X-APPLE-RADIUS=500;X-TITLE=145\, Harwood:geo:-74.0116336,45.3836495
END:VEVENT
BEGIN:VEVENT
DTSTART;TZID=America/New_York:20180607T100000
DTEND;TZID=America/New_York:20180607T113000
DTSTAMP:20260419T100412
CREATED:20180605T022315Z
LAST-MODIFIED:20180605T024705Z
UID:10001134-1528365600-1528371000@www.rsdo.org
SUMMARY:Marche santé et randonnée pédestre - Vaudreuil-Dorion
DESCRIPTION:Nous avons maintenant 4 points de rencontre pour les marches régulières \nLes membres étant répartis sur un grand territoire\, il y a maintenant 4 points de rencontres pour les marches régulières gratuites d’une durée maximale d’une heure et demie. S’il y a des volontaires pour organiser des marches régulières dans une région qui leur conviendrait davantage\, n’hésitez pas à contacter Gisèle T. au 514 620-6652. \nPour les marches spontanées qui s’ajouteront à celles-ci\, un courriel vous sera envoyé pour chaque sortie avec les informations pertinentes. Toutes les suggestions sont les bienvenues. Gisèle T. responsable des marches santé 514 620-6652. \nVaudreuil-Dorion \nChaque mardi et jeudi à 10:00 \nPoint de rencontre\, devant Opti-Centre Saint-Jean-Baptiste au 145\, Harwood\, Vaudreuil-Dorion\, J7V 1Y3. \nRenseignements :    Viateur B. au 450 455-1014 ou Claire M. au 450 218-0967.
URL:https://www.rsdo.org/evenements/marche-sante-randonnee-pedestre-vaudreuil-dorion/2018-06-07/
LOCATION:Opti-Centre St-Jean-Baptiste\, 145\, Harwood\, Vaudreuil-Dorion\, Québec\, J7V 1Y3\, Canada
CATEGORIES:Ateliers
ATTACH;FMTTYPE=image/jpeg:https://www.rsdo.org/wp-content/uploads/2018/06/Randonnée-pédestre-2.jpg
GEO:45.3836495;-74.0116336
X-APPLE-STRUCTURED-LOCATION;VALUE=URI;X-ADDRESS=Opti-Centre St-Jean-Baptiste 145 Harwood Vaudreuil-Dorion Québec J7V 1Y3 Canada;X-APPLE-RADIUS=500;X-TITLE=145\, Harwood:geo:-74.0116336,45.3836495
END:VEVENT
BEGIN:VEVENT
DTSTART;TZID=America/New_York:20180605T100000
DTEND;TZID=America/New_York:20180605T113000
DTSTAMP:20260419T100412
CREATED:20180605T022315Z
LAST-MODIFIED:20180605T024705Z
UID:10001133-1528192800-1528198200@www.rsdo.org
SUMMARY:Marche santé et randonnée pédestre - Vaudreuil-Dorion
DESCRIPTION:Nous avons maintenant 4 points de rencontre pour les marches régulières \nLes membres étant répartis sur un grand territoire\, il y a maintenant 4 points de rencontres pour les marches régulières gratuites d’une durée maximale d’une heure et demie. S’il y a des volontaires pour organiser des marches régulières dans une région qui leur conviendrait davantage\, n’hésitez pas à contacter Gisèle T. au 514 620-6652. \nPour les marches spontanées qui s’ajouteront à celles-ci\, un courriel vous sera envoyé pour chaque sortie avec les informations pertinentes. Toutes les suggestions sont les bienvenues. Gisèle T. responsable des marches santé 514 620-6652. \nVaudreuil-Dorion \nChaque mardi et jeudi à 10:00 \nPoint de rencontre\, devant Opti-Centre Saint-Jean-Baptiste au 145\, Harwood\, Vaudreuil-Dorion\, J7V 1Y3. \nRenseignements :    Viateur B. au 450 455-1014 ou Claire M. au 450 218-0967.
URL:https://www.rsdo.org/evenements/marche-sante-randonnee-pedestre-vaudreuil-dorion/2018-06-05/
LOCATION:Opti-Centre St-Jean-Baptiste\, 145\, Harwood\, Vaudreuil-Dorion\, Québec\, J7V 1Y3\, Canada
CATEGORIES:Ateliers
ATTACH;FMTTYPE=image/jpeg:https://www.rsdo.org/wp-content/uploads/2018/06/Randonnée-pédestre-2.jpg
GEO:45.3836495;-74.0116336
X-APPLE-STRUCTURED-LOCATION;VALUE=URI;X-ADDRESS=Opti-Centre St-Jean-Baptiste 145 Harwood Vaudreuil-Dorion Québec J7V 1Y3 Canada;X-APPLE-RADIUS=500;X-TITLE=145\, Harwood:geo:-74.0116336,45.3836495
END:VEVENT
END:VCALENDAR