BEGIN:VCALENDAR
VERSION:2.0
PRODID:-//RSDO - ECPv6.15.20//NONSGML v1.0//EN
CALSCALE:GREGORIAN
METHOD:PUBLISH
X-ORIGINAL-URL:https://www.rsdo.org
X-WR-CALDESC:Évènements pour RSDO
REFRESH-INTERVAL;VALUE=DURATION:PT1H
X-Robots-Tag:noindex
X-PUBLISHED-TTL:PT1H
BEGIN:VTIMEZONE
TZID:America/New_York
BEGIN:DAYLIGHT
TZOFFSETFROM:-0500
TZOFFSETTO:-0400
TZNAME:EDT
DTSTART:20210314T070000
END:DAYLIGHT
BEGIN:STANDARD
TZOFFSETFROM:-0400
TZOFFSETTO:-0500
TZNAME:EST
DTSTART:20211107T060000
END:STANDARD
BEGIN:DAYLIGHT
TZOFFSETFROM:-0500
TZOFFSETTO:-0400
TZNAME:EDT
DTSTART:20220313T070000
END:DAYLIGHT
BEGIN:STANDARD
TZOFFSETFROM:-0400
TZOFFSETTO:-0500
TZNAME:EST
DTSTART:20221106T060000
END:STANDARD
BEGIN:DAYLIGHT
TZOFFSETFROM:-0500
TZOFFSETTO:-0400
TZNAME:EDT
DTSTART:20230312T070000
END:DAYLIGHT
BEGIN:STANDARD
TZOFFSETFROM:-0400
TZOFFSETTO:-0500
TZNAME:EST
DTSTART:20231105T060000
END:STANDARD
END:VTIMEZONE
BEGIN:VEVENT
DTSTART;TZID=America/New_York:20221212T093000
DTEND;TZID=America/New_York:20221212T093000
DTSTAMP:20260419T171704
CREATED:20220831T004735Z
LAST-MODIFIED:20220831T010609Z
UID:10002234-1670837400-1670837400@www.rsdo.org
SUMMARY:Marches hebdomadaires (L'Île-Bizard)
DESCRIPTION:Activité gratuite ouverte à tous (non-membres bienvenus) \nLe RSDO a deux points de rencontre (Vaudreuil-Dorion et Île-Bizard) pour les marches hebdomadaires qui sont ouvertes à toutes et à tous\, quel que soit votre niveau d’activité. \nLes responsables pour chacun des groupes communiquent avec les participants lors de changements ou d’annulations de l’activité. \nLes marches sont d’une durée de 60 à 90 minutes et nous demandons aux marcheurs de se présenter au point de rencontre au moins 10 minutes avant le départ. \nLes marches du Groupe Vaudreuil-Dorion se terminent souvent par une rencontre amicale au restaurant ou dans un café. \nPour informations générales\, veuillez communiquer avec Pauline Debonville à sociale@rsdo.org ou par téléphone au 514-830-1166 ou au 450‑510‑1931. \n  \n\n\n\nGroupe de l’Île-Bizard                                                                Les lundis et jeudis à 9 h 30 \nPoint de rencontre     Complexe sportif Saint-Raphaël\, au stationnement près de l’entrée du parc \n750\, boulevard Jacques-Bizard \nStationnement            Au complexe sportif\, près du boulevard Jacques-Bizard \nResponsables             Carole Larivière (514-626-9306) et \nGisèle Talbot (514-620-6652)\n\n\n\n\n\n\nGroupe de Vaudreuil-Dorion                                           Les mardis et jeudis à 10 h 30 * \nPoint de rencontre     Dans le stationnement de la rue Dumont\, derrière la Tour d’eau\, \nà côté de l’Opti-Centre Saint-Jean-Baptiste sis au 145\, boulevard Hardwood \nStationnement            Dans les stationnements voisins de la Tour d’eau \nResponsable               Pauline Debonville (450-510-1931) \n*   Plus tard à l’automne\, les marches débuteront à 13 h 30 et les participants en seront informés par courriel.
URL:https://www.rsdo.org/evenements/marches-hebdomadaires-ile-bizard-2/2022-12-12/
LOCATION:Québec
CATEGORIES:Ateliers
ATTACH;FMTTYPE=image/jpeg:https://www.rsdo.org/wp-content/uploads/2022/08/Marches-Automne-2022.jpg
END:VEVENT
BEGIN:VEVENT
DTSTART;TZID=America/New_York:20221212T103000
DTEND;TZID=America/New_York:20221212T114500
DTSTAMP:20260419T171704
CREATED:20220906T211625Z
LAST-MODIFIED:20220906T222547Z
UID:10002284-1670841000-1670845500@www.rsdo.org
SUMMARY:Étirement et alignement postural avec chaise
DESCRIPTION:Activité gratuite exclusive aux membres \nEssai gratuit d’une séance pour les non-membres \nRespirez tout simplement et soyez Zen !  \nLe RSDO est heureux de vous offrir cette nouvelle activité virtuelle animée par Chantal Bardier qui possède plus de 21 ans d’expérience en conditionnement physique avec la clientèle des 50 ans et plus. \nVous pouvez en apprendre plus sur le cheminement et les expériences professionnelles de Chantal en consultant : \n\n            son site web :  https://chantalbardier.weebly.com\n            sa chaîne YouTube : http://www.youtube.com/user/SingingTrainer\n            ses groupes Facebook : https://chantalbardier.weebly.com/groupes-facebook.html\n\nLes séances consisteront en exercices d’étirement et d’alignement postural avec chaise combinant étirements posturaux et de détente\, en position assise et debout\, le tout dans le respect des limites de chacun. \nLes exercices pratiqués améliorent la souplesse générale et la mobilité\, dénouent les tensions\, aident à prévenir les blessures\, apprennent à mieux respirer et à réduire l’anxiété.  Pour profiter au maximum des bénéfices qu’ils apportent\, nous vous recommandons d’éviter les repas lourds avant les séances\, de vous vêtir de vêtements confortables et d’espadrilles ou chaussettes antidérapantes et de vous munir d’une bouteille d’eau. \nDates                        Du 12 septembre au 19 décembre (15 semaines) \nComment                 Virtuellement avec la plateforme Zoom \n                                  Un hyperlien sera envoyé à tous les membres \nMatériel requis         \n\nChaise sans accoudoirs\nSangle\, ceinture ou cravate\n\nPour informations veuillez communiquer avec Sylvie Beaupré à sbeaupre01@hotmail.com ou directement auprès de Chantal Bardier à cbardier@sympatico.ca
URL:https://www.rsdo.org/evenements/etirement-alignement-postural-chaise/2022-12-12/
LOCATION:Québec
CATEGORIES:Cours
ATTACH;FMTTYPE=image/png:https://www.rsdo.org/wp-content/uploads/2022/08/Étirement-et-Alignment-Postural-avec-Chaise-Automne-2022-e1662506710785.png
END:VEVENT
BEGIN:VEVENT
DTSTART;TZID=America/New_York:20221213T093000
DTEND;TZID=America/New_York:20221213T120000
DTSTAMP:20260419T171704
CREATED:20220831T004225Z
LAST-MODIFIED:20220831T010424Z
UID:10002204-1670923800-1670932800@www.rsdo.org
SUMMARY:Marches hebdomadaires (Vaudreuil-Dorion)
DESCRIPTION:Activité gratuite ouverte à tous (non-membres bienvenus) \nLe RSDO a deux points de rencontre (Vaudreuil-Dorion et Île-Bizard) pour les marches hebdomadaires qui sont ouvertes à toutes et à tous\, quel que soit votre niveau d’activité. \nLes responsables pour chacun des groupes communiquent avec les participants lors de changements ou d’annulations de l’activité. \nLes marches sont d’une durée de 60 à 90 minutes et nous demandons aux marcheurs de se présenter au point de rencontre au moins 10 minutes avant le départ. \nLes marches du Groupe Vaudreuil-Dorion se terminent souvent par une rencontre amicale au restaurant ou dans un café. \nPour informations générales\, veuillez communiquer avec Pauline Debonville à sociale@rsdo.org ou par téléphone au 514-830-1166 ou au 450‑510‑1931. \n\n\n\nGroupe de Vaudreuil-Dorion                                           Les mardis et jeudis à 10 h 30 * \nPoint de rencontre     Dans le stationnement de la rue Dumont\, derrière la Tour d’eau\, \nà côté de l’Opti-Centre Saint-Jean-Baptiste sis au 145\, boulevard Hardwood \nStationnement            Dans les stationnements voisins de la Tour d’eau \nResponsable               Pauline Debonville (450-510-1931) \n*   Plus tard à l’automne\, les marches débuteront à 13 h 30 et les participants en seront informés par courriel.\n\n\n\n\n\n\nGroupe de l’Île-Bizard                                                                Les lundis et jeudis à 9 h 30 \nPoint de rencontre     Complexe sportif Saint-Raphaël\, au stationnement près de l’entrée du parc \n750\, boulevard Jacques-Bizard \nStationnement            Au complexe sportif\, près du boulevard Jacques-Bizard \nResponsables             Carole Larivière (514-626-9306) et \nGisèle Talbot (514-620-6652)\n\n\n\n 
URL:https://www.rsdo.org/evenements/marches-hebdomadaires-vaudreuil-dorion-2/2022-12-13/
LOCATION:Québec
CATEGORIES:Ateliers
ATTACH;FMTTYPE=image/jpeg:https://www.rsdo.org/wp-content/uploads/2022/08/Marches-Automne-2022.jpg
END:VEVENT
BEGIN:VEVENT
DTSTART;TZID=America/New_York:20221215T093000
DTEND;TZID=America/New_York:20221215T093000
DTSTAMP:20260419T171704
CREATED:20220831T004735Z
LAST-MODIFIED:20220831T010609Z
UID:10002235-1671096600-1671096600@www.rsdo.org
SUMMARY:Marches hebdomadaires (L'Île-Bizard)
DESCRIPTION:Activité gratuite ouverte à tous (non-membres bienvenus) \nLe RSDO a deux points de rencontre (Vaudreuil-Dorion et Île-Bizard) pour les marches hebdomadaires qui sont ouvertes à toutes et à tous\, quel que soit votre niveau d’activité. \nLes responsables pour chacun des groupes communiquent avec les participants lors de changements ou d’annulations de l’activité. \nLes marches sont d’une durée de 60 à 90 minutes et nous demandons aux marcheurs de se présenter au point de rencontre au moins 10 minutes avant le départ. \nLes marches du Groupe Vaudreuil-Dorion se terminent souvent par une rencontre amicale au restaurant ou dans un café. \nPour informations générales\, veuillez communiquer avec Pauline Debonville à sociale@rsdo.org ou par téléphone au 514-830-1166 ou au 450‑510‑1931. \n  \n\n\n\nGroupe de l’Île-Bizard                                                                Les lundis et jeudis à 9 h 30 \nPoint de rencontre     Complexe sportif Saint-Raphaël\, au stationnement près de l’entrée du parc \n750\, boulevard Jacques-Bizard \nStationnement            Au complexe sportif\, près du boulevard Jacques-Bizard \nResponsables             Carole Larivière (514-626-9306) et \nGisèle Talbot (514-620-6652)\n\n\n\n\n\n\nGroupe de Vaudreuil-Dorion                                           Les mardis et jeudis à 10 h 30 * \nPoint de rencontre     Dans le stationnement de la rue Dumont\, derrière la Tour d’eau\, \nà côté de l’Opti-Centre Saint-Jean-Baptiste sis au 145\, boulevard Hardwood \nStationnement            Dans les stationnements voisins de la Tour d’eau \nResponsable               Pauline Debonville (450-510-1931) \n*   Plus tard à l’automne\, les marches débuteront à 13 h 30 et les participants en seront informés par courriel.
URL:https://www.rsdo.org/evenements/marches-hebdomadaires-ile-bizard-2/2022-12-15/
LOCATION:Québec
CATEGORIES:Ateliers
ATTACH;FMTTYPE=image/jpeg:https://www.rsdo.org/wp-content/uploads/2022/08/Marches-Automne-2022.jpg
END:VEVENT
BEGIN:VEVENT
DTSTART;TZID=America/New_York:20221215T093000
DTEND;TZID=America/New_York:20221215T120000
DTSTAMP:20260419T171704
CREATED:20220831T004225Z
LAST-MODIFIED:20220831T010424Z
UID:10002205-1671096600-1671105600@www.rsdo.org
SUMMARY:Marches hebdomadaires (Vaudreuil-Dorion)
DESCRIPTION:Activité gratuite ouverte à tous (non-membres bienvenus) \nLe RSDO a deux points de rencontre (Vaudreuil-Dorion et Île-Bizard) pour les marches hebdomadaires qui sont ouvertes à toutes et à tous\, quel que soit votre niveau d’activité. \nLes responsables pour chacun des groupes communiquent avec les participants lors de changements ou d’annulations de l’activité. \nLes marches sont d’une durée de 60 à 90 minutes et nous demandons aux marcheurs de se présenter au point de rencontre au moins 10 minutes avant le départ. \nLes marches du Groupe Vaudreuil-Dorion se terminent souvent par une rencontre amicale au restaurant ou dans un café. \nPour informations générales\, veuillez communiquer avec Pauline Debonville à sociale@rsdo.org ou par téléphone au 514-830-1166 ou au 450‑510‑1931. \n\n\n\nGroupe de Vaudreuil-Dorion                                           Les mardis et jeudis à 10 h 30 * \nPoint de rencontre     Dans le stationnement de la rue Dumont\, derrière la Tour d’eau\, \nà côté de l’Opti-Centre Saint-Jean-Baptiste sis au 145\, boulevard Hardwood \nStationnement            Dans les stationnements voisins de la Tour d’eau \nResponsable               Pauline Debonville (450-510-1931) \n*   Plus tard à l’automne\, les marches débuteront à 13 h 30 et les participants en seront informés par courriel.\n\n\n\n\n\n\nGroupe de l’Île-Bizard                                                                Les lundis et jeudis à 9 h 30 \nPoint de rencontre     Complexe sportif Saint-Raphaël\, au stationnement près de l’entrée du parc \n750\, boulevard Jacques-Bizard \nStationnement            Au complexe sportif\, près du boulevard Jacques-Bizard \nResponsables             Carole Larivière (514-626-9306) et \nGisèle Talbot (514-620-6652)\n\n\n\n 
URL:https://www.rsdo.org/evenements/marches-hebdomadaires-vaudreuil-dorion-2/2022-12-15/
LOCATION:Québec
CATEGORIES:Ateliers
ATTACH;FMTTYPE=image/jpeg:https://www.rsdo.org/wp-content/uploads/2022/08/Marches-Automne-2022.jpg
END:VEVENT
BEGIN:VEVENT
DTSTART;TZID=America/New_York:20221215T183000
DTEND;TZID=America/New_York:20221215T200000
DTSTAMP:20260419T171704
CREATED:20220906T223442Z
LAST-MODIFIED:20220906T223512Z
UID:10000847-1671129000-1671134400@www.rsdo.org
SUMMARY:Atelier CRAM: Soirées Réconfort pour Endeuillés
DESCRIPTION:Activité gratuite ouverte à tous (non-membres bienvenus) \nInscription requise \nLes jeudis en p.m. ou en soirée \nLe Centre de Relation d’Aide de Montréal (CRAM) a développé une expertise pour soutenir les endeuillés et leurs proches dans leur processus de deuil ou de perte\, et pour former des aidants du deuil compétents. \nAnimées par Louise Racine\, TRA\, Thérapeute en Relation d’aide®\, ces soirées réconfort sont \nexclusivement offertes pour les deuils par décès\, à savoir : \n\nTout endeuillé par décès (récent ou pas)\nTout proche\, aidant naturel\, bénévole ou personnel qui écoute ou entoure l’endeuillé.\n\nDates \n22 septembre                    27 octobre                                          17 novembre                                          15 décembre \nde 14 h 30 à 16 h                   de 18 h 30 à 20 h                                               de 14 h 30 à 16 h                                               de 18 h 30 à 20 h \nVous pouvez participer à une ou plusieurs rencontres qui vous permettront de : \n\nBriser l’isolement\nÉchangez avec d’autres endeuillés\nComprendre le processus du deuil\nRecevoir du réconfort\n\nCes rencontres sont virtuelles via la plateforme Zoom et il est nécessaire de vous inscrire pour chacune des rencontres directement sur le site du CRAM à :  https://www.cramformation.com/activites-gratuites/soirees-reconfort-pour-endeuilles \nVous recevrez par la suite un courriel vous fournissant l’hyperlien qui vous permettra de participer aux rencontres. \nPour informations\, veuillez communiquer avec Sylvie Beaupré à sbeaupre01@hotmail.com ou par téléphone au 514-865-4377. \n  \n 
URL:https://www.rsdo.org/evenements/atelier-cram-soirees-reconfort-endeuilles/2022-12-15/
LOCATION:ZOOM
CATEGORIES:Cours
ATTACH;FMTTYPE=image/jpeg:https://www.rsdo.org/wp-content/uploads/2022/08/CRAM-Image-1-Automne-2022.jpg
END:VEVENT
BEGIN:VEVENT
DTSTART;TZID=America/New_York:20221215T183000
DTEND;TZID=America/New_York:20221215T210000
DTSTAMP:20260419T171704
CREATED:20221124T203428Z
LAST-MODIFIED:20221124T204218Z
UID:10000772-1671129000-1671138000@www.rsdo.org
SUMMARY:Visite du Père Noël
DESCRIPTION:Nous aurons le privilège de recevoir le Père Noël jeudi le 15 décembre à la salle Marcel Morin de 18h30 à 21h.\nIl arrivera vers 18h30\, contera une histoire aux petits et aux grands.\nVous pourrez prendre des photos avec lui.\nNous aurons de la musique et pourrons chanter.\nAmenez vos cœurs d’enfants et vos petits-enfants.\n\n.
URL:https://www.rsdo.org/evenements/visite-pere-noel/
LOCATION:Centre communautaire Marcel Morin\, 14068\, boulevard Gouin Ouest\, Pierrefonds\, Québec\, H8Z 1Y1\, Canada
CATEGORIES:Conférences
ATTACH;FMTTYPE=image/jpeg:https://www.rsdo.org/wp-content/uploads/2022/11/Père-Noël-2022.12.15-e1669322345188.jpeg
GEO:45.4956281;-73.8506691
X-APPLE-STRUCTURED-LOCATION;VALUE=URI;X-ADDRESS=Centre communautaire Marcel Morin 14068 boulevard Gouin Ouest Pierrefonds Québec H8Z 1Y1 Canada;X-APPLE-RADIUS=500;X-TITLE=14068\, boulevard Gouin Ouest:geo:-73.8506691,45.4956281
END:VEVENT
BEGIN:VEVENT
DTSTART;TZID=America/New_York:20221215T190000
DTEND;TZID=America/New_York:20221215T210000
DTSTAMP:20260419T171704
CREATED:20220831T012335Z
LAST-MODIFIED:20220831T013015Z
UID:10002253-1671130800-1671138000@www.rsdo.org
SUMMARY:Réunions du Conseil d'Administration
DESCRIPTION:  \n\n\n\nPrésidente\nClaire Ménard\n450-218-0967\n\n\nVice-présidente aux finances\nPauline Primeau\n514-465-3428\n\n\nSecrétaire\nSylvie Lévesque\n514-606-6890\n\n\nCoordonnateur des conférences et des ateliers\nJean Pierre Daigneau\n438-888-3146\n\n\nCoordonnatrice des activités sociales\nPauline Debonville\n450-510-1931\n\n\nCoordonnatrice des relations publiques\nSylvie Gagnon\n514-850-1243\n\n\nCoordonnatrice du support technique\nMonique Letendre\n514-421-5477\n\n\n\n\n\n\nRéunions \nLes réunions mensuelles se tiennent à 19 h au : \nCentre Communautaire Marcel-Morin \n14068\, boulevard Gouin Ouest \nPierrefonds \nUne période de questions permet aux membres de présenter des suggestions ou des idées pouvant enrichir la mission de l’organisme. Veuillez cependant noter que les membres n’ont pas de droit de vote. \nDates des prochaines réunions du CA \nLe jeudi 29 septembre         Le jeudi 27 octobre              Le jeudi 24 novembre          Le jeudi 15 décembre
URL:https://www.rsdo.org/evenements/reunions-du-ca/2022-12-15/
LOCATION:Québec
CATEGORIES:Réunions
ATTACH;FMTTYPE=image/jpeg:https://www.rsdo.org/wp-content/uploads/2018/01/Réunion-Silhouettes-Bulles-rondes-1.jpg
END:VEVENT
BEGIN:VEVENT
DTSTART;TZID=America/New_York:20221217T100000
DTEND;TZID=America/New_York:20221217T113000
DTSTAMP:20260419T171704
CREATED:20220906T204825Z
LAST-MODIFIED:20220906T210114Z
UID:10002270-1671271200-1671276600@www.rsdo.org
SUMMARY:Conditionnement Physique et Yoga
DESCRIPTION:Activité gratuite exclusive aux membres \nEssai gratuit d’un cours pour les non-membres \nInscription sur place \nLa forme physique nécessite la pratique assidue de l’exercice. Vous ressentirez les bienfaits de vos efforts dans tout votre corps\, autant au niveau de sa force\, de sa résilience et de son pouvoir d’améliorer sa flexibilité. Ces résultats vous garderont en forme et vous donneront l’envie de persévérer. \nLe yoga associe force\, tonus\, exercices de posture\, étirements\, équilibre et détente et il s’adresse à tous les types de clientèle. \nAnimés par Josey Deroy\, instructeur de yoga certifiée depuis 2002\, les cours de conditionnement physique sont d’une durée de 30 minutes et sont combinés avec des sessions de yoga d’une heure. Vous avez le choix de participer à l’un ou l’autre ou les deux. \n10 h 00 à 10 h 30      Conditionnement physique \n10 h 30 à 11 h 30      Yoga \nPour votre confort\, nous vous suggérons de prévoir\, une serviette et une bouteille d’eau ainsi que : \nPour le conditionnement physique \n\ndes espadrilles\ndes poids de 2 à 5 kg\nun élastique\n\nPour le yoga \n\nun tapis\ndes blocs de mousse\n\nDates       Du 10 septembre au 17 décembre (15 semaines) \nEndroit    Centre communautaire Gerry Robertson (NOUVEAU LOCAL) \n                9665 Boul Gouin Ouest \n                Pierrefonds\, QC    H8Y 1R4 \nPour informations\, veuillez communiquer avec Lise Martin au 514-620-2740 ou Chantal Mark au 514-696-9408
URL:https://www.rsdo.org/evenements/6026/2022-12-17/
LOCATION:Centre communautaire Gerry-Robertson\, 9665\, boulevard Gouin Ouest\, Pierrefonds\, Québec\, QH8Y 1R4\, Canada
CATEGORIES:Cours
ATTACH;FMTTYPE=image/jpeg:https://www.rsdo.org/wp-content/uploads/2022/08/Conditionnement-et-Yoga-Automne-2022.jpg
GEO:45.5048919;-73.7843098
X-APPLE-STRUCTURED-LOCATION;VALUE=URI;X-ADDRESS=Centre communautaire Gerry-Robertson 9665 boulevard Gouin Ouest Pierrefonds Québec QH8Y 1R4 Canada;X-APPLE-RADIUS=500;X-TITLE=9665\, boulevard Gouin Ouest:geo:-73.7843098,45.5048919
END:VEVENT
BEGIN:VEVENT
DTSTART;TZID=America/New_York:20221217T183000
DTEND;TZID=America/New_York:20221217T200000
DTSTAMP:20260419T171704
CREATED:20220211T032011Z
LAST-MODIFIED:20220211T032011Z
UID:10002040-1671301800-1671307200@www.rsdo.org
SUMMARY:Soirées réconfort pour endeuillés
DESCRIPTION:Activité gratuite exclusive aux membres \nInscription obligatoire \nAnimées par Louise Racine\, TRA\, Thérapeute en Relation d’aide®\, ces soirées vous sont proposées par vidéoconférence et s’adressent exclusivement aux personnes vivant un deuil par décès. À savoir : \n\nTout endeuillé par décès (récent ou lointain)\nTout proche\, aidant naturel\, bénévole ou personnel qui écoute ou entoure un endeuillé\n\nLes objectifs de ces rencontres virtuelles sont de vous permettre de briser l’isolement\, d’échanger avec d’autres endeuillés\, de comprendre le processus d’un deuil et de recevoir du réconfort. Veuillez noter que vous pouvez assister à plus d’une rencontre. \nIl est nécessaire de réserver votre place pour chacune des rencontres sur le site du CRAM afin de recevoir l’hyperlien vers la plateforme Zoom pour vous permettre de vous joindre aux groupes: \nhttps://www.cramformation.com/activites-gratuites/soirees-reconfort-pour-endeuilles \nLes rencontres ont lieu de 18 h 30 à 20 h mais le CRAM demande que les participants se branchent dès 18 h pour s’assurer de commencer à l’heure prévue. \nDates des rencontres : \nLes jeudis 17 mars\, 28 avril et 19 mai 2022 \nPour information supplémentaire\, veuillez communiquer avec Sylvie Beaupré au 514-865-4377
URL:https://www.rsdo.org/evenements/soirees-reconfort-endeuilles/2022-12-17/
LOCATION:ZOOM
CATEGORIES:Cours
END:VEVENT
BEGIN:VEVENT
DTSTART;TZID=America/New_York:20221218T110000
DTEND;TZID=America/New_York:20221218T130000
DTSTAMP:20260419T171704
CREATED:20220826T043819Z
LAST-MODIFIED:20220826T044059Z
UID:10000721-1671361200-1671368400@www.rsdo.org
SUMMARY:BRUNCH - Brasserie Le Manoir Lachine
DESCRIPTION:Ne restez pas seul !  \nVenez déjeuner en bonne compagnie ! \nCet automne\, nous tiendrons un brunch toutes les deux semaines et ce\, jusqu’au mois de décembre. \nPour informations et réservation\, veuillez communiquer avec Michel Verreault au 514-567-4623.
URL:https://www.rsdo.org/evenements/brunch-2/2022-12-18/
LOCATION:Brasserie le Manoir de Lachine\, 625 32e Avenue\, Lachine\, Quebec\, H8T 3G6\, Canada
CATEGORIES:Soutien émotionnel
ATTACH;FMTTYPE=image/png:https://www.rsdo.org/wp-content/uploads/2022/08/BRUNCHS.png
GEO:45.4397442;-73.6924252
X-APPLE-STRUCTURED-LOCATION;VALUE=URI;X-ADDRESS=Brasserie le Manoir de Lachine 625 32e Avenue Lachine Quebec H8T 3G6 Canada;X-APPLE-RADIUS=500;X-TITLE=625 32e Avenue:geo:-73.6924252,45.4397442
END:VEVENT
END:VCALENDAR