BEGIN:VCALENDAR
VERSION:2.0
PRODID:-//RSDO - ECPv6.15.20//NONSGML v1.0//EN
CALSCALE:GREGORIAN
METHOD:PUBLISH
X-ORIGINAL-URL:https://www.rsdo.org
X-WR-CALDESC:Évènements pour RSDO
REFRESH-INTERVAL;VALUE=DURATION:PT1H
X-Robots-Tag:noindex
X-PUBLISHED-TTL:PT1H
BEGIN:VTIMEZONE
TZID:America/New_York
BEGIN:DAYLIGHT
TZOFFSETFROM:-0500
TZOFFSETTO:-0400
TZNAME:EDT
DTSTART:20210314T070000
END:DAYLIGHT
BEGIN:STANDARD
TZOFFSETFROM:-0400
TZOFFSETTO:-0500
TZNAME:EST
DTSTART:20211107T060000
END:STANDARD
BEGIN:DAYLIGHT
TZOFFSETFROM:-0500
TZOFFSETTO:-0400
TZNAME:EDT
DTSTART:20220313T070000
END:DAYLIGHT
BEGIN:STANDARD
TZOFFSETFROM:-0400
TZOFFSETTO:-0500
TZNAME:EST
DTSTART:20221106T060000
END:STANDARD
BEGIN:DAYLIGHT
TZOFFSETFROM:-0500
TZOFFSETTO:-0400
TZNAME:EDT
DTSTART:20230312T070000
END:DAYLIGHT
BEGIN:STANDARD
TZOFFSETFROM:-0400
TZOFFSETTO:-0500
TZNAME:EST
DTSTART:20231105T060000
END:STANDARD
END:VTIMEZONE
BEGIN:VEVENT
DTSTART;TZID=America/New_York:20221121T093000
DTEND;TZID=America/New_York:20221121T093000
DTSTAMP:20260420T012720
CREATED:20220831T004735Z
LAST-MODIFIED:20220831T010609Z
UID:10002228-1669023000-1669023000@www.rsdo.org
SUMMARY:Marches hebdomadaires (L'Île-Bizard)
DESCRIPTION:Activité gratuite ouverte à tous (non-membres bienvenus) \nLe RSDO a deux points de rencontre (Vaudreuil-Dorion et Île-Bizard) pour les marches hebdomadaires qui sont ouvertes à toutes et à tous\, quel que soit votre niveau d’activité. \nLes responsables pour chacun des groupes communiquent avec les participants lors de changements ou d’annulations de l’activité. \nLes marches sont d’une durée de 60 à 90 minutes et nous demandons aux marcheurs de se présenter au point de rencontre au moins 10 minutes avant le départ. \nLes marches du Groupe Vaudreuil-Dorion se terminent souvent par une rencontre amicale au restaurant ou dans un café. \nPour informations générales\, veuillez communiquer avec Pauline Debonville à sociale@rsdo.org ou par téléphone au 514-830-1166 ou au 450‑510‑1931. \n  \n\n\n\nGroupe de l’Île-Bizard                                                                Les lundis et jeudis à 9 h 30 \nPoint de rencontre     Complexe sportif Saint-Raphaël\, au stationnement près de l’entrée du parc \n750\, boulevard Jacques-Bizard \nStationnement            Au complexe sportif\, près du boulevard Jacques-Bizard \nResponsables             Carole Larivière (514-626-9306) et \nGisèle Talbot (514-620-6652)\n\n\n\n\n\n\nGroupe de Vaudreuil-Dorion                                           Les mardis et jeudis à 10 h 30 * \nPoint de rencontre     Dans le stationnement de la rue Dumont\, derrière la Tour d’eau\, \nà côté de l’Opti-Centre Saint-Jean-Baptiste sis au 145\, boulevard Hardwood \nStationnement            Dans les stationnements voisins de la Tour d’eau \nResponsable               Pauline Debonville (450-510-1931) \n*   Plus tard à l’automne\, les marches débuteront à 13 h 30 et les participants en seront informés par courriel.
URL:https://www.rsdo.org/evenements/marches-hebdomadaires-ile-bizard-2/2022-11-21/
LOCATION:Québec
CATEGORIES:Ateliers
ATTACH;FMTTYPE=image/jpeg:https://www.rsdo.org/wp-content/uploads/2022/08/Marches-Automne-2022.jpg
END:VEVENT
BEGIN:VEVENT
DTSTART;TZID=America/New_York:20221121T103000
DTEND;TZID=America/New_York:20221121T114500
DTSTAMP:20260420T012720
CREATED:20220906T211625Z
LAST-MODIFIED:20220906T222547Z
UID:10002281-1669026600-1669031100@www.rsdo.org
SUMMARY:Étirement et alignement postural avec chaise
DESCRIPTION:Activité gratuite exclusive aux membres \nEssai gratuit d’une séance pour les non-membres \nRespirez tout simplement et soyez Zen !  \nLe RSDO est heureux de vous offrir cette nouvelle activité virtuelle animée par Chantal Bardier qui possède plus de 21 ans d’expérience en conditionnement physique avec la clientèle des 50 ans et plus. \nVous pouvez en apprendre plus sur le cheminement et les expériences professionnelles de Chantal en consultant : \n\n            son site web :  https://chantalbardier.weebly.com\n            sa chaîne YouTube : http://www.youtube.com/user/SingingTrainer\n            ses groupes Facebook : https://chantalbardier.weebly.com/groupes-facebook.html\n\nLes séances consisteront en exercices d’étirement et d’alignement postural avec chaise combinant étirements posturaux et de détente\, en position assise et debout\, le tout dans le respect des limites de chacun. \nLes exercices pratiqués améliorent la souplesse générale et la mobilité\, dénouent les tensions\, aident à prévenir les blessures\, apprennent à mieux respirer et à réduire l’anxiété.  Pour profiter au maximum des bénéfices qu’ils apportent\, nous vous recommandons d’éviter les repas lourds avant les séances\, de vous vêtir de vêtements confortables et d’espadrilles ou chaussettes antidérapantes et de vous munir d’une bouteille d’eau. \nDates                        Du 12 septembre au 19 décembre (15 semaines) \nComment                 Virtuellement avec la plateforme Zoom \n                                  Un hyperlien sera envoyé à tous les membres \nMatériel requis         \n\nChaise sans accoudoirs\nSangle\, ceinture ou cravate\n\nPour informations veuillez communiquer avec Sylvie Beaupré à sbeaupre01@hotmail.com ou directement auprès de Chantal Bardier à cbardier@sympatico.ca
URL:https://www.rsdo.org/evenements/etirement-alignement-postural-chaise/2022-11-21/
LOCATION:Québec
CATEGORIES:Cours
ATTACH;FMTTYPE=image/png:https://www.rsdo.org/wp-content/uploads/2022/08/Étirement-et-Alignment-Postural-avec-Chaise-Automne-2022-e1662506710785.png
END:VEVENT
BEGIN:VEVENT
DTSTART;TZID=America/New_York:20221121T190000
DTEND;TZID=America/New_York:20221121T210000
DTSTAMP:20260420T012720
CREATED:20220831T005252Z
LAST-MODIFIED:20220906T200128Z
UID:10002245-1669057200-1669064400@www.rsdo.org
SUMMARY:CHORALE
DESCRIPTION:Activité gratuite exclusive aux membres.  Essai gratuit d’une séance pour les non-membres. Inscription requise \nC’est enfin le retour de la chorale en présentiel !!! \nAu RSDO\, on peut briser l’isolement en participant à un réseau d’entraide ainsi qu’à des cours et ateliers enrichissants qui nous font sortir de notre zone de confort et nous apportent joie et bonheur. \nChanter dans une chorale apporte des bienfaits sur les plans social\, spirituel\, physique\, émotionnel et intellectuel (acquisition de connaissances et stimulation cognitive)\, \nCet automne\, avec Jocelyn Bigras notre chef de chœur\, nous tiendrons 12 sessions de pratique et offrirons quatre concerts dans des CHSLD au cours du mois de décembre. \nDates       Du 12 septembre au 5 décembre. Relâche le 10 octobre. (12 semaines).\n \nQuatre concerts seront aussi offerts dans les CHSLD au mois de décembre ! \nEndroit     \nCentre communautaire Gerry Robertson (NOUVEAU LOCAL) \n9665 Boul Gouin O\,  \nPierrefonds\, QC  \nH8Y 1R4 \n\n\n\nPour informations et inscription\, veuillez communiquer avec Sylvie Beaupré à \nsbeaupre01@hotmail.com ou par téléphone au 514-865-4377\n\n\n\n 
URL:https://www.rsdo.org/evenements/chorale/2022-11-21/
LOCATION:Centre communautaire Gerry-Robertson\, 9665\, boulevard Gouin Ouest\, Pierrefonds\, Québec\, QH8Y 1R4\, Canada
CATEGORIES:Ateliers
ATTACH;FMTTYPE=image/jpeg:https://www.rsdo.org/wp-content/uploads/2022/08/Chorale-Automne-2022.jpg
GEO:45.5048919;-73.7843098
X-APPLE-STRUCTURED-LOCATION;VALUE=URI;X-ADDRESS=Centre communautaire Gerry-Robertson 9665 boulevard Gouin Ouest Pierrefonds Québec QH8Y 1R4 Canada;X-APPLE-RADIUS=500;X-TITLE=9665\, boulevard Gouin Ouest:geo:-73.7843098,45.5048919
END:VEVENT
BEGIN:VEVENT
DTSTART;TZID=America/New_York:20221122T093000
DTEND;TZID=America/New_York:20221122T120000
DTSTAMP:20260420T012720
CREATED:20220831T004225Z
LAST-MODIFIED:20220831T010424Z
UID:10002198-1669109400-1669118400@www.rsdo.org
SUMMARY:Marches hebdomadaires (Vaudreuil-Dorion)
DESCRIPTION:Activité gratuite ouverte à tous (non-membres bienvenus) \nLe RSDO a deux points de rencontre (Vaudreuil-Dorion et Île-Bizard) pour les marches hebdomadaires qui sont ouvertes à toutes et à tous\, quel que soit votre niveau d’activité. \nLes responsables pour chacun des groupes communiquent avec les participants lors de changements ou d’annulations de l’activité. \nLes marches sont d’une durée de 60 à 90 minutes et nous demandons aux marcheurs de se présenter au point de rencontre au moins 10 minutes avant le départ. \nLes marches du Groupe Vaudreuil-Dorion se terminent souvent par une rencontre amicale au restaurant ou dans un café. \nPour informations générales\, veuillez communiquer avec Pauline Debonville à sociale@rsdo.org ou par téléphone au 514-830-1166 ou au 450‑510‑1931. \n\n\n\nGroupe de Vaudreuil-Dorion                                           Les mardis et jeudis à 10 h 30 * \nPoint de rencontre     Dans le stationnement de la rue Dumont\, derrière la Tour d’eau\, \nà côté de l’Opti-Centre Saint-Jean-Baptiste sis au 145\, boulevard Hardwood \nStationnement            Dans les stationnements voisins de la Tour d’eau \nResponsable               Pauline Debonville (450-510-1931) \n*   Plus tard à l’automne\, les marches débuteront à 13 h 30 et les participants en seront informés par courriel.\n\n\n\n\n\n\nGroupe de l’Île-Bizard                                                                Les lundis et jeudis à 9 h 30 \nPoint de rencontre     Complexe sportif Saint-Raphaël\, au stationnement près de l’entrée du parc \n750\, boulevard Jacques-Bizard \nStationnement            Au complexe sportif\, près du boulevard Jacques-Bizard \nResponsables             Carole Larivière (514-626-9306) et \nGisèle Talbot (514-620-6652)\n\n\n\n 
URL:https://www.rsdo.org/evenements/marches-hebdomadaires-vaudreuil-dorion-2/2022-11-22/
LOCATION:Québec
CATEGORIES:Ateliers
ATTACH;FMTTYPE=image/jpeg:https://www.rsdo.org/wp-content/uploads/2022/08/Marches-Automne-2022.jpg
END:VEVENT
BEGIN:VEVENT
DTSTART;TZID=America/New_York:20221124T093000
DTEND;TZID=America/New_York:20221124T093000
DTSTAMP:20260420T012720
CREATED:20220831T004735Z
LAST-MODIFIED:20220831T010609Z
UID:10002229-1669282200-1669282200@www.rsdo.org
SUMMARY:Marches hebdomadaires (L'Île-Bizard)
DESCRIPTION:Activité gratuite ouverte à tous (non-membres bienvenus) \nLe RSDO a deux points de rencontre (Vaudreuil-Dorion et Île-Bizard) pour les marches hebdomadaires qui sont ouvertes à toutes et à tous\, quel que soit votre niveau d’activité. \nLes responsables pour chacun des groupes communiquent avec les participants lors de changements ou d’annulations de l’activité. \nLes marches sont d’une durée de 60 à 90 minutes et nous demandons aux marcheurs de se présenter au point de rencontre au moins 10 minutes avant le départ. \nLes marches du Groupe Vaudreuil-Dorion se terminent souvent par une rencontre amicale au restaurant ou dans un café. \nPour informations générales\, veuillez communiquer avec Pauline Debonville à sociale@rsdo.org ou par téléphone au 514-830-1166 ou au 450‑510‑1931. \n  \n\n\n\nGroupe de l’Île-Bizard                                                                Les lundis et jeudis à 9 h 30 \nPoint de rencontre     Complexe sportif Saint-Raphaël\, au stationnement près de l’entrée du parc \n750\, boulevard Jacques-Bizard \nStationnement            Au complexe sportif\, près du boulevard Jacques-Bizard \nResponsables             Carole Larivière (514-626-9306) et \nGisèle Talbot (514-620-6652)\n\n\n\n\n\n\nGroupe de Vaudreuil-Dorion                                           Les mardis et jeudis à 10 h 30 * \nPoint de rencontre     Dans le stationnement de la rue Dumont\, derrière la Tour d’eau\, \nà côté de l’Opti-Centre Saint-Jean-Baptiste sis au 145\, boulevard Hardwood \nStationnement            Dans les stationnements voisins de la Tour d’eau \nResponsable               Pauline Debonville (450-510-1931) \n*   Plus tard à l’automne\, les marches débuteront à 13 h 30 et les participants en seront informés par courriel.
URL:https://www.rsdo.org/evenements/marches-hebdomadaires-ile-bizard-2/2022-11-24/
LOCATION:Québec
CATEGORIES:Ateliers
ATTACH;FMTTYPE=image/jpeg:https://www.rsdo.org/wp-content/uploads/2022/08/Marches-Automne-2022.jpg
END:VEVENT
BEGIN:VEVENT
DTSTART;TZID=America/New_York:20221124T093000
DTEND;TZID=America/New_York:20221124T120000
DTSTAMP:20260420T012720
CREATED:20220831T004225Z
LAST-MODIFIED:20220831T010424Z
UID:10002199-1669282200-1669291200@www.rsdo.org
SUMMARY:Marches hebdomadaires (Vaudreuil-Dorion)
DESCRIPTION:Activité gratuite ouverte à tous (non-membres bienvenus) \nLe RSDO a deux points de rencontre (Vaudreuil-Dorion et Île-Bizard) pour les marches hebdomadaires qui sont ouvertes à toutes et à tous\, quel que soit votre niveau d’activité. \nLes responsables pour chacun des groupes communiquent avec les participants lors de changements ou d’annulations de l’activité. \nLes marches sont d’une durée de 60 à 90 minutes et nous demandons aux marcheurs de se présenter au point de rencontre au moins 10 minutes avant le départ. \nLes marches du Groupe Vaudreuil-Dorion se terminent souvent par une rencontre amicale au restaurant ou dans un café. \nPour informations générales\, veuillez communiquer avec Pauline Debonville à sociale@rsdo.org ou par téléphone au 514-830-1166 ou au 450‑510‑1931. \n\n\n\nGroupe de Vaudreuil-Dorion                                           Les mardis et jeudis à 10 h 30 * \nPoint de rencontre     Dans le stationnement de la rue Dumont\, derrière la Tour d’eau\, \nà côté de l’Opti-Centre Saint-Jean-Baptiste sis au 145\, boulevard Hardwood \nStationnement            Dans les stationnements voisins de la Tour d’eau \nResponsable               Pauline Debonville (450-510-1931) \n*   Plus tard à l’automne\, les marches débuteront à 13 h 30 et les participants en seront informés par courriel.\n\n\n\n\n\n\nGroupe de l’Île-Bizard                                                                Les lundis et jeudis à 9 h 30 \nPoint de rencontre     Complexe sportif Saint-Raphaël\, au stationnement près de l’entrée du parc \n750\, boulevard Jacques-Bizard \nStationnement            Au complexe sportif\, près du boulevard Jacques-Bizard \nResponsables             Carole Larivière (514-626-9306) et \nGisèle Talbot (514-620-6652)\n\n\n\n 
URL:https://www.rsdo.org/evenements/marches-hebdomadaires-vaudreuil-dorion-2/2022-11-24/
LOCATION:Québec
CATEGORIES:Ateliers
ATTACH;FMTTYPE=image/jpeg:https://www.rsdo.org/wp-content/uploads/2022/08/Marches-Automne-2022.jpg
END:VEVENT
BEGIN:VEVENT
DTSTART;TZID=America/New_York:20221124T190000
DTEND;TZID=America/New_York:20221124T210000
DTSTAMP:20260420T012720
CREATED:20190925T000726Z
LAST-MODIFIED:20190925T000726Z
UID:10001585-1669316400-1669323600@www.rsdo.org
SUMMARY:Réunion du conseil d'administration
DESCRIPTION:Une période de questions permet aux membres du RSDO de présenter des suggestions ou des idées pouvant enrichir ces soirées. Prendre note cependant que vous n’avez pas droit de vote.
URL:https://www.rsdo.org/evenements/reunion-conseil-dadministration-16/2022-11-24/
LOCATION:Centre communautaire Marcel Morin\, 14068\, boulevard Gouin Ouest\, Pierrefonds\, Québec\, H8Z 1Y1\, Canada
CATEGORIES:Réunions
ATTACH;FMTTYPE=image/jpeg:https://www.rsdo.org/wp-content/uploads/2018/01/Réunion-Silhouettes-Bulles-rondes-1.jpg
GEO:45.4956281;-73.8506691
X-APPLE-STRUCTURED-LOCATION;VALUE=URI;X-ADDRESS=Centre communautaire Marcel Morin 14068 boulevard Gouin Ouest Pierrefonds Québec H8Z 1Y1 Canada;X-APPLE-RADIUS=500;X-TITLE=14068\, boulevard Gouin Ouest:geo:-73.8506691,45.4956281
END:VEVENT
BEGIN:VEVENT
DTSTART;TZID=America/New_York:20221124T190000
DTEND;TZID=America/New_York:20221124T210000
DTSTAMP:20260420T012720
CREATED:20220831T012335Z
LAST-MODIFIED:20220831T013015Z
UID:10002252-1669316400-1669323600@www.rsdo.org
SUMMARY:Réunions du Conseil d'Administration
DESCRIPTION:  \n\n\n\nPrésidente\nClaire Ménard\n450-218-0967\n\n\nVice-présidente aux finances\nPauline Primeau\n514-465-3428\n\n\nSecrétaire\nSylvie Lévesque\n514-606-6890\n\n\nCoordonnateur des conférences et des ateliers\nJean Pierre Daigneau\n438-888-3146\n\n\nCoordonnatrice des activités sociales\nPauline Debonville\n450-510-1931\n\n\nCoordonnatrice des relations publiques\nSylvie Gagnon\n514-850-1243\n\n\nCoordonnatrice du support technique\nMonique Letendre\n514-421-5477\n\n\n\n\n\n\nRéunions \nLes réunions mensuelles se tiennent à 19 h au : \nCentre Communautaire Marcel-Morin \n14068\, boulevard Gouin Ouest \nPierrefonds \nUne période de questions permet aux membres de présenter des suggestions ou des idées pouvant enrichir la mission de l’organisme. Veuillez cependant noter que les membres n’ont pas de droit de vote. \nDates des prochaines réunions du CA \nLe jeudi 29 septembre         Le jeudi 27 octobre              Le jeudi 24 novembre          Le jeudi 15 décembre
URL:https://www.rsdo.org/evenements/reunions-du-ca/2022-11-24/
LOCATION:Québec
CATEGORIES:Réunions
ATTACH;FMTTYPE=image/jpeg:https://www.rsdo.org/wp-content/uploads/2018/01/Réunion-Silhouettes-Bulles-rondes-1.jpg
END:VEVENT
BEGIN:VEVENT
DTSTART;TZID=America/New_York:20221124T190000
DTEND;TZID=America/New_York:20221124T210000
DTSTAMP:20260420T012720
CREATED:20220906T224936Z
LAST-MODIFIED:20220906T224936Z
UID:10000849-1669316400-1669323600@www.rsdo.org
SUMMARY:Conférences-Ateliers du CRAM
DESCRIPTION:Activité exclusive aux membres \nInscription requise \n Le Centre de Relation d’Aide de Montréal (CRAM) préconise l’Approche non directive créatrice : une approche relationnelle\, professionnelle et de nature affective. \nCette approche favorise le développement de l’amour de soi\, du respect de soi et de la confiance en soi. Elle favorise également l’épanouissement de la créativité\, le cheminement vers l’autonomie et la liberté d’être\, dans le respect du fonctionnement global de l’être humain et du rythme de progression des étapes de son évolution\, de sa croissance et de son autocréation. \nPour plus de détails\, nous vous invitons à visiter leur site en cliquant sur l’hyperlien ci‑dessous :  www.cramformation.com/developpement-personnel \nCet automne\, de nouvelles conférences-ateliers vous sont gratuitement offertes par le RSDO. D’une durée de deux heures\, ces rencontres comportent un énoncé théorique et un mini-atelier sur un thème spécifique et sont données de façon virtuelle\, via la plateforme Zoom. \nVous devez vous inscrire individuellement pour chacune des conférences auxquelles vous souhaitez prendre part.  Pour ce faire\, veuillez transmettre un courriel à Sylvie Beaupré à sbeaupre01@hotmail.com et lui fournir : \n\nVos nom et prénom\nVotre adresse courriel\nUn numéro de téléphone\nVotre municipalité\n\nPar la suite\, vous recevrez un courriel de confirmation avec l’hyperlien qui vous permettra de vous connecter et de participer aux rencontres. \nVoir la description et les informations au sujet des trois conférences offertes cet automne ci-dessous. \n____________________________________________________________________________________________ \nLa communication authentique \n   Mardi 20 septembre de 14 h à 16 h \nAnimateur :  Yvan Phaneuf\, TRA\, Thérapeute en Relation d’aide® \nLa communication demeure l’un des éléments essentiels concernant la réussite de toute relation. Bien que la communication soit une question de cœur et d’émotions\, pour qu’elle soit satisfaisante et qu’elle participe à la réussite des relations\, il y a des règles à suivre. Sans quoi\, au lieu du rapprochement nous aurons l’éloignement\, au lieu de la paix nous aurons la guerre de pouvoir et au lieu de l’amour nous aurons les blessures. Cette rencontre a pour but de mettre en lumière d’une façon concrète et applicable\, tous les éléments d’une communication authentique satisfaisante. \n\nInscription au plus tard le 19 septembre\n\n____________________________________________________________________________________________ \nChanger\, c’est enfin devenir soi-même \nJeudi 24 novembre de 19 h à 21 h \nAnimateur :  Yvan Phaneuf\, TRA\, Thérapeute en Relation d’aide® \nChanger\, c’est paradoxalement arrêter de se changer\, pour redevenir soi-même. Changer\, c’est apprendre à récupérer le pouvoir que nous donnons au regard des autres dans le but de recommencer à vivre en fonction de soi. C’est laisser mourir le personnage qui nous étouffe pour faire renaître la personne que nous sommes vraiment. Et\, selon l’Approche non directive créatrice (ANDC) créée par Colette Portelance\, cela comporte sept étapes regroupées dans le processus de changement créateur\, qui une fois intégrées\, est une inspiration au succès et à la prospérité à tous les niveaux. Enfin\, changer est le processus essentiel d’amour et d’acceptation de soi qui devient une source intarissable de satisfaction\, de passion et de vie. \n\nInscription au plus tard le 23 novembre\n\n  \n____________________________________________________________________________________________ \nNoël sans toi \nLe mardi 6 décembre de 14 h à 16 h \nAnimatrice :  Louise Racine\, TRA\, Thérapeute en Relation d’aide® \nPerdre un être cher\, quelle qu’en soit la cause\, est une épreuve difficile à traverser. Que vous ayez perdu un membre de la famille\, un ami\, un collègue\, un voisin ou une connaissance\, la mort de quelqu’un nécessite qu’on s’arrête pour vivre chaque étape du deuil afin d’en favoriser la résolution. \nQue votre deuil soit récent ou non\, le processus proposé favorisera la récupération de tout le pouvoir sur votre vie\, sans la personne décédée. Le processus de deuil est relationnel et cette conférence-atelier vous permettra de sortir de l’isolement\, de vivre vos émotions et de prendre connaissance des étapes du processus créateur de résolution du deuil. Par l’accueil\, le réconfort\, une écoute chaleureuse et sensible et\, dans le respect total de votre rythme\, vous apprendrez à identifier les obstacles qui peuvent nuire à votre processus du deuil. Vous apprendrez également à identifier vos besoins afin de pouvoir continuer à avancer dans la création de votre vie. \n\nInscription au plus tard le 5 décembre
URL:https://www.rsdo.org/evenements/conferences-ateliers-cram/2022-11-24/
LOCATION:Québec
CATEGORIES:Cours
ATTACH;FMTTYPE=image/png:https://www.rsdo.org/wp-content/uploads/2022/08/CRAM-Image-2-Automne-2022.png
END:VEVENT
BEGIN:VEVENT
DTSTART;TZID=America/New_York:20221125T093000
DTEND;TZID=America/New_York:20221125T163000
DTSTAMP:20260420T012720
CREATED:20220831T002143Z
LAST-MODIFIED:20220906T203007Z
UID:10002175-1669368600-1669393800@www.rsdo.org
SUMMARY:Jacinthe Chaussé          S'adapter aux changements   (Atelier de 2 jours: 18 et 25 novembre)
DESCRIPTION:Activité gratuite exclusive aux membres.   Inscription requise avant le 1er novembre.   Maximum de 25 places \nDe nos jours\, nous avons à faire face à une variété de changements – pertes majeures\, relations\, santé\, emploi\, décès\, etc. – dont plusieurs sont difficiles à gérer au niveau émotionnel\, mental et parfois physique. \nLa vie étant en constant mouvement\, nous perdons ainsi certains de nos repères et de nos acquis\, ce qui génère du stress et de l’insécurité. \nAnimé par Jacinthe Chaussé\, cet atelier de deux jours vise à enseigner aux participants comment s’adapter à ces épreuves afin de les surmonter et en sortir renforci.  À noter qu’il y aura pause lunch de midi à 13 h les deux jours. \n 
URL:https://www.rsdo.org/evenements/jacinthe-chausse-sadapter-aux-changements-atelier-de-2-jours18-25-novembre/2022-11-25/
LOCATION:Salle paroissiale de l’église Sainte-Geneviève\, 16037 Boul Gouin O\, Sainte-Geneviève\, Québec\, H9H 1C7\, Canada
CATEGORIES:Cours
GEO:45.4802657;-73.8719786
X-APPLE-STRUCTURED-LOCATION;VALUE=URI;X-ADDRESS=Salle paroissiale de l’église Sainte-Geneviève 16037 Boul Gouin O Sainte-Geneviève Québec H9H 1C7 Canada;X-APPLE-RADIUS=500;X-TITLE=16037 Boul Gouin O:geo:-73.8719786,45.4802657
END:VEVENT
BEGIN:VEVENT
DTSTART;TZID=America/New_York:20221126T100000
DTEND;TZID=America/New_York:20221126T113000
DTSTAMP:20260420T012720
CREATED:20220906T204825Z
LAST-MODIFIED:20220906T210114Z
UID:10002267-1669456800-1669462200@www.rsdo.org
SUMMARY:Conditionnement Physique et Yoga
DESCRIPTION:Activité gratuite exclusive aux membres \nEssai gratuit d’un cours pour les non-membres \nInscription sur place \nLa forme physique nécessite la pratique assidue de l’exercice. Vous ressentirez les bienfaits de vos efforts dans tout votre corps\, autant au niveau de sa force\, de sa résilience et de son pouvoir d’améliorer sa flexibilité. Ces résultats vous garderont en forme et vous donneront l’envie de persévérer. \nLe yoga associe force\, tonus\, exercices de posture\, étirements\, équilibre et détente et il s’adresse à tous les types de clientèle. \nAnimés par Josey Deroy\, instructeur de yoga certifiée depuis 2002\, les cours de conditionnement physique sont d’une durée de 30 minutes et sont combinés avec des sessions de yoga d’une heure. Vous avez le choix de participer à l’un ou l’autre ou les deux. \n10 h 00 à 10 h 30      Conditionnement physique \n10 h 30 à 11 h 30      Yoga \nPour votre confort\, nous vous suggérons de prévoir\, une serviette et une bouteille d’eau ainsi que : \nPour le conditionnement physique \n\ndes espadrilles\ndes poids de 2 à 5 kg\nun élastique\n\nPour le yoga \n\nun tapis\ndes blocs de mousse\n\nDates       Du 10 septembre au 17 décembre (15 semaines) \nEndroit    Centre communautaire Gerry Robertson (NOUVEAU LOCAL) \n                9665 Boul Gouin Ouest \n                Pierrefonds\, QC    H8Y 1R4 \nPour informations\, veuillez communiquer avec Lise Martin au 514-620-2740 ou Chantal Mark au 514-696-9408
URL:https://www.rsdo.org/evenements/6026/2022-11-26/
LOCATION:Centre communautaire Gerry-Robertson\, 9665\, boulevard Gouin Ouest\, Pierrefonds\, Québec\, QH8Y 1R4\, Canada
CATEGORIES:Cours
ATTACH;FMTTYPE=image/jpeg:https://www.rsdo.org/wp-content/uploads/2022/08/Conditionnement-et-Yoga-Automne-2022.jpg
GEO:45.5048919;-73.7843098
X-APPLE-STRUCTURED-LOCATION;VALUE=URI;X-ADDRESS=Centre communautaire Gerry-Robertson 9665 boulevard Gouin Ouest Pierrefonds Québec QH8Y 1R4 Canada;X-APPLE-RADIUS=500;X-TITLE=9665\, boulevard Gouin Ouest:geo:-73.7843098,45.5048919
END:VEVENT
END:VCALENDAR