BEGIN:VCALENDAR
VERSION:2.0
PRODID:-//RSDO - ECPv6.15.20//NONSGML v1.0//EN
CALSCALE:GREGORIAN
METHOD:PUBLISH
X-ORIGINAL-URL:https://www.rsdo.org
X-WR-CALDESC:Évènements pour RSDO
REFRESH-INTERVAL;VALUE=DURATION:PT1H
X-Robots-Tag:noindex
X-PUBLISHED-TTL:PT1H
BEGIN:VTIMEZONE
TZID:America/New_York
BEGIN:DAYLIGHT
TZOFFSETFROM:-0500
TZOFFSETTO:-0400
TZNAME:EDT
DTSTART:20210314T070000
END:DAYLIGHT
BEGIN:STANDARD
TZOFFSETFROM:-0400
TZOFFSETTO:-0500
TZNAME:EST
DTSTART:20211107T060000
END:STANDARD
BEGIN:DAYLIGHT
TZOFFSETFROM:-0500
TZOFFSETTO:-0400
TZNAME:EDT
DTSTART:20220313T070000
END:DAYLIGHT
BEGIN:STANDARD
TZOFFSETFROM:-0400
TZOFFSETTO:-0500
TZNAME:EST
DTSTART:20221106T060000
END:STANDARD
BEGIN:DAYLIGHT
TZOFFSETFROM:-0500
TZOFFSETTO:-0400
TZNAME:EDT
DTSTART:20230312T070000
END:DAYLIGHT
BEGIN:STANDARD
TZOFFSETFROM:-0400
TZOFFSETTO:-0500
TZNAME:EST
DTSTART:20231105T060000
END:STANDARD
END:VTIMEZONE
BEGIN:VEVENT
DTSTART;TZID=America/New_York:20221114T093000
DTEND;TZID=America/New_York:20221114T093000
DTSTAMP:20260420T031610
CREATED:20220831T004735Z
LAST-MODIFIED:20220831T010609Z
UID:10002226-1668418200-1668418200@www.rsdo.org
SUMMARY:Marches hebdomadaires (L'Île-Bizard)
DESCRIPTION:Activité gratuite ouverte à tous (non-membres bienvenus) \nLe RSDO a deux points de rencontre (Vaudreuil-Dorion et Île-Bizard) pour les marches hebdomadaires qui sont ouvertes à toutes et à tous\, quel que soit votre niveau d’activité. \nLes responsables pour chacun des groupes communiquent avec les participants lors de changements ou d’annulations de l’activité. \nLes marches sont d’une durée de 60 à 90 minutes et nous demandons aux marcheurs de se présenter au point de rencontre au moins 10 minutes avant le départ. \nLes marches du Groupe Vaudreuil-Dorion se terminent souvent par une rencontre amicale au restaurant ou dans un café. \nPour informations générales\, veuillez communiquer avec Pauline Debonville à sociale@rsdo.org ou par téléphone au 514-830-1166 ou au 450‑510‑1931. \n  \n\n\n\nGroupe de l’Île-Bizard                                                                Les lundis et jeudis à 9 h 30 \nPoint de rencontre     Complexe sportif Saint-Raphaël\, au stationnement près de l’entrée du parc \n750\, boulevard Jacques-Bizard \nStationnement            Au complexe sportif\, près du boulevard Jacques-Bizard \nResponsables             Carole Larivière (514-626-9306) et \nGisèle Talbot (514-620-6652)\n\n\n\n\n\n\nGroupe de Vaudreuil-Dorion                                           Les mardis et jeudis à 10 h 30 * \nPoint de rencontre     Dans le stationnement de la rue Dumont\, derrière la Tour d’eau\, \nà côté de l’Opti-Centre Saint-Jean-Baptiste sis au 145\, boulevard Hardwood \nStationnement            Dans les stationnements voisins de la Tour d’eau \nResponsable               Pauline Debonville (450-510-1931) \n*   Plus tard à l’automne\, les marches débuteront à 13 h 30 et les participants en seront informés par courriel.
URL:https://www.rsdo.org/evenements/marches-hebdomadaires-ile-bizard-2/2022-11-14/
LOCATION:Québec
CATEGORIES:Ateliers
ATTACH;FMTTYPE=image/jpeg:https://www.rsdo.org/wp-content/uploads/2022/08/Marches-Automne-2022.jpg
END:VEVENT
BEGIN:VEVENT
DTSTART;TZID=America/New_York:20221114T103000
DTEND;TZID=America/New_York:20221114T114500
DTSTAMP:20260420T031610
CREATED:20220906T211625Z
LAST-MODIFIED:20220906T222547Z
UID:10002280-1668421800-1668426300@www.rsdo.org
SUMMARY:Étirement et alignement postural avec chaise
DESCRIPTION:Activité gratuite exclusive aux membres \nEssai gratuit d’une séance pour les non-membres \nRespirez tout simplement et soyez Zen !  \nLe RSDO est heureux de vous offrir cette nouvelle activité virtuelle animée par Chantal Bardier qui possède plus de 21 ans d’expérience en conditionnement physique avec la clientèle des 50 ans et plus. \nVous pouvez en apprendre plus sur le cheminement et les expériences professionnelles de Chantal en consultant : \n\n            son site web :  https://chantalbardier.weebly.com\n            sa chaîne YouTube : http://www.youtube.com/user/SingingTrainer\n            ses groupes Facebook : https://chantalbardier.weebly.com/groupes-facebook.html\n\nLes séances consisteront en exercices d’étirement et d’alignement postural avec chaise combinant étirements posturaux et de détente\, en position assise et debout\, le tout dans le respect des limites de chacun. \nLes exercices pratiqués améliorent la souplesse générale et la mobilité\, dénouent les tensions\, aident à prévenir les blessures\, apprennent à mieux respirer et à réduire l’anxiété.  Pour profiter au maximum des bénéfices qu’ils apportent\, nous vous recommandons d’éviter les repas lourds avant les séances\, de vous vêtir de vêtements confortables et d’espadrilles ou chaussettes antidérapantes et de vous munir d’une bouteille d’eau. \nDates                        Du 12 septembre au 19 décembre (15 semaines) \nComment                 Virtuellement avec la plateforme Zoom \n                                  Un hyperlien sera envoyé à tous les membres \nMatériel requis         \n\nChaise sans accoudoirs\nSangle\, ceinture ou cravate\n\nPour informations veuillez communiquer avec Sylvie Beaupré à sbeaupre01@hotmail.com ou directement auprès de Chantal Bardier à cbardier@sympatico.ca
URL:https://www.rsdo.org/evenements/etirement-alignement-postural-chaise/2022-11-14/
LOCATION:Québec
CATEGORIES:Cours
ATTACH;FMTTYPE=image/png:https://www.rsdo.org/wp-content/uploads/2022/08/Étirement-et-Alignment-Postural-avec-Chaise-Automne-2022-e1662506710785.png
END:VEVENT
BEGIN:VEVENT
DTSTART;TZID=America/New_York:20221114T190000
DTEND;TZID=America/New_York:20221114T210000
DTSTAMP:20260420T031610
CREATED:20220831T005252Z
LAST-MODIFIED:20220906T200128Z
UID:10002244-1668452400-1668459600@www.rsdo.org
SUMMARY:CHORALE
DESCRIPTION:Activité gratuite exclusive aux membres.  Essai gratuit d’une séance pour les non-membres. Inscription requise \nC’est enfin le retour de la chorale en présentiel !!! \nAu RSDO\, on peut briser l’isolement en participant à un réseau d’entraide ainsi qu’à des cours et ateliers enrichissants qui nous font sortir de notre zone de confort et nous apportent joie et bonheur. \nChanter dans une chorale apporte des bienfaits sur les plans social\, spirituel\, physique\, émotionnel et intellectuel (acquisition de connaissances et stimulation cognitive)\, \nCet automne\, avec Jocelyn Bigras notre chef de chœur\, nous tiendrons 12 sessions de pratique et offrirons quatre concerts dans des CHSLD au cours du mois de décembre. \nDates       Du 12 septembre au 5 décembre. Relâche le 10 octobre. (12 semaines).\n \nQuatre concerts seront aussi offerts dans les CHSLD au mois de décembre ! \nEndroit     \nCentre communautaire Gerry Robertson (NOUVEAU LOCAL) \n9665 Boul Gouin O\,  \nPierrefonds\, QC  \nH8Y 1R4 \n\n\n\nPour informations et inscription\, veuillez communiquer avec Sylvie Beaupré à \nsbeaupre01@hotmail.com ou par téléphone au 514-865-4377\n\n\n\n 
URL:https://www.rsdo.org/evenements/chorale/2022-11-14/
LOCATION:Centre communautaire Gerry-Robertson\, 9665\, boulevard Gouin Ouest\, Pierrefonds\, Québec\, QH8Y 1R4\, Canada
CATEGORIES:Ateliers
ATTACH;FMTTYPE=image/jpeg:https://www.rsdo.org/wp-content/uploads/2022/08/Chorale-Automne-2022.jpg
GEO:45.5048919;-73.7843098
X-APPLE-STRUCTURED-LOCATION;VALUE=URI;X-ADDRESS=Centre communautaire Gerry-Robertson 9665 boulevard Gouin Ouest Pierrefonds Québec QH8Y 1R4 Canada;X-APPLE-RADIUS=500;X-TITLE=9665\, boulevard Gouin Ouest:geo:-73.7843098,45.5048919
END:VEVENT
BEGIN:VEVENT
DTSTART;TZID=America/New_York:20221115T093000
DTEND;TZID=America/New_York:20221115T120000
DTSTAMP:20260420T031610
CREATED:20220831T004225Z
LAST-MODIFIED:20220831T010424Z
UID:10002196-1668504600-1668513600@www.rsdo.org
SUMMARY:Marches hebdomadaires (Vaudreuil-Dorion)
DESCRIPTION:Activité gratuite ouverte à tous (non-membres bienvenus) \nLe RSDO a deux points de rencontre (Vaudreuil-Dorion et Île-Bizard) pour les marches hebdomadaires qui sont ouvertes à toutes et à tous\, quel que soit votre niveau d’activité. \nLes responsables pour chacun des groupes communiquent avec les participants lors de changements ou d’annulations de l’activité. \nLes marches sont d’une durée de 60 à 90 minutes et nous demandons aux marcheurs de se présenter au point de rencontre au moins 10 minutes avant le départ. \nLes marches du Groupe Vaudreuil-Dorion se terminent souvent par une rencontre amicale au restaurant ou dans un café. \nPour informations générales\, veuillez communiquer avec Pauline Debonville à sociale@rsdo.org ou par téléphone au 514-830-1166 ou au 450‑510‑1931. \n\n\n\nGroupe de Vaudreuil-Dorion                                           Les mardis et jeudis à 10 h 30 * \nPoint de rencontre     Dans le stationnement de la rue Dumont\, derrière la Tour d’eau\, \nà côté de l’Opti-Centre Saint-Jean-Baptiste sis au 145\, boulevard Hardwood \nStationnement            Dans les stationnements voisins de la Tour d’eau \nResponsable               Pauline Debonville (450-510-1931) \n*   Plus tard à l’automne\, les marches débuteront à 13 h 30 et les participants en seront informés par courriel.\n\n\n\n\n\n\nGroupe de l’Île-Bizard                                                                Les lundis et jeudis à 9 h 30 \nPoint de rencontre     Complexe sportif Saint-Raphaël\, au stationnement près de l’entrée du parc \n750\, boulevard Jacques-Bizard \nStationnement            Au complexe sportif\, près du boulevard Jacques-Bizard \nResponsables             Carole Larivière (514-626-9306) et \nGisèle Talbot (514-620-6652)\n\n\n\n 
URL:https://www.rsdo.org/evenements/marches-hebdomadaires-vaudreuil-dorion-2/2022-11-15/
LOCATION:Québec
CATEGORIES:Ateliers
ATTACH;FMTTYPE=image/jpeg:https://www.rsdo.org/wp-content/uploads/2022/08/Marches-Automne-2022.jpg
END:VEVENT
BEGIN:VEVENT
DTSTART;TZID=America/New_York:20221117T093000
DTEND;TZID=America/New_York:20221117T093000
DTSTAMP:20260420T031610
CREATED:20220831T004735Z
LAST-MODIFIED:20220831T010609Z
UID:10002227-1668677400-1668677400@www.rsdo.org
SUMMARY:Marches hebdomadaires (L'Île-Bizard)
DESCRIPTION:Activité gratuite ouverte à tous (non-membres bienvenus) \nLe RSDO a deux points de rencontre (Vaudreuil-Dorion et Île-Bizard) pour les marches hebdomadaires qui sont ouvertes à toutes et à tous\, quel que soit votre niveau d’activité. \nLes responsables pour chacun des groupes communiquent avec les participants lors de changements ou d’annulations de l’activité. \nLes marches sont d’une durée de 60 à 90 minutes et nous demandons aux marcheurs de se présenter au point de rencontre au moins 10 minutes avant le départ. \nLes marches du Groupe Vaudreuil-Dorion se terminent souvent par une rencontre amicale au restaurant ou dans un café. \nPour informations générales\, veuillez communiquer avec Pauline Debonville à sociale@rsdo.org ou par téléphone au 514-830-1166 ou au 450‑510‑1931. \n  \n\n\n\nGroupe de l’Île-Bizard                                                                Les lundis et jeudis à 9 h 30 \nPoint de rencontre     Complexe sportif Saint-Raphaël\, au stationnement près de l’entrée du parc \n750\, boulevard Jacques-Bizard \nStationnement            Au complexe sportif\, près du boulevard Jacques-Bizard \nResponsables             Carole Larivière (514-626-9306) et \nGisèle Talbot (514-620-6652)\n\n\n\n\n\n\nGroupe de Vaudreuil-Dorion                                           Les mardis et jeudis à 10 h 30 * \nPoint de rencontre     Dans le stationnement de la rue Dumont\, derrière la Tour d’eau\, \nà côté de l’Opti-Centre Saint-Jean-Baptiste sis au 145\, boulevard Hardwood \nStationnement            Dans les stationnements voisins de la Tour d’eau \nResponsable               Pauline Debonville (450-510-1931) \n*   Plus tard à l’automne\, les marches débuteront à 13 h 30 et les participants en seront informés par courriel.
URL:https://www.rsdo.org/evenements/marches-hebdomadaires-ile-bizard-2/2022-11-17/
LOCATION:Québec
CATEGORIES:Ateliers
ATTACH;FMTTYPE=image/jpeg:https://www.rsdo.org/wp-content/uploads/2022/08/Marches-Automne-2022.jpg
END:VEVENT
BEGIN:VEVENT
DTSTART;TZID=America/New_York:20221117T093000
DTEND;TZID=America/New_York:20221117T120000
DTSTAMP:20260420T031610
CREATED:20220831T004225Z
LAST-MODIFIED:20220831T010424Z
UID:10002197-1668677400-1668686400@www.rsdo.org
SUMMARY:Marches hebdomadaires (Vaudreuil-Dorion)
DESCRIPTION:Activité gratuite ouverte à tous (non-membres bienvenus) \nLe RSDO a deux points de rencontre (Vaudreuil-Dorion et Île-Bizard) pour les marches hebdomadaires qui sont ouvertes à toutes et à tous\, quel que soit votre niveau d’activité. \nLes responsables pour chacun des groupes communiquent avec les participants lors de changements ou d’annulations de l’activité. \nLes marches sont d’une durée de 60 à 90 minutes et nous demandons aux marcheurs de se présenter au point de rencontre au moins 10 minutes avant le départ. \nLes marches du Groupe Vaudreuil-Dorion se terminent souvent par une rencontre amicale au restaurant ou dans un café. \nPour informations générales\, veuillez communiquer avec Pauline Debonville à sociale@rsdo.org ou par téléphone au 514-830-1166 ou au 450‑510‑1931. \n\n\n\nGroupe de Vaudreuil-Dorion                                           Les mardis et jeudis à 10 h 30 * \nPoint de rencontre     Dans le stationnement de la rue Dumont\, derrière la Tour d’eau\, \nà côté de l’Opti-Centre Saint-Jean-Baptiste sis au 145\, boulevard Hardwood \nStationnement            Dans les stationnements voisins de la Tour d’eau \nResponsable               Pauline Debonville (450-510-1931) \n*   Plus tard à l’automne\, les marches débuteront à 13 h 30 et les participants en seront informés par courriel.\n\n\n\n\n\n\nGroupe de l’Île-Bizard                                                                Les lundis et jeudis à 9 h 30 \nPoint de rencontre     Complexe sportif Saint-Raphaël\, au stationnement près de l’entrée du parc \n750\, boulevard Jacques-Bizard \nStationnement            Au complexe sportif\, près du boulevard Jacques-Bizard \nResponsables             Carole Larivière (514-626-9306) et \nGisèle Talbot (514-620-6652)\n\n\n\n 
URL:https://www.rsdo.org/evenements/marches-hebdomadaires-vaudreuil-dorion-2/2022-11-17/
LOCATION:Québec
CATEGORIES:Ateliers
ATTACH;FMTTYPE=image/jpeg:https://www.rsdo.org/wp-content/uploads/2022/08/Marches-Automne-2022.jpg
END:VEVENT
BEGIN:VEVENT
DTSTART;TZID=America/New_York:20221117T143000
DTEND;TZID=America/New_York:20221117T160000
DTSTAMP:20260420T031610
CREATED:20220906T223442Z
LAST-MODIFIED:20220906T223512Z
UID:10000846-1668695400-1668700800@www.rsdo.org
SUMMARY:Atelier CRAM: Soirées Réconfort pour Endeuillés
DESCRIPTION:Activité gratuite ouverte à tous (non-membres bienvenus) \nInscription requise \nLes jeudis en p.m. ou en soirée \nLe Centre de Relation d’Aide de Montréal (CRAM) a développé une expertise pour soutenir les endeuillés et leurs proches dans leur processus de deuil ou de perte\, et pour former des aidants du deuil compétents. \nAnimées par Louise Racine\, TRA\, Thérapeute en Relation d’aide®\, ces soirées réconfort sont \nexclusivement offertes pour les deuils par décès\, à savoir : \n\nTout endeuillé par décès (récent ou pas)\nTout proche\, aidant naturel\, bénévole ou personnel qui écoute ou entoure l’endeuillé.\n\nDates \n22 septembre                    27 octobre                                          17 novembre                                          15 décembre \nde 14 h 30 à 16 h                   de 18 h 30 à 20 h                                               de 14 h 30 à 16 h                                               de 18 h 30 à 20 h \nVous pouvez participer à une ou plusieurs rencontres qui vous permettront de : \n\nBriser l’isolement\nÉchangez avec d’autres endeuillés\nComprendre le processus du deuil\nRecevoir du réconfort\n\nCes rencontres sont virtuelles via la plateforme Zoom et il est nécessaire de vous inscrire pour chacune des rencontres directement sur le site du CRAM à :  https://www.cramformation.com/activites-gratuites/soirees-reconfort-pour-endeuilles \nVous recevrez par la suite un courriel vous fournissant l’hyperlien qui vous permettra de participer aux rencontres. \nPour informations\, veuillez communiquer avec Sylvie Beaupré à sbeaupre01@hotmail.com ou par téléphone au 514-865-4377. \n  \n 
URL:https://www.rsdo.org/evenements/atelier-cram-soirees-reconfort-endeuilles/2022-11-17/
LOCATION:ZOOM
CATEGORIES:Cours
ATTACH;FMTTYPE=image/jpeg:https://www.rsdo.org/wp-content/uploads/2022/08/CRAM-Image-1-Automne-2022.jpg
END:VEVENT
BEGIN:VEVENT
DTSTART;TZID=America/New_York:20221117T183000
DTEND;TZID=America/New_York:20221117T200000
DTSTAMP:20260420T031610
CREATED:20220211T032011Z
LAST-MODIFIED:20220211T032011Z
UID:10002039-1668709800-1668715200@www.rsdo.org
SUMMARY:Soirées réconfort pour endeuillés
DESCRIPTION:Activité gratuite exclusive aux membres \nInscription obligatoire \nAnimées par Louise Racine\, TRA\, Thérapeute en Relation d’aide®\, ces soirées vous sont proposées par vidéoconférence et s’adressent exclusivement aux personnes vivant un deuil par décès. À savoir : \n\nTout endeuillé par décès (récent ou lointain)\nTout proche\, aidant naturel\, bénévole ou personnel qui écoute ou entoure un endeuillé\n\nLes objectifs de ces rencontres virtuelles sont de vous permettre de briser l’isolement\, d’échanger avec d’autres endeuillés\, de comprendre le processus d’un deuil et de recevoir du réconfort. Veuillez noter que vous pouvez assister à plus d’une rencontre. \nIl est nécessaire de réserver votre place pour chacune des rencontres sur le site du CRAM afin de recevoir l’hyperlien vers la plateforme Zoom pour vous permettre de vous joindre aux groupes: \nhttps://www.cramformation.com/activites-gratuites/soirees-reconfort-pour-endeuilles \nLes rencontres ont lieu de 18 h 30 à 20 h mais le CRAM demande que les participants se branchent dès 18 h pour s’assurer de commencer à l’heure prévue. \nDates des rencontres : \nLes jeudis 17 mars\, 28 avril et 19 mai 2022 \nPour information supplémentaire\, veuillez communiquer avec Sylvie Beaupré au 514-865-4377
URL:https://www.rsdo.org/evenements/soirees-reconfort-endeuilles/2022-11-17/
LOCATION:ZOOM
CATEGORIES:Cours
END:VEVENT
BEGIN:VEVENT
DTSTART;TZID=America/New_York:20221117T193000
DTEND;TZID=America/New_York:20221117T210000
DTSTAMP:20260420T031610
CREATED:20220831T000526Z
LAST-MODIFIED:20220831T000526Z
UID:10000717-1668713400-1668718800@www.rsdo.org
SUMMARY:Jean-Marie Lapointe	  Le bonheur de « bénévoler »
DESCRIPTION:Gratuit pour les membres | 10 $ pour les non-membres \nJean-Marie Lapointe est comédien\, animateur\, auteur\, cinéaste\, conférencier\, sportif et surtout\, très impliqué socialement. Depuis plus de 13 ans\, il est l’un des porte-parole du Défi sportif AlterGo. Il s’implique auprès de la maison l’Éclaircie et des Centres Le Grand Chemin. Il accorde également de son temps à l’organisme Leucan. \nUne implication bénévole peut-elle mener vers une croissance personnelle ? Est-il possible qu’en s’investissant dans notre communauté\, on puisse retirer des bénéfices encore plus importants que ceux que l’on offre ? Jean-Marie en est convaincu. \nC’est avec son immense talent d’orateur et en toute humilité qu’il vous présente cette conférence au cours de laquelle il parle du don de soi comme un tremplin l’ayant amené à découvrir son plein potentiel et à devenir une meilleure version de lui-même. Il y partage des moments et des rencontres qui l’ont marqué à jamais et témoigne de l’enrichissement personnel qu’il en retire.
URL:https://www.rsdo.org/evenements/jean-marie-lapointe-bonheur-de-benevoler/
LOCATION:Centre communautaire Marcel Morin\, 14068\, boulevard Gouin Ouest\, Pierrefonds\, Québec\, H8Z 1Y1\, Canada
CATEGORIES:Conférences
ATTACH;FMTTYPE=image/png:https://www.rsdo.org/wp-content/uploads/2022/08/JM-Lapointe-Le-bonheur-de-bénévoler-2022.11.17.png
GEO:45.4956281;-73.8506691
X-APPLE-STRUCTURED-LOCATION;VALUE=URI;X-ADDRESS=Centre communautaire Marcel Morin 14068 boulevard Gouin Ouest Pierrefonds Québec H8Z 1Y1 Canada;X-APPLE-RADIUS=500;X-TITLE=14068\, boulevard Gouin Ouest:geo:-73.8506691,45.4956281
END:VEVENT
BEGIN:VEVENT
DTSTART;TZID=America/New_York:20221118T093000
DTEND;TZID=America/New_York:20221118T163000
DTSTAMP:20260420T031610
CREATED:20220831T002143Z
LAST-MODIFIED:20220906T203007Z
UID:10002174-1668763800-1668789000@www.rsdo.org
SUMMARY:Jacinthe Chaussé          S'adapter aux changements   (Atelier de 2 jours: 18 et 25 novembre)
DESCRIPTION:Activité gratuite exclusive aux membres.   Inscription requise avant le 1er novembre.   Maximum de 25 places \nDe nos jours\, nous avons à faire face à une variété de changements – pertes majeures\, relations\, santé\, emploi\, décès\, etc. – dont plusieurs sont difficiles à gérer au niveau émotionnel\, mental et parfois physique. \nLa vie étant en constant mouvement\, nous perdons ainsi certains de nos repères et de nos acquis\, ce qui génère du stress et de l’insécurité. \nAnimé par Jacinthe Chaussé\, cet atelier de deux jours vise à enseigner aux participants comment s’adapter à ces épreuves afin de les surmonter et en sortir renforci.  À noter qu’il y aura pause lunch de midi à 13 h les deux jours. \n 
URL:https://www.rsdo.org/evenements/jacinthe-chausse-sadapter-aux-changements-atelier-de-2-jours18-25-novembre/2022-11-18/
LOCATION:Salle paroissiale de l’église Sainte-Geneviève\, 16037 Boul Gouin O\, Sainte-Geneviève\, Québec\, H9H 1C7\, Canada
CATEGORIES:Cours
GEO:45.4802657;-73.8719786
X-APPLE-STRUCTURED-LOCATION;VALUE=URI;X-ADDRESS=Salle paroissiale de l’église Sainte-Geneviève 16037 Boul Gouin O Sainte-Geneviève Québec H9H 1C7 Canada;X-APPLE-RADIUS=500;X-TITLE=16037 Boul Gouin O:geo:-73.8719786,45.4802657
END:VEVENT
BEGIN:VEVENT
DTSTART;TZID=America/New_York:20221119T100000
DTEND;TZID=America/New_York:20221119T113000
DTSTAMP:20260420T031610
CREATED:20220906T204825Z
LAST-MODIFIED:20220906T210114Z
UID:10002266-1668852000-1668857400@www.rsdo.org
SUMMARY:Conditionnement Physique et Yoga
DESCRIPTION:Activité gratuite exclusive aux membres \nEssai gratuit d’un cours pour les non-membres \nInscription sur place \nLa forme physique nécessite la pratique assidue de l’exercice. Vous ressentirez les bienfaits de vos efforts dans tout votre corps\, autant au niveau de sa force\, de sa résilience et de son pouvoir d’améliorer sa flexibilité. Ces résultats vous garderont en forme et vous donneront l’envie de persévérer. \nLe yoga associe force\, tonus\, exercices de posture\, étirements\, équilibre et détente et il s’adresse à tous les types de clientèle. \nAnimés par Josey Deroy\, instructeur de yoga certifiée depuis 2002\, les cours de conditionnement physique sont d’une durée de 30 minutes et sont combinés avec des sessions de yoga d’une heure. Vous avez le choix de participer à l’un ou l’autre ou les deux. \n10 h 00 à 10 h 30      Conditionnement physique \n10 h 30 à 11 h 30      Yoga \nPour votre confort\, nous vous suggérons de prévoir\, une serviette et une bouteille d’eau ainsi que : \nPour le conditionnement physique \n\ndes espadrilles\ndes poids de 2 à 5 kg\nun élastique\n\nPour le yoga \n\nun tapis\ndes blocs de mousse\n\nDates       Du 10 septembre au 17 décembre (15 semaines) \nEndroit    Centre communautaire Gerry Robertson (NOUVEAU LOCAL) \n                9665 Boul Gouin Ouest \n                Pierrefonds\, QC    H8Y 1R4 \nPour informations\, veuillez communiquer avec Lise Martin au 514-620-2740 ou Chantal Mark au 514-696-9408
URL:https://www.rsdo.org/evenements/6026/2022-11-19/
LOCATION:Centre communautaire Gerry-Robertson\, 9665\, boulevard Gouin Ouest\, Pierrefonds\, Québec\, QH8Y 1R4\, Canada
CATEGORIES:Cours
ATTACH;FMTTYPE=image/jpeg:https://www.rsdo.org/wp-content/uploads/2022/08/Conditionnement-et-Yoga-Automne-2022.jpg
GEO:45.5048919;-73.7843098
X-APPLE-STRUCTURED-LOCATION;VALUE=URI;X-ADDRESS=Centre communautaire Gerry-Robertson 9665 boulevard Gouin Ouest Pierrefonds Québec QH8Y 1R4 Canada;X-APPLE-RADIUS=500;X-TITLE=9665\, boulevard Gouin Ouest:geo:-73.7843098,45.5048919
END:VEVENT
BEGIN:VEVENT
DTSTART;TZID=America/New_York:20221120T110000
DTEND;TZID=America/New_York:20221120T170000
DTSTAMP:20260420T031610
CREATED:20220826T044934Z
LAST-MODIFIED:20220826T044934Z
UID:10000723-1668942000-1668963600@www.rsdo.org
SUMMARY:BRUNCH - Manoir Pointe-Claire
DESCRIPTION:Ne restez pas seul !  \nVenez déjeuner en bonne compagnie ! \nCet automne\, nous tiendrons un brunch toutes les deux semaines et ce\, jusqu’au mois de décembre. \nPour informations et réservation\, veuillez communiquer avec Michel Verreault au 514-567-4623.
URL:https://www.rsdo.org/evenements/brunch-manoir-pointe-claire/2022-11-20/
LOCATION:Brasserie le Manoir de Pointe-Claire\, 600\, boulevard Saint-Jean\, Pointe-Claire\, Québec\, H9R 3J9\, Canada
CATEGORIES:Soutien émotionnel
ATTACH;FMTTYPE=image/png:https://www.rsdo.org/wp-content/uploads/2022/08/BRUNCHS.png
GEO:45.4587148;-73.8228417
X-APPLE-STRUCTURED-LOCATION;VALUE=URI;X-ADDRESS=Brasserie le Manoir de Pointe-Claire 600 boulevard Saint-Jean Pointe-Claire Québec H9R 3J9 Canada;X-APPLE-RADIUS=500;X-TITLE=600\, boulevard Saint-Jean:geo:-73.8228417,45.4587148
END:VEVENT
END:VCALENDAR