BEGIN:VCALENDAR
VERSION:2.0
PRODID:-//RSDO - ECPv6.15.20//NONSGML v1.0//EN
CALSCALE:GREGORIAN
METHOD:PUBLISH
X-WR-CALNAME:RSDO
X-ORIGINAL-URL:https://www.rsdo.org
X-WR-CALDESC:Évènements pour RSDO
REFRESH-INTERVAL;VALUE=DURATION:PT1H
X-Robots-Tag:noindex
X-PUBLISHED-TTL:PT1H
BEGIN:VTIMEZONE
TZID:America/New_York
BEGIN:DAYLIGHT
TZOFFSETFROM:-0500
TZOFFSETTO:-0400
TZNAME:EDT
DTSTART:20210314T070000
END:DAYLIGHT
BEGIN:STANDARD
TZOFFSETFROM:-0400
TZOFFSETTO:-0500
TZNAME:EST
DTSTART:20211107T060000
END:STANDARD
BEGIN:DAYLIGHT
TZOFFSETFROM:-0500
TZOFFSETTO:-0400
TZNAME:EDT
DTSTART:20220313T070000
END:DAYLIGHT
BEGIN:STANDARD
TZOFFSETFROM:-0400
TZOFFSETTO:-0500
TZNAME:EST
DTSTART:20221106T060000
END:STANDARD
BEGIN:DAYLIGHT
TZOFFSETFROM:-0500
TZOFFSETTO:-0400
TZNAME:EDT
DTSTART:20230312T070000
END:DAYLIGHT
BEGIN:STANDARD
TZOFFSETFROM:-0400
TZOFFSETTO:-0500
TZNAME:EST
DTSTART:20231105T060000
END:STANDARD
END:VTIMEZONE
BEGIN:VEVENT
DTSTART;TZID=America/New_York:20221003T093000
DTEND;TZID=America/New_York:20221003T093000
DTSTAMP:20260420T103637
CREATED:20220831T004735Z
LAST-MODIFIED:20220831T010609Z
UID:10002214-1664789400-1664789400@www.rsdo.org
SUMMARY:Marches hebdomadaires (L'Île-Bizard)
DESCRIPTION:Activité gratuite ouverte à tous (non-membres bienvenus) \nLe RSDO a deux points de rencontre (Vaudreuil-Dorion et Île-Bizard) pour les marches hebdomadaires qui sont ouvertes à toutes et à tous\, quel que soit votre niveau d’activité. \nLes responsables pour chacun des groupes communiquent avec les participants lors de changements ou d’annulations de l’activité. \nLes marches sont d’une durée de 60 à 90 minutes et nous demandons aux marcheurs de se présenter au point de rencontre au moins 10 minutes avant le départ. \nLes marches du Groupe Vaudreuil-Dorion se terminent souvent par une rencontre amicale au restaurant ou dans un café. \nPour informations générales\, veuillez communiquer avec Pauline Debonville à sociale@rsdo.org ou par téléphone au 514-830-1166 ou au 450‑510‑1931. \n  \n\n\n\nGroupe de l’Île-Bizard                                                                Les lundis et jeudis à 9 h 30 \nPoint de rencontre     Complexe sportif Saint-Raphaël\, au stationnement près de l’entrée du parc \n750\, boulevard Jacques-Bizard \nStationnement            Au complexe sportif\, près du boulevard Jacques-Bizard \nResponsables             Carole Larivière (514-626-9306) et \nGisèle Talbot (514-620-6652)\n\n\n\n\n\n\nGroupe de Vaudreuil-Dorion                                           Les mardis et jeudis à 10 h 30 * \nPoint de rencontre     Dans le stationnement de la rue Dumont\, derrière la Tour d’eau\, \nà côté de l’Opti-Centre Saint-Jean-Baptiste sis au 145\, boulevard Hardwood \nStationnement            Dans les stationnements voisins de la Tour d’eau \nResponsable               Pauline Debonville (450-510-1931) \n*   Plus tard à l’automne\, les marches débuteront à 13 h 30 et les participants en seront informés par courriel.
URL:https://www.rsdo.org/evenements/marches-hebdomadaires-ile-bizard-2/2022-10-03/
LOCATION:Québec
CATEGORIES:Ateliers
ATTACH;FMTTYPE=image/jpeg:https://www.rsdo.org/wp-content/uploads/2022/08/Marches-Automne-2022.jpg
END:VEVENT
BEGIN:VEVENT
DTSTART;TZID=America/New_York:20221003T103000
DTEND;TZID=America/New_York:20221003T114500
DTSTAMP:20260420T103637
CREATED:20220906T211625Z
LAST-MODIFIED:20220906T222547Z
UID:10002274-1664793000-1664797500@www.rsdo.org
SUMMARY:Étirement et alignement postural avec chaise
DESCRIPTION:Activité gratuite exclusive aux membres \nEssai gratuit d’une séance pour les non-membres \nRespirez tout simplement et soyez Zen !  \nLe RSDO est heureux de vous offrir cette nouvelle activité virtuelle animée par Chantal Bardier qui possède plus de 21 ans d’expérience en conditionnement physique avec la clientèle des 50 ans et plus. \nVous pouvez en apprendre plus sur le cheminement et les expériences professionnelles de Chantal en consultant : \n\n            son site web :  https://chantalbardier.weebly.com\n            sa chaîne YouTube : http://www.youtube.com/user/SingingTrainer\n            ses groupes Facebook : https://chantalbardier.weebly.com/groupes-facebook.html\n\nLes séances consisteront en exercices d’étirement et d’alignement postural avec chaise combinant étirements posturaux et de détente\, en position assise et debout\, le tout dans le respect des limites de chacun. \nLes exercices pratiqués améliorent la souplesse générale et la mobilité\, dénouent les tensions\, aident à prévenir les blessures\, apprennent à mieux respirer et à réduire l’anxiété.  Pour profiter au maximum des bénéfices qu’ils apportent\, nous vous recommandons d’éviter les repas lourds avant les séances\, de vous vêtir de vêtements confortables et d’espadrilles ou chaussettes antidérapantes et de vous munir d’une bouteille d’eau. \nDates                        Du 12 septembre au 19 décembre (15 semaines) \nComment                 Virtuellement avec la plateforme Zoom \n                                  Un hyperlien sera envoyé à tous les membres \nMatériel requis         \n\nChaise sans accoudoirs\nSangle\, ceinture ou cravate\n\nPour informations veuillez communiquer avec Sylvie Beaupré à sbeaupre01@hotmail.com ou directement auprès de Chantal Bardier à cbardier@sympatico.ca
URL:https://www.rsdo.org/evenements/etirement-alignement-postural-chaise/2022-10-03/
LOCATION:Québec
CATEGORIES:Cours
ATTACH;FMTTYPE=image/png:https://www.rsdo.org/wp-content/uploads/2022/08/Étirement-et-Alignment-Postural-avec-Chaise-Automne-2022-e1662506710785.png
END:VEVENT
BEGIN:VEVENT
DTSTART;TZID=America/New_York:20221003T190000
DTEND;TZID=America/New_York:20221003T210000
DTSTAMP:20260420T103637
CREATED:20220831T005252Z
LAST-MODIFIED:20220906T200128Z
UID:10002239-1664823600-1664830800@www.rsdo.org
SUMMARY:CHORALE
DESCRIPTION:Activité gratuite exclusive aux membres.  Essai gratuit d’une séance pour les non-membres. Inscription requise \nC’est enfin le retour de la chorale en présentiel !!! \nAu RSDO\, on peut briser l’isolement en participant à un réseau d’entraide ainsi qu’à des cours et ateliers enrichissants qui nous font sortir de notre zone de confort et nous apportent joie et bonheur. \nChanter dans une chorale apporte des bienfaits sur les plans social\, spirituel\, physique\, émotionnel et intellectuel (acquisition de connaissances et stimulation cognitive)\, \nCet automne\, avec Jocelyn Bigras notre chef de chœur\, nous tiendrons 12 sessions de pratique et offrirons quatre concerts dans des CHSLD au cours du mois de décembre. \nDates       Du 12 septembre au 5 décembre. Relâche le 10 octobre. (12 semaines).\n \nQuatre concerts seront aussi offerts dans les CHSLD au mois de décembre ! \nEndroit     \nCentre communautaire Gerry Robertson (NOUVEAU LOCAL) \n9665 Boul Gouin O\,  \nPierrefonds\, QC  \nH8Y 1R4 \n\n\n\nPour informations et inscription\, veuillez communiquer avec Sylvie Beaupré à \nsbeaupre01@hotmail.com ou par téléphone au 514-865-4377\n\n\n\n 
URL:https://www.rsdo.org/evenements/chorale/2022-10-03/
LOCATION:Centre communautaire Gerry-Robertson\, 9665\, boulevard Gouin Ouest\, Pierrefonds\, Québec\, QH8Y 1R4\, Canada
CATEGORIES:Ateliers
ATTACH;FMTTYPE=image/jpeg:https://www.rsdo.org/wp-content/uploads/2022/08/Chorale-Automne-2022.jpg
GEO:45.5048919;-73.7843098
X-APPLE-STRUCTURED-LOCATION;VALUE=URI;X-ADDRESS=Centre communautaire Gerry-Robertson 9665 boulevard Gouin Ouest Pierrefonds Québec QH8Y 1R4 Canada;X-APPLE-RADIUS=500;X-TITLE=9665\, boulevard Gouin Ouest:geo:-73.7843098,45.5048919
END:VEVENT
BEGIN:VEVENT
DTSTART;TZID=America/New_York:20221004T093000
DTEND;TZID=America/New_York:20221004T120000
DTSTAMP:20260420T103637
CREATED:20220831T004225Z
LAST-MODIFIED:20220831T010424Z
UID:10002184-1664875800-1664884800@www.rsdo.org
SUMMARY:Marches hebdomadaires (Vaudreuil-Dorion)
DESCRIPTION:Activité gratuite ouverte à tous (non-membres bienvenus) \nLe RSDO a deux points de rencontre (Vaudreuil-Dorion et Île-Bizard) pour les marches hebdomadaires qui sont ouvertes à toutes et à tous\, quel que soit votre niveau d’activité. \nLes responsables pour chacun des groupes communiquent avec les participants lors de changements ou d’annulations de l’activité. \nLes marches sont d’une durée de 60 à 90 minutes et nous demandons aux marcheurs de se présenter au point de rencontre au moins 10 minutes avant le départ. \nLes marches du Groupe Vaudreuil-Dorion se terminent souvent par une rencontre amicale au restaurant ou dans un café. \nPour informations générales\, veuillez communiquer avec Pauline Debonville à sociale@rsdo.org ou par téléphone au 514-830-1166 ou au 450‑510‑1931. \n\n\n\nGroupe de Vaudreuil-Dorion                                           Les mardis et jeudis à 10 h 30 * \nPoint de rencontre     Dans le stationnement de la rue Dumont\, derrière la Tour d’eau\, \nà côté de l’Opti-Centre Saint-Jean-Baptiste sis au 145\, boulevard Hardwood \nStationnement            Dans les stationnements voisins de la Tour d’eau \nResponsable               Pauline Debonville (450-510-1931) \n*   Plus tard à l’automne\, les marches débuteront à 13 h 30 et les participants en seront informés par courriel.\n\n\n\n\n\n\nGroupe de l’Île-Bizard                                                                Les lundis et jeudis à 9 h 30 \nPoint de rencontre     Complexe sportif Saint-Raphaël\, au stationnement près de l’entrée du parc \n750\, boulevard Jacques-Bizard \nStationnement            Au complexe sportif\, près du boulevard Jacques-Bizard \nResponsables             Carole Larivière (514-626-9306) et \nGisèle Talbot (514-620-6652)\n\n\n\n 
URL:https://www.rsdo.org/evenements/marches-hebdomadaires-vaudreuil-dorion-2/2022-10-04/
LOCATION:Québec
CATEGORIES:Ateliers
ATTACH;FMTTYPE=image/jpeg:https://www.rsdo.org/wp-content/uploads/2022/08/Marches-Automne-2022.jpg
END:VEVENT
BEGIN:VEVENT
DTSTART;TZID=America/New_York:20221006T093000
DTEND;TZID=America/New_York:20221006T093000
DTSTAMP:20260420T103637
CREATED:20220831T004735Z
LAST-MODIFIED:20220831T010609Z
UID:10002215-1665048600-1665048600@www.rsdo.org
SUMMARY:Marches hebdomadaires (L'Île-Bizard)
DESCRIPTION:Activité gratuite ouverte à tous (non-membres bienvenus) \nLe RSDO a deux points de rencontre (Vaudreuil-Dorion et Île-Bizard) pour les marches hebdomadaires qui sont ouvertes à toutes et à tous\, quel que soit votre niveau d’activité. \nLes responsables pour chacun des groupes communiquent avec les participants lors de changements ou d’annulations de l’activité. \nLes marches sont d’une durée de 60 à 90 minutes et nous demandons aux marcheurs de se présenter au point de rencontre au moins 10 minutes avant le départ. \nLes marches du Groupe Vaudreuil-Dorion se terminent souvent par une rencontre amicale au restaurant ou dans un café. \nPour informations générales\, veuillez communiquer avec Pauline Debonville à sociale@rsdo.org ou par téléphone au 514-830-1166 ou au 450‑510‑1931. \n  \n\n\n\nGroupe de l’Île-Bizard                                                                Les lundis et jeudis à 9 h 30 \nPoint de rencontre     Complexe sportif Saint-Raphaël\, au stationnement près de l’entrée du parc \n750\, boulevard Jacques-Bizard \nStationnement            Au complexe sportif\, près du boulevard Jacques-Bizard \nResponsables             Carole Larivière (514-626-9306) et \nGisèle Talbot (514-620-6652)\n\n\n\n\n\n\nGroupe de Vaudreuil-Dorion                                           Les mardis et jeudis à 10 h 30 * \nPoint de rencontre     Dans le stationnement de la rue Dumont\, derrière la Tour d’eau\, \nà côté de l’Opti-Centre Saint-Jean-Baptiste sis au 145\, boulevard Hardwood \nStationnement            Dans les stationnements voisins de la Tour d’eau \nResponsable               Pauline Debonville (450-510-1931) \n*   Plus tard à l’automne\, les marches débuteront à 13 h 30 et les participants en seront informés par courriel.
URL:https://www.rsdo.org/evenements/marches-hebdomadaires-ile-bizard-2/2022-10-06/
LOCATION:Québec
CATEGORIES:Ateliers
ATTACH;FMTTYPE=image/jpeg:https://www.rsdo.org/wp-content/uploads/2022/08/Marches-Automne-2022.jpg
END:VEVENT
BEGIN:VEVENT
DTSTART;TZID=America/New_York:20221006T093000
DTEND;TZID=America/New_York:20221006T120000
DTSTAMP:20260420T103637
CREATED:20220831T004225Z
LAST-MODIFIED:20220831T010424Z
UID:10002185-1665048600-1665057600@www.rsdo.org
SUMMARY:Marches hebdomadaires (Vaudreuil-Dorion)
DESCRIPTION:Activité gratuite ouverte à tous (non-membres bienvenus) \nLe RSDO a deux points de rencontre (Vaudreuil-Dorion et Île-Bizard) pour les marches hebdomadaires qui sont ouvertes à toutes et à tous\, quel que soit votre niveau d’activité. \nLes responsables pour chacun des groupes communiquent avec les participants lors de changements ou d’annulations de l’activité. \nLes marches sont d’une durée de 60 à 90 minutes et nous demandons aux marcheurs de se présenter au point de rencontre au moins 10 minutes avant le départ. \nLes marches du Groupe Vaudreuil-Dorion se terminent souvent par une rencontre amicale au restaurant ou dans un café. \nPour informations générales\, veuillez communiquer avec Pauline Debonville à sociale@rsdo.org ou par téléphone au 514-830-1166 ou au 450‑510‑1931. \n\n\n\nGroupe de Vaudreuil-Dorion                                           Les mardis et jeudis à 10 h 30 * \nPoint de rencontre     Dans le stationnement de la rue Dumont\, derrière la Tour d’eau\, \nà côté de l’Opti-Centre Saint-Jean-Baptiste sis au 145\, boulevard Hardwood \nStationnement            Dans les stationnements voisins de la Tour d’eau \nResponsable               Pauline Debonville (450-510-1931) \n*   Plus tard à l’automne\, les marches débuteront à 13 h 30 et les participants en seront informés par courriel.\n\n\n\n\n\n\nGroupe de l’Île-Bizard                                                                Les lundis et jeudis à 9 h 30 \nPoint de rencontre     Complexe sportif Saint-Raphaël\, au stationnement près de l’entrée du parc \n750\, boulevard Jacques-Bizard \nStationnement            Au complexe sportif\, près du boulevard Jacques-Bizard \nResponsables             Carole Larivière (514-626-9306) et \nGisèle Talbot (514-620-6652)\n\n\n\n 
URL:https://www.rsdo.org/evenements/marches-hebdomadaires-vaudreuil-dorion-2/2022-10-06/
LOCATION:Québec
CATEGORIES:Ateliers
ATTACH;FMTTYPE=image/jpeg:https://www.rsdo.org/wp-content/uploads/2022/08/Marches-Automne-2022.jpg
END:VEVENT
BEGIN:VEVENT
DTSTART;TZID=America/New_York:20221006T193000
DTEND;TZID=America/New_York:20221006T210000
DTSTAMP:20260420T103637
CREATED:20220826T034639Z
LAST-MODIFIED:20220826T034639Z
UID:10002173-1665084600-1665090000@www.rsdo.org
SUMMARY:Me Hélène Guay	Directives médicales anticipées (DMA)
DESCRIPTION:Gratuit pour les membres | 5 $ pour les non-membres \nMe Hélène Guay dirige un cabinet juridique de litige et représente des victimes d’erreurs médicales ou leurs familles. Elle intercède en faveur du respect des droits des personnes devant les instances administratives et a développé une expertise en matière de représentation des aînés et la défense de leurs droits. \nhttps://heleneguay.com/ \nQu’entend-on par directives médicales anticipées ? Qui peut les compléter ? Qui doit les respecter ? Quelles sont les différences entre les DMA et le mandat de protection ? Qu’arrive-t-il en cas d’absence de DMA ? \nMe Guay vous entretiendra de ces questions importantes qui vous interpellent.
URL:https://www.rsdo.org/evenements/me-helene-guaydirectives-medicales-anticipees-dma/
LOCATION:Centre communautaire Marcel Morin\, 14068\, boulevard Gouin Ouest\, Pierrefonds\, Québec\, H8Z 1Y1\, Canada
CATEGORIES:Conférences
ATTACH;FMTTYPE=image/jpeg:https://www.rsdo.org/wp-content/uploads/2022/08/Hélène-Guay-Directives-Mdicales-Anticipées-DMA-2022.10.06-e1661489173621.jpg
GEO:45.4956281;-73.8506691
X-APPLE-STRUCTURED-LOCATION;VALUE=URI;X-ADDRESS=Centre communautaire Marcel Morin 14068 boulevard Gouin Ouest Pierrefonds Québec H8Z 1Y1 Canada;X-APPLE-RADIUS=500;X-TITLE=14068\, boulevard Gouin Ouest:geo:-73.8506691,45.4956281
END:VEVENT
BEGIN:VEVENT
DTSTART;TZID=America/New_York:20221008T100000
DTEND;TZID=America/New_York:20221008T113000
DTSTAMP:20260420T103637
CREATED:20220906T204825Z
LAST-MODIFIED:20220906T210114Z
UID:10002260-1665223200-1665228600@www.rsdo.org
SUMMARY:Conditionnement Physique et Yoga
DESCRIPTION:Activité gratuite exclusive aux membres \nEssai gratuit d’un cours pour les non-membres \nInscription sur place \nLa forme physique nécessite la pratique assidue de l’exercice. Vous ressentirez les bienfaits de vos efforts dans tout votre corps\, autant au niveau de sa force\, de sa résilience et de son pouvoir d’améliorer sa flexibilité. Ces résultats vous garderont en forme et vous donneront l’envie de persévérer. \nLe yoga associe force\, tonus\, exercices de posture\, étirements\, équilibre et détente et il s’adresse à tous les types de clientèle. \nAnimés par Josey Deroy\, instructeur de yoga certifiée depuis 2002\, les cours de conditionnement physique sont d’une durée de 30 minutes et sont combinés avec des sessions de yoga d’une heure. Vous avez le choix de participer à l’un ou l’autre ou les deux. \n10 h 00 à 10 h 30      Conditionnement physique \n10 h 30 à 11 h 30      Yoga \nPour votre confort\, nous vous suggérons de prévoir\, une serviette et une bouteille d’eau ainsi que : \nPour le conditionnement physique \n\ndes espadrilles\ndes poids de 2 à 5 kg\nun élastique\n\nPour le yoga \n\nun tapis\ndes blocs de mousse\n\nDates       Du 10 septembre au 17 décembre (15 semaines) \nEndroit    Centre communautaire Gerry Robertson (NOUVEAU LOCAL) \n                9665 Boul Gouin Ouest \n                Pierrefonds\, QC    H8Y 1R4 \nPour informations\, veuillez communiquer avec Lise Martin au 514-620-2740 ou Chantal Mark au 514-696-9408
URL:https://www.rsdo.org/evenements/6026/2022-10-08/
LOCATION:Centre communautaire Gerry-Robertson\, 9665\, boulevard Gouin Ouest\, Pierrefonds\, Québec\, QH8Y 1R4\, Canada
CATEGORIES:Cours
ATTACH;FMTTYPE=image/jpeg:https://www.rsdo.org/wp-content/uploads/2022/08/Conditionnement-et-Yoga-Automne-2022.jpg
GEO:45.5048919;-73.7843098
X-APPLE-STRUCTURED-LOCATION;VALUE=URI;X-ADDRESS=Centre communautaire Gerry-Robertson 9665 boulevard Gouin Ouest Pierrefonds Québec QH8Y 1R4 Canada;X-APPLE-RADIUS=500;X-TITLE=9665\, boulevard Gouin Ouest:geo:-73.7843098,45.5048919
END:VEVENT
BEGIN:VEVENT
DTSTART;TZID=America/New_York:20221009T110000
DTEND;TZID=America/New_York:20221009T170000
DTSTAMP:20260420T103637
CREATED:20220826T044934Z
LAST-MODIFIED:20220826T044934Z
UID:10000722-1665313200-1665334800@www.rsdo.org
SUMMARY:BRUNCH - Manoir Pointe-Claire
DESCRIPTION:Ne restez pas seul !  \nVenez déjeuner en bonne compagnie ! \nCet automne\, nous tiendrons un brunch toutes les deux semaines et ce\, jusqu’au mois de décembre. \nPour informations et réservation\, veuillez communiquer avec Michel Verreault au 514-567-4623.
URL:https://www.rsdo.org/evenements/brunch-manoir-pointe-claire/2022-10-09/
LOCATION:Brasserie le Manoir de Pointe-Claire\, 600\, boulevard Saint-Jean\, Pointe-Claire\, Québec\, H9R 3J9\, Canada
CATEGORIES:Soutien émotionnel
ATTACH;FMTTYPE=image/png:https://www.rsdo.org/wp-content/uploads/2022/08/BRUNCHS.png
GEO:45.4587148;-73.8228417
X-APPLE-STRUCTURED-LOCATION;VALUE=URI;X-ADDRESS=Brasserie le Manoir de Pointe-Claire 600 boulevard Saint-Jean Pointe-Claire Québec H9R 3J9 Canada;X-APPLE-RADIUS=500;X-TITLE=600\, boulevard Saint-Jean:geo:-73.8228417,45.4587148
END:VEVENT
END:VCALENDAR