BEGIN:VCALENDAR
VERSION:2.0
PRODID:-//RSDO - ECPv6.15.20//NONSGML v1.0//EN
CALSCALE:GREGORIAN
METHOD:PUBLISH
X-WR-CALNAME:RSDO
X-ORIGINAL-URL:https://www.rsdo.org
X-WR-CALDESC:Évènements pour RSDO
REFRESH-INTERVAL;VALUE=DURATION:PT1H
X-Robots-Tag:noindex
X-PUBLISHED-TTL:PT1H
BEGIN:VTIMEZONE
TZID:America/New_York
BEGIN:DAYLIGHT
TZOFFSETFROM:-0500
TZOFFSETTO:-0400
TZNAME:EDT
DTSTART:20210314T070000
END:DAYLIGHT
BEGIN:STANDARD
TZOFFSETFROM:-0400
TZOFFSETTO:-0500
TZNAME:EST
DTSTART:20211107T060000
END:STANDARD
BEGIN:DAYLIGHT
TZOFFSETFROM:-0500
TZOFFSETTO:-0400
TZNAME:EDT
DTSTART:20220313T070000
END:DAYLIGHT
BEGIN:STANDARD
TZOFFSETFROM:-0400
TZOFFSETTO:-0500
TZNAME:EST
DTSTART:20221106T060000
END:STANDARD
BEGIN:DAYLIGHT
TZOFFSETFROM:-0500
TZOFFSETTO:-0400
TZNAME:EDT
DTSTART:20230312T070000
END:DAYLIGHT
BEGIN:STANDARD
TZOFFSETFROM:-0400
TZOFFSETTO:-0500
TZNAME:EST
DTSTART:20231105T060000
END:STANDARD
END:VTIMEZONE
BEGIN:VEVENT
DTSTART;TZID=America/New_York:20220829T093000
DTEND;TZID=America/New_York:20220829T110000
DTSTAMP:20260420T020942
CREATED:20220618T162000Z
LAST-MODIFIED:20220618T162000Z
UID:10002164-1661765400-1661770800@www.rsdo.org
SUMMARY:Marches hebdomadaires - Île-Bizard
DESCRIPTION:Activité gratuite ouverte à tous (non membres bienvenus) \nLe RSDO a deux points de rencontre pour les marches hebdomadaires qui sont ouvertes à toutes et à tous\, quel que soit votre niveau d’activité. Nous demandons aux marcheurs de se présenter au point de rencontre au moins 10 minutes avant le départ. \nLes responsables pour chacun des groupes communiquent avec les participants lors de changements ou d’annulations de l’activité. \nLes marches sont d’une durée de 60 à 90 minutes et le groupe de Vaudreuil-Dorion termine occasionnellement l’activité par une rencontre amicale dans un café ou restaurant. \nPour information générale\, veuillez communiquer avec Pauline Debonville à sociale@rsdo.org ou par téléphone au 450-510-1931 ou auprès du RSDO au 438-390-7736. \nPoint de rencontre : Complexe sportif Saint-Raphaël \nStationnement : Au Complexe sportif\, près du boulevard Jacques-Bizard \nResponsables : Carole Larivière | tél. 514-626-9306 et Gisèle Talbot | tél. 514-620-6652
URL:https://www.rsdo.org/evenements/marches-hebdomadaires-ile-bizard/2022-08-29/
LOCATION:Complexe sportif Saint-Raphaël\, 750\, boul. Jacques-Bizard\, H9C 2Y2\, Île-Bizard\, Québec\, H9C 2Y2\, Canada
CATEGORIES:Ateliers
ATTACH;FMTTYPE=image/jpeg:https://www.rsdo.org/wp-content/uploads/2018/06/Randonnée-parc-ïle-Bizard.jpg
GEO:45.5027065;-73.8776709
X-APPLE-STRUCTURED-LOCATION;VALUE=URI;X-ADDRESS=Complexe sportif Saint-Raphaël 750 boul. Jacques-Bizard H9C 2Y2 Île-Bizard Québec H9C 2Y2 Canada;X-APPLE-RADIUS=500;X-TITLE=750\, boul. Jacques-Bizard\, H9C 2Y2:geo:-73.8776709,45.5027065
END:VEVENT
BEGIN:VEVENT
DTSTART;TZID=America/New_York:20220830T103000
DTEND;TZID=America/New_York:20220830T120000
DTSTAMP:20260420T020942
CREATED:20220618T161415Z
LAST-MODIFIED:20220618T161415Z
UID:10002142-1661855400-1661860800@www.rsdo.org
SUMMARY:Marches hebdomadaires - Vaudreuil-Dorion
DESCRIPTION:Activité gratuite ouverte à tous (non membres bienvenus) \nLe RSDO a deux points de rencontre pour les marches hebdomadaires qui sont ouvertes à toutes et à tous\, quel que soit votre niveau d’activité. Nous demandons aux marcheurs de se présenter au point de rencontre au moins 10 minutes avant le départ. \nLes responsables pour chacun des groupes communiquent avec les participants lors de changements ou d’annulations de l’activité. \nLes marches sont d’une durée de 60 à 90 minutes et le groupe de Vaudreuil-Dorion termine occasionnellement l’activité par une rencontre amicale dans un café ou restaurant. \nPour information générale\, veuillez communiquer avec Pauline Debonville à sociale@rsdo.org ou par téléphone au 450-510-1931 ou auprès du RSDO au 438-390-7736. \nPoint de rencontre : Dans le stationnement de la rue Dumont\, derrière la Tour d’eau \nStationnement : Dans les stationnements voisins de la Tour d’eau \nResponsables : Claire Ménard | tél. 450-218-0967 et Pauline Debonville | tél. 450-510-1931
URL:https://www.rsdo.org/evenements/marches-hebdomadaires-vaudreuil-dorion/2022-08-30/
LOCATION:Tour d’eau Dorion\, Vaudeuil-Dorion\, J7V 1W9
CATEGORIES:Ateliers
ATTACH;FMTTYPE=image/jpeg:https://www.rsdo.org/wp-content/uploads/2018/06/Randonnée-pédestre-2.jpg
END:VEVENT
BEGIN:VEVENT
DTSTART;TZID=America/New_York:20220901T093000
DTEND;TZID=America/New_York:20220901T110000
DTSTAMP:20260420T020942
CREATED:20220618T162000Z
LAST-MODIFIED:20220618T162000Z
UID:10002165-1662024600-1662030000@www.rsdo.org
SUMMARY:Marches hebdomadaires - Île-Bizard
DESCRIPTION:Activité gratuite ouverte à tous (non membres bienvenus) \nLe RSDO a deux points de rencontre pour les marches hebdomadaires qui sont ouvertes à toutes et à tous\, quel que soit votre niveau d’activité. Nous demandons aux marcheurs de se présenter au point de rencontre au moins 10 minutes avant le départ. \nLes responsables pour chacun des groupes communiquent avec les participants lors de changements ou d’annulations de l’activité. \nLes marches sont d’une durée de 60 à 90 minutes et le groupe de Vaudreuil-Dorion termine occasionnellement l’activité par une rencontre amicale dans un café ou restaurant. \nPour information générale\, veuillez communiquer avec Pauline Debonville à sociale@rsdo.org ou par téléphone au 450-510-1931 ou auprès du RSDO au 438-390-7736. \nPoint de rencontre : Complexe sportif Saint-Raphaël \nStationnement : Au Complexe sportif\, près du boulevard Jacques-Bizard \nResponsables : Carole Larivière | tél. 514-626-9306 et Gisèle Talbot | tél. 514-620-6652
URL:https://www.rsdo.org/evenements/marches-hebdomadaires-ile-bizard/2022-09-01/
LOCATION:Complexe sportif Saint-Raphaël\, 750\, boul. Jacques-Bizard\, H9C 2Y2\, Île-Bizard\, Québec\, H9C 2Y2\, Canada
CATEGORIES:Ateliers
ATTACH;FMTTYPE=image/jpeg:https://www.rsdo.org/wp-content/uploads/2018/06/Randonnée-parc-ïle-Bizard.jpg
GEO:45.5027065;-73.8776709
X-APPLE-STRUCTURED-LOCATION;VALUE=URI;X-ADDRESS=Complexe sportif Saint-Raphaël 750 boul. Jacques-Bizard H9C 2Y2 Île-Bizard Québec H9C 2Y2 Canada;X-APPLE-RADIUS=500;X-TITLE=750\, boul. Jacques-Bizard\, H9C 2Y2:geo:-73.8776709,45.5027065
END:VEVENT
BEGIN:VEVENT
DTSTART;TZID=America/New_York:20220901T093000
DTEND;TZID=America/New_York:20220901T110000
DTSTAMP:20260420T020942
CREATED:20220618T162000Z
LAST-MODIFIED:20220831T002836Z
UID:10002166-1662024600-1662030000@www.rsdo.org
SUMMARY:Marches hebdomadaires - Île-Bizard
DESCRIPTION:Activité gratuite ouverte à tous (non membres bienvenus) \nLe RSDO a deux points de rencontre pour les marches hebdomadaires qui sont ouvertes à toutes et à tous\, quel que soit votre niveau d’activité. Nous demandons aux marcheurs de se présenter au point de rencontre au moins 10 minutes avant le départ. \nLes responsables pour chacun des groupes communiquent avec les participants lors de changements ou d’annulations de l’activité. \nLes marches sont d’une durée de 60 à 90 minutes et le groupe de Vaudreuil-Dorion termine occasionnellement l’activité par une rencontre amicale dans un café ou restaurant. \nPour information générale\, veuillez communiquer avec Pauline Debonville à sociale@rsdo.org ou par téléphone au 450-510-1931 ou auprès du RSDO au 438-390-7736. \nPoint de rencontre : Complexe sportif Saint-Raphaël \nStationnement : Au Complexe sportif\, près du boulevard Jacques-Bizard \nResponsables : Carole Larivière | tél. 514-626-9306 et Gisèle Talbot | tél. 514-620-6652
URL:https://www.rsdo.org/evenements/marches-hebdomadaires-ile-bizard-2022-09-01/2022-09-01/
LOCATION:Complexe sportif Saint-Raphaël\, 750\, boul. Jacques-Bizard\, H9C 2Y2\, Île-Bizard\, Québec\, H9C 2Y2\, Canada
CATEGORIES:Ateliers
ATTACH;FMTTYPE=image/jpeg:https://www.rsdo.org/wp-content/uploads/2018/06/Randonnée-parc-ïle-Bizard.jpg
GEO:45.5027065;-73.8776709
X-APPLE-STRUCTURED-LOCATION;VALUE=URI;X-ADDRESS=Complexe sportif Saint-Raphaël 750 boul. Jacques-Bizard H9C 2Y2 Île-Bizard Québec H9C 2Y2 Canada;X-APPLE-RADIUS=500;X-TITLE=750\, boul. Jacques-Bizard\, H9C 2Y2:geo:-73.8776709,45.5027065
END:VEVENT
BEGIN:VEVENT
DTSTART;TZID=America/New_York:20220901T103000
DTEND;TZID=America/New_York:20220901T120000
DTSTAMP:20260420T020942
CREATED:20220618T161415Z
LAST-MODIFIED:20220618T161415Z
UID:10002143-1662028200-1662033600@www.rsdo.org
SUMMARY:Marches hebdomadaires - Vaudreuil-Dorion
DESCRIPTION:Activité gratuite ouverte à tous (non membres bienvenus) \nLe RSDO a deux points de rencontre pour les marches hebdomadaires qui sont ouvertes à toutes et à tous\, quel que soit votre niveau d’activité. Nous demandons aux marcheurs de se présenter au point de rencontre au moins 10 minutes avant le départ. \nLes responsables pour chacun des groupes communiquent avec les participants lors de changements ou d’annulations de l’activité. \nLes marches sont d’une durée de 60 à 90 minutes et le groupe de Vaudreuil-Dorion termine occasionnellement l’activité par une rencontre amicale dans un café ou restaurant. \nPour information générale\, veuillez communiquer avec Pauline Debonville à sociale@rsdo.org ou par téléphone au 450-510-1931 ou auprès du RSDO au 438-390-7736. \nPoint de rencontre : Dans le stationnement de la rue Dumont\, derrière la Tour d’eau \nStationnement : Dans les stationnements voisins de la Tour d’eau \nResponsables : Claire Ménard | tél. 450-218-0967 et Pauline Debonville | tél. 450-510-1931
URL:https://www.rsdo.org/evenements/marches-hebdomadaires-vaudreuil-dorion/2022-09-01/
LOCATION:Tour d’eau Dorion\, Vaudeuil-Dorion\, J7V 1W9
CATEGORIES:Ateliers
ATTACH;FMTTYPE=image/jpeg:https://www.rsdo.org/wp-content/uploads/2018/06/Randonnée-pédestre-2.jpg
END:VEVENT
BEGIN:VEVENT
DTSTART;TZID=America/New_York:20220904T100000
DTEND;TZID=America/New_York:20220904T111500
DTSTAMP:20260420T020942
CREATED:20220906T203949Z
LAST-MODIFIED:20220906T203949Z
UID:10002254-1662285600-1662290100@www.rsdo.org
SUMMARY:Qi Gong
DESCRIPTION:Activité gratuite exclusive aux membres \nEssai gratuit d’une séance pour les non-membres \nInscription requise \nC’est avec grand plaisir que nous retrouverons l’animatrice Luce Desgagné qui vous fera respirer tous ensemble et partager nos meilleures intentions de bien-être. \nLa pratique du Qi Gong ne requiert aucun effort physique et n’exige aucune habileté particulière\, elle s’adresse donc à toutes et à tous. \nDates       Les dimanches 4 et 18 septembre de 10 h à 11 h 15 \n                 Les séances d’octobre et de novembre seront annoncées plus tard cet automne. \nEndroit    Parc Edgewater à Pointe-Claire \n                 Sous le saule pleureur\, à l’entrée du stationnement situé au coin \nsud-est de l’intersection des rues Cartier et Bord-du-Lac \nPour informations et inscription\, veuillez communiquer avec Pauline Debonville à sociale@rsdo.org ou par téléphone au 514-830-1166 ou au 450‑510‑1931.
URL:https://www.rsdo.org/evenements/qi-gong-2/2022-09-04/
LOCATION:Québec
CATEGORIES:Cours
ATTACH;FMTTYPE=image/jpeg:https://www.rsdo.org/wp-content/uploads/2022/08/Qi-Gong-2022.09.04-et-18.jpg
END:VEVENT
END:VCALENDAR