BEGIN:VCALENDAR
VERSION:2.0
PRODID:-//RSDO - ECPv6.15.20//NONSGML v1.0//EN
CALSCALE:GREGORIAN
METHOD:PUBLISH
X-ORIGINAL-URL:https://www.rsdo.org
X-WR-CALDESC:Évènements pour RSDO
REFRESH-INTERVAL;VALUE=DURATION:PT1H
X-Robots-Tag:noindex
X-PUBLISHED-TTL:PT1H
BEGIN:VTIMEZONE
TZID:America/New_York
BEGIN:DAYLIGHT
TZOFFSETFROM:-0500
TZOFFSETTO:-0400
TZNAME:EDT
DTSTART:20210314T070000
END:DAYLIGHT
BEGIN:STANDARD
TZOFFSETFROM:-0400
TZOFFSETTO:-0500
TZNAME:EST
DTSTART:20211107T060000
END:STANDARD
BEGIN:DAYLIGHT
TZOFFSETFROM:-0500
TZOFFSETTO:-0400
TZNAME:EDT
DTSTART:20220313T070000
END:DAYLIGHT
BEGIN:STANDARD
TZOFFSETFROM:-0400
TZOFFSETTO:-0500
TZNAME:EST
DTSTART:20221106T060000
END:STANDARD
BEGIN:DAYLIGHT
TZOFFSETFROM:-0500
TZOFFSETTO:-0400
TZNAME:EDT
DTSTART:20230312T070000
END:DAYLIGHT
BEGIN:STANDARD
TZOFFSETFROM:-0400
TZOFFSETTO:-0500
TZNAME:EST
DTSTART:20231105T060000
END:STANDARD
END:VTIMEZONE
BEGIN:VEVENT
DTSTART;TZID=America/New_York:20220815T093000
DTEND;TZID=America/New_York:20220815T110000
DTSTAMP:20260420T152523
CREATED:20220618T162000Z
LAST-MODIFIED:20220618T162000Z
UID:10002160-1660555800-1660561200@www.rsdo.org
SUMMARY:Marches hebdomadaires - Île-Bizard
DESCRIPTION:Activité gratuite ouverte à tous (non membres bienvenus) \nLe RSDO a deux points de rencontre pour les marches hebdomadaires qui sont ouvertes à toutes et à tous\, quel que soit votre niveau d’activité. Nous demandons aux marcheurs de se présenter au point de rencontre au moins 10 minutes avant le départ. \nLes responsables pour chacun des groupes communiquent avec les participants lors de changements ou d’annulations de l’activité. \nLes marches sont d’une durée de 60 à 90 minutes et le groupe de Vaudreuil-Dorion termine occasionnellement l’activité par une rencontre amicale dans un café ou restaurant. \nPour information générale\, veuillez communiquer avec Pauline Debonville à sociale@rsdo.org ou par téléphone au 450-510-1931 ou auprès du RSDO au 438-390-7736. \nPoint de rencontre : Complexe sportif Saint-Raphaël \nStationnement : Au Complexe sportif\, près du boulevard Jacques-Bizard \nResponsables : Carole Larivière | tél. 514-626-9306 et Gisèle Talbot | tél. 514-620-6652
URL:https://www.rsdo.org/evenements/marches-hebdomadaires-ile-bizard/2022-08-15/
LOCATION:Complexe sportif Saint-Raphaël\, 750\, boul. Jacques-Bizard\, H9C 2Y2\, Île-Bizard\, Québec\, H9C 2Y2\, Canada
CATEGORIES:Ateliers
ATTACH;FMTTYPE=image/jpeg:https://www.rsdo.org/wp-content/uploads/2018/06/Randonnée-parc-ïle-Bizard.jpg
GEO:45.5027065;-73.8776709
X-APPLE-STRUCTURED-LOCATION;VALUE=URI;X-ADDRESS=Complexe sportif Saint-Raphaël 750 boul. Jacques-Bizard H9C 2Y2 Île-Bizard Québec H9C 2Y2 Canada;X-APPLE-RADIUS=500;X-TITLE=750\, boul. Jacques-Bizard\, H9C 2Y2:geo:-73.8776709,45.5027065
END:VEVENT
BEGIN:VEVENT
DTSTART;TZID=America/New_York:20220816T103000
DTEND;TZID=America/New_York:20220816T120000
DTSTAMP:20260420T152523
CREATED:20220618T161415Z
LAST-MODIFIED:20220618T161415Z
UID:10002140-1660645800-1660651200@www.rsdo.org
SUMMARY:Marches hebdomadaires - Vaudreuil-Dorion
DESCRIPTION:Activité gratuite ouverte à tous (non membres bienvenus) \nLe RSDO a deux points de rencontre pour les marches hebdomadaires qui sont ouvertes à toutes et à tous\, quel que soit votre niveau d’activité. Nous demandons aux marcheurs de se présenter au point de rencontre au moins 10 minutes avant le départ. \nLes responsables pour chacun des groupes communiquent avec les participants lors de changements ou d’annulations de l’activité. \nLes marches sont d’une durée de 60 à 90 minutes et le groupe de Vaudreuil-Dorion termine occasionnellement l’activité par une rencontre amicale dans un café ou restaurant. \nPour information générale\, veuillez communiquer avec Pauline Debonville à sociale@rsdo.org ou par téléphone au 450-510-1931 ou auprès du RSDO au 438-390-7736. \nPoint de rencontre : Dans le stationnement de la rue Dumont\, derrière la Tour d’eau \nStationnement : Dans les stationnements voisins de la Tour d’eau \nResponsables : Claire Ménard | tél. 450-218-0967 et Pauline Debonville | tél. 450-510-1931
URL:https://www.rsdo.org/evenements/marches-hebdomadaires-vaudreuil-dorion/2022-08-16/
LOCATION:Tour d’eau Dorion\, Vaudeuil-Dorion\, J7V 1W9
CATEGORIES:Ateliers
ATTACH;FMTTYPE=image/jpeg:https://www.rsdo.org/wp-content/uploads/2018/06/Randonnée-pédestre-2.jpg
END:VEVENT
BEGIN:VEVENT
DTSTART;TZID=America/New_York:20220817T183000
DTEND;TZID=America/New_York:20220817T200000
DTSTAMP:20260420T152523
CREATED:20220211T032011Z
LAST-MODIFIED:20220211T032011Z
UID:10002036-1660761000-1660766400@www.rsdo.org
SUMMARY:Soirées réconfort pour endeuillés
DESCRIPTION:Activité gratuite exclusive aux membres \nInscription obligatoire \nAnimées par Louise Racine\, TRA\, Thérapeute en Relation d’aide®\, ces soirées vous sont proposées par vidéoconférence et s’adressent exclusivement aux personnes vivant un deuil par décès. À savoir : \n\nTout endeuillé par décès (récent ou lointain)\nTout proche\, aidant naturel\, bénévole ou personnel qui écoute ou entoure un endeuillé\n\nLes objectifs de ces rencontres virtuelles sont de vous permettre de briser l’isolement\, d’échanger avec d’autres endeuillés\, de comprendre le processus d’un deuil et de recevoir du réconfort. Veuillez noter que vous pouvez assister à plus d’une rencontre. \nIl est nécessaire de réserver votre place pour chacune des rencontres sur le site du CRAM afin de recevoir l’hyperlien vers la plateforme Zoom pour vous permettre de vous joindre aux groupes: \nhttps://www.cramformation.com/activites-gratuites/soirees-reconfort-pour-endeuilles \nLes rencontres ont lieu de 18 h 30 à 20 h mais le CRAM demande que les participants se branchent dès 18 h pour s’assurer de commencer à l’heure prévue. \nDates des rencontres : \nLes jeudis 17 mars\, 28 avril et 19 mai 2022 \nPour information supplémentaire\, veuillez communiquer avec Sylvie Beaupré au 514-865-4377
URL:https://www.rsdo.org/evenements/soirees-reconfort-endeuilles/2022-08-17/
LOCATION:ZOOM
CATEGORIES:Cours
END:VEVENT
BEGIN:VEVENT
DTSTART;TZID=America/New_York:20220818T093000
DTEND;TZID=America/New_York:20220818T110000
DTSTAMP:20260420T152524
CREATED:20220618T162000Z
LAST-MODIFIED:20220618T162000Z
UID:10002161-1660815000-1660820400@www.rsdo.org
SUMMARY:Marches hebdomadaires - Île-Bizard
DESCRIPTION:Activité gratuite ouverte à tous (non membres bienvenus) \nLe RSDO a deux points de rencontre pour les marches hebdomadaires qui sont ouvertes à toutes et à tous\, quel que soit votre niveau d’activité. Nous demandons aux marcheurs de se présenter au point de rencontre au moins 10 minutes avant le départ. \nLes responsables pour chacun des groupes communiquent avec les participants lors de changements ou d’annulations de l’activité. \nLes marches sont d’une durée de 60 à 90 minutes et le groupe de Vaudreuil-Dorion termine occasionnellement l’activité par une rencontre amicale dans un café ou restaurant. \nPour information générale\, veuillez communiquer avec Pauline Debonville à sociale@rsdo.org ou par téléphone au 450-510-1931 ou auprès du RSDO au 438-390-7736. \nPoint de rencontre : Complexe sportif Saint-Raphaël \nStationnement : Au Complexe sportif\, près du boulevard Jacques-Bizard \nResponsables : Carole Larivière | tél. 514-626-9306 et Gisèle Talbot | tél. 514-620-6652
URL:https://www.rsdo.org/evenements/marches-hebdomadaires-ile-bizard/2022-08-18/
LOCATION:Complexe sportif Saint-Raphaël\, 750\, boul. Jacques-Bizard\, H9C 2Y2\, Île-Bizard\, Québec\, H9C 2Y2\, Canada
CATEGORIES:Ateliers
ATTACH;FMTTYPE=image/jpeg:https://www.rsdo.org/wp-content/uploads/2018/06/Randonnée-parc-ïle-Bizard.jpg
GEO:45.5027065;-73.8776709
X-APPLE-STRUCTURED-LOCATION;VALUE=URI;X-ADDRESS=Complexe sportif Saint-Raphaël 750 boul. Jacques-Bizard H9C 2Y2 Île-Bizard Québec H9C 2Y2 Canada;X-APPLE-RADIUS=500;X-TITLE=750\, boul. Jacques-Bizard\, H9C 2Y2:geo:-73.8776709,45.5027065
END:VEVENT
BEGIN:VEVENT
DTSTART;TZID=America/New_York:20220818T103000
DTEND;TZID=America/New_York:20220818T120000
DTSTAMP:20260420T152524
CREATED:20220618T161415Z
LAST-MODIFIED:20220618T161415Z
UID:10002141-1660818600-1660824000@www.rsdo.org
SUMMARY:Marches hebdomadaires - Vaudreuil-Dorion
DESCRIPTION:Activité gratuite ouverte à tous (non membres bienvenus) \nLe RSDO a deux points de rencontre pour les marches hebdomadaires qui sont ouvertes à toutes et à tous\, quel que soit votre niveau d’activité. Nous demandons aux marcheurs de se présenter au point de rencontre au moins 10 minutes avant le départ. \nLes responsables pour chacun des groupes communiquent avec les participants lors de changements ou d’annulations de l’activité. \nLes marches sont d’une durée de 60 à 90 minutes et le groupe de Vaudreuil-Dorion termine occasionnellement l’activité par une rencontre amicale dans un café ou restaurant. \nPour information générale\, veuillez communiquer avec Pauline Debonville à sociale@rsdo.org ou par téléphone au 450-510-1931 ou auprès du RSDO au 438-390-7736. \nPoint de rencontre : Dans le stationnement de la rue Dumont\, derrière la Tour d’eau \nStationnement : Dans les stationnements voisins de la Tour d’eau \nResponsables : Claire Ménard | tél. 450-218-0967 et Pauline Debonville | tél. 450-510-1931
URL:https://www.rsdo.org/evenements/marches-hebdomadaires-vaudreuil-dorion/2022-08-18/
LOCATION:Tour d’eau Dorion\, Vaudeuil-Dorion\, J7V 1W9
CATEGORIES:Ateliers
ATTACH;FMTTYPE=image/jpeg:https://www.rsdo.org/wp-content/uploads/2018/06/Randonnée-pédestre-2.jpg
END:VEVENT
BEGIN:VEVENT
DTSTART;TZID=America/New_York:20220821T170000
DTEND;TZID=America/New_York:20220821T170000
DTSTAMP:20260420T152524
CREATED:20220603T191555Z
LAST-MODIFIED:20220603T191555Z
UID:10000709-1661101200-1661101200@www.rsdo.org
SUMMARY:Pique-niques du dimanche
DESCRIPTION:Activité gratuite ouverte à tous\nTous les dimanches\, à compter de 17 h\, nous invitons les membres et leurs invités.es à se réunir à l’occasion d’un pique-nique amical.\nChacun apporte sa nourriture et ses breuvages\, une chaise ou une couverture pour un repas partagé en toute convivialité\, dans le parc Jacques-Cardinal à côté de l’Église Ste-Geneviève. \nPour informations\, veuillez communiquer avec Georgianne Landry au 514-626-6176.
URL:https://www.rsdo.org/evenements/pique-niques-dimanche-4/2022-08-21/
LOCATION:Parc Jacques-Cardinal\, 16037\, boulevard Gouin Ouest\,\, Pierrefonds\, Québec\, H9H 2X3\, Canada
CATEGORIES:Ateliers
ATTACH;FMTTYPE=image/jpeg:https://www.rsdo.org/wp-content/uploads/2018/06/Pique-nique-7.jpg
GEO:45.4805517;-73.8725251
X-APPLE-STRUCTURED-LOCATION;VALUE=URI;X-ADDRESS=Parc Jacques-Cardinal 16037 boulevard Gouin Ouest Pierrefonds Québec H9H 2X3 Canada;X-APPLE-RADIUS=500;X-TITLE=16037\, boulevard Gouin Ouest\,:geo:-73.8725251,45.4805517
END:VEVENT
END:VCALENDAR