BEGIN:VCALENDAR
VERSION:2.0
PRODID:-//RSDO - ECPv6.15.20//NONSGML v1.0//EN
CALSCALE:GREGORIAN
METHOD:PUBLISH
X-WR-CALNAME:RSDO
X-ORIGINAL-URL:https://www.rsdo.org
X-WR-CALDESC:Évènements pour RSDO
REFRESH-INTERVAL;VALUE=DURATION:PT1H
X-Robots-Tag:noindex
X-PUBLISHED-TTL:PT1H
BEGIN:VTIMEZONE
TZID:America/New_York
BEGIN:DAYLIGHT
TZOFFSETFROM:-0500
TZOFFSETTO:-0400
TZNAME:EDT
DTSTART:20210314T070000
END:DAYLIGHT
BEGIN:STANDARD
TZOFFSETFROM:-0400
TZOFFSETTO:-0500
TZNAME:EST
DTSTART:20211107T060000
END:STANDARD
BEGIN:DAYLIGHT
TZOFFSETFROM:-0500
TZOFFSETTO:-0400
TZNAME:EDT
DTSTART:20220313T070000
END:DAYLIGHT
BEGIN:STANDARD
TZOFFSETFROM:-0400
TZOFFSETTO:-0500
TZNAME:EST
DTSTART:20221106T060000
END:STANDARD
BEGIN:DAYLIGHT
TZOFFSETFROM:-0500
TZOFFSETTO:-0400
TZNAME:EDT
DTSTART:20230312T070000
END:DAYLIGHT
BEGIN:STANDARD
TZOFFSETFROM:-0400
TZOFFSETTO:-0500
TZNAME:EST
DTSTART:20231105T060000
END:STANDARD
END:VTIMEZONE
BEGIN:VEVENT
DTSTART;TZID=America/New_York:20220808T093000
DTEND;TZID=America/New_York:20220808T110000
DTSTAMP:20260421T014022
CREATED:20220618T162000Z
LAST-MODIFIED:20220618T162000Z
UID:10002158-1659951000-1659956400@www.rsdo.org
SUMMARY:Marches hebdomadaires - Île-Bizard
DESCRIPTION:Activité gratuite ouverte à tous (non membres bienvenus) \nLe RSDO a deux points de rencontre pour les marches hebdomadaires qui sont ouvertes à toutes et à tous\, quel que soit votre niveau d’activité. Nous demandons aux marcheurs de se présenter au point de rencontre au moins 10 minutes avant le départ. \nLes responsables pour chacun des groupes communiquent avec les participants lors de changements ou d’annulations de l’activité. \nLes marches sont d’une durée de 60 à 90 minutes et le groupe de Vaudreuil-Dorion termine occasionnellement l’activité par une rencontre amicale dans un café ou restaurant. \nPour information générale\, veuillez communiquer avec Pauline Debonville à sociale@rsdo.org ou par téléphone au 450-510-1931 ou auprès du RSDO au 438-390-7736. \nPoint de rencontre : Complexe sportif Saint-Raphaël \nStationnement : Au Complexe sportif\, près du boulevard Jacques-Bizard \nResponsables : Carole Larivière | tél. 514-626-9306 et Gisèle Talbot | tél. 514-620-6652
URL:https://www.rsdo.org/evenements/marches-hebdomadaires-ile-bizard/2022-08-08/
LOCATION:Complexe sportif Saint-Raphaël\, 750\, boul. Jacques-Bizard\, H9C 2Y2\, Île-Bizard\, Québec\, H9C 2Y2\, Canada
CATEGORIES:Ateliers
ATTACH;FMTTYPE=image/jpeg:https://www.rsdo.org/wp-content/uploads/2018/06/Randonnée-parc-ïle-Bizard.jpg
GEO:45.5027065;-73.8776709
X-APPLE-STRUCTURED-LOCATION;VALUE=URI;X-ADDRESS=Complexe sportif Saint-Raphaël 750 boul. Jacques-Bizard H9C 2Y2 Île-Bizard Québec H9C 2Y2 Canada;X-APPLE-RADIUS=500;X-TITLE=750\, boul. Jacques-Bizard\, H9C 2Y2:geo:-73.8776709,45.5027065
END:VEVENT
BEGIN:VEVENT
DTSTART;TZID=America/New_York:20220811T093000
DTEND;TZID=America/New_York:20220811T110000
DTSTAMP:20260421T014022
CREATED:20220618T162000Z
LAST-MODIFIED:20220618T162000Z
UID:10002159-1660210200-1660215600@www.rsdo.org
SUMMARY:Marches hebdomadaires - Île-Bizard
DESCRIPTION:Activité gratuite ouverte à tous (non membres bienvenus) \nLe RSDO a deux points de rencontre pour les marches hebdomadaires qui sont ouvertes à toutes et à tous\, quel que soit votre niveau d’activité. Nous demandons aux marcheurs de se présenter au point de rencontre au moins 10 minutes avant le départ. \nLes responsables pour chacun des groupes communiquent avec les participants lors de changements ou d’annulations de l’activité. \nLes marches sont d’une durée de 60 à 90 minutes et le groupe de Vaudreuil-Dorion termine occasionnellement l’activité par une rencontre amicale dans un café ou restaurant. \nPour information générale\, veuillez communiquer avec Pauline Debonville à sociale@rsdo.org ou par téléphone au 450-510-1931 ou auprès du RSDO au 438-390-7736. \nPoint de rencontre : Complexe sportif Saint-Raphaël \nStationnement : Au Complexe sportif\, près du boulevard Jacques-Bizard \nResponsables : Carole Larivière | tél. 514-626-9306 et Gisèle Talbot | tél. 514-620-6652
URL:https://www.rsdo.org/evenements/marches-hebdomadaires-ile-bizard/2022-08-11/
LOCATION:Complexe sportif Saint-Raphaël\, 750\, boul. Jacques-Bizard\, H9C 2Y2\, Île-Bizard\, Québec\, H9C 2Y2\, Canada
CATEGORIES:Ateliers
ATTACH;FMTTYPE=image/jpeg:https://www.rsdo.org/wp-content/uploads/2018/06/Randonnée-parc-ïle-Bizard.jpg
GEO:45.5027065;-73.8776709
X-APPLE-STRUCTURED-LOCATION;VALUE=URI;X-ADDRESS=Complexe sportif Saint-Raphaël 750 boul. Jacques-Bizard H9C 2Y2 Île-Bizard Québec H9C 2Y2 Canada;X-APPLE-RADIUS=500;X-TITLE=750\, boul. Jacques-Bizard\, H9C 2Y2:geo:-73.8776709,45.5027065
END:VEVENT
BEGIN:VEVENT
DTSTART;TZID=America/New_York:20220814T110000
DTEND;TZID=America/New_York:20220814T130000
DTSTAMP:20260421T014022
CREATED:20220602T130139Z
LAST-MODIFIED:20220602T130139Z
UID:10000695-1660474800-1660482000@www.rsdo.org
SUMMARY:Brasserie Le Manoir Lachine
DESCRIPTION:Les brunchs ont lieu aux deux semaines\, les dimanches à 11 h. Pour continuer les bonnes habitudes\, nous vous proposons d’initier des activités ou activités \, si requis sportives après le brunch. \nN’oubliez pas d’en discuter entre vous pendant le brunch afin d’apporter l’équipement adéquat pour la prochaine fois. Veuillez noter que les réservations sont préférables au plus tard le vendredi précédent le brunch. \nRenseignements et réservations : Michel V. au 514 567-4623.
URL:https://www.rsdo.org/evenements/brasserie-manoir-lachine-4/
LOCATION:Brasserie le Manoir de Lachine\, 625 32e Avenue\, Lachine\, Quebec\, H8T 3G6\, Canada
CATEGORIES:Soutien émotionnel
ATTACH;FMTTYPE=image/jpeg:https://www.rsdo.org/wp-content/uploads/2018/01/manoir-4.jpg
GEO:45.4397442;-73.6924252
X-APPLE-STRUCTURED-LOCATION;VALUE=URI;X-ADDRESS=Brasserie le Manoir de Lachine 625 32e Avenue Lachine Quebec H8T 3G6 Canada;X-APPLE-RADIUS=500;X-TITLE=625 32e Avenue:geo:-73.6924252,45.4397442
END:VEVENT
BEGIN:VEVENT
DTSTART;TZID=America/New_York:20220814T170000
DTEND;TZID=America/New_York:20220814T170000
DTSTAMP:20260421T014022
CREATED:20220603T191555Z
LAST-MODIFIED:20220603T191555Z
UID:10000708-1660496400-1660496400@www.rsdo.org
SUMMARY:Pique-niques du dimanche
DESCRIPTION:Activité gratuite ouverte à tous\nTous les dimanches\, à compter de 17 h\, nous invitons les membres et leurs invités.es à se réunir à l’occasion d’un pique-nique amical.\nChacun apporte sa nourriture et ses breuvages\, une chaise ou une couverture pour un repas partagé en toute convivialité\, dans le parc Jacques-Cardinal à côté de l’Église Ste-Geneviève. \nPour informations\, veuillez communiquer avec Georgianne Landry au 514-626-6176.
URL:https://www.rsdo.org/evenements/pique-niques-dimanche-4/2022-08-14/
LOCATION:Parc Jacques-Cardinal\, 16037\, boulevard Gouin Ouest\,\, Pierrefonds\, Québec\, H9H 2X3\, Canada
CATEGORIES:Ateliers
ATTACH;FMTTYPE=image/jpeg:https://www.rsdo.org/wp-content/uploads/2018/06/Pique-nique-7.jpg
GEO:45.4805517;-73.8725251
X-APPLE-STRUCTURED-LOCATION;VALUE=URI;X-ADDRESS=Parc Jacques-Cardinal 16037 boulevard Gouin Ouest Pierrefonds Québec H9H 2X3 Canada;X-APPLE-RADIUS=500;X-TITLE=16037\, boulevard Gouin Ouest\,:geo:-73.8725251,45.4805517
END:VEVENT
END:VCALENDAR