BEGIN:VCALENDAR
VERSION:2.0
PRODID:-//RSDO - ECPv6.15.20//NONSGML v1.0//EN
CALSCALE:GREGORIAN
METHOD:PUBLISH
X-WR-CALNAME:RSDO
X-ORIGINAL-URL:https://www.rsdo.org
X-WR-CALDESC:Évènements pour RSDO
REFRESH-INTERVAL;VALUE=DURATION:PT1H
X-Robots-Tag:noindex
X-PUBLISHED-TTL:PT1H
BEGIN:VTIMEZONE
TZID:America/New_York
BEGIN:DAYLIGHT
TZOFFSETFROM:-0500
TZOFFSETTO:-0400
TZNAME:EDT
DTSTART:20210314T070000
END:DAYLIGHT
BEGIN:STANDARD
TZOFFSETFROM:-0400
TZOFFSETTO:-0500
TZNAME:EST
DTSTART:20211107T060000
END:STANDARD
BEGIN:DAYLIGHT
TZOFFSETFROM:-0500
TZOFFSETTO:-0400
TZNAME:EDT
DTSTART:20220313T070000
END:DAYLIGHT
BEGIN:STANDARD
TZOFFSETFROM:-0400
TZOFFSETTO:-0500
TZNAME:EST
DTSTART:20221106T060000
END:STANDARD
BEGIN:DAYLIGHT
TZOFFSETFROM:-0500
TZOFFSETTO:-0400
TZNAME:EDT
DTSTART:20230312T070000
END:DAYLIGHT
BEGIN:STANDARD
TZOFFSETFROM:-0400
TZOFFSETTO:-0500
TZNAME:EST
DTSTART:20231105T060000
END:STANDARD
END:VTIMEZONE
BEGIN:VEVENT
DTSTART;TZID=America/New_York:20220503T100000
DTEND;TZID=America/New_York:20220503T113000
DTSTAMP:20260421T121125
CREATED:20220302T225105Z
LAST-MODIFIED:20220302T225205Z
UID:10002126-1651572000-1651577400@www.rsdo.org
SUMMARY:YOGA et/ou Musculation
DESCRIPTION:Activité gratuite exclusive aux membres \nEssai gratuit d’un cours pour les non-membres \nLe RSDO vous offre gratuitement des sessions de yoga d’une heure combinées avec de la musculation d’une durée de 30 minutes qui sont animées par Josey Deroy.  Vous avez le choix de prendre part à l’une ou l’autre des activités ou les deux. Il vous faudra apporter : \n\n\n\n·       un tapis\n·       des espadrilles\n\n\n·       des blocs en mousse\n·       un élastique\n\n\n·       une serviette et votre bouteille d’eau\n·       des poids de 2 à 5 kg.\n\n\n\nLes inscriptions se font sur place  \nDates :              Les samedis du 15 janvier au 28 mai 2022 (19 semaines) de 10H à 11H30 \n                         Relâche le 16 avril \n                         10 h 00 à 10 h 30   Musculation \n10 h 30 à 11 h 30    Yoga \n  \nEndroit :           Chalet Roxboro \n                         10\, 11e Avenue H9E 1J7 \nPour information\, veuillez communiquer avec Chantal Mark au 514-696-9408 ou auprès du RSDO au 438-390-7736 \n 
URL:https://www.rsdo.org/evenements/yoga-et-ou-musculation/2022-05-03/
LOCATION:Chalet Roxboro\, 10 11 rue\, Roxboro\, Quebec\, H8Y 2P3\, Canada
CATEGORIES:Cours
ATTACH;FMTTYPE=image/jpeg:https://www.rsdo.org/wp-content/uploads/2022/03/YOGA-Musculation-Hiver-2022-e1646261378207.jpg
GEO:45.5053201;-73.8030777
X-APPLE-STRUCTURED-LOCATION;VALUE=URI;X-ADDRESS=Chalet Roxboro 10 11 rue Roxboro Quebec H8Y 2P3 Canada;X-APPLE-RADIUS=500;X-TITLE=10 11 rue:geo:-73.8030777,45.5053201
END:VEVENT
BEGIN:VEVENT
DTSTART;TZID=America/New_York:20220503T190000
DTEND;TZID=America/New_York:20220503T203000
DTSTAMP:20260421T121126
CREATED:20220302T214335Z
LAST-MODIFIED:20220302T214418Z
UID:10002089-1651604400-1651609800@www.rsdo.org
SUMMARY:CHŒUR DU RSDO
DESCRIPTION:Activité gratuite exclusive aux membres \nEssai gratuit d’une séance pour les non-membres \nAu RSDO\, on continue à briser l’isolement \nen chantant virtuellement ! \nLe directeur de chorale\, Jocelyn Bigras\, poursuit les rencontres de chant virtuellement\, vous permettant de pratiquer avec lui via vos écrans dans le confort de votre foyer.  À partir de chansons connues du répertoire qu’il propose\, Jocelyn vous accompagne au piano ou à l’accordéon. \nEn chantant avec lui\, mais chacun de votre côté\, nous avons quand même la sensation d’être entouré et d’être dans une action de groupe. \nÀ l’occasion\, des montages vidéo sont créés afin de partager l’enthousiasme de la chorale avec tous les membres du RSDO. \n  \nDates :             Les mardis du 11 janvier au 24 mai 2022 (20 semaines) de 19H à 20H30 \nComment :       Virtuellement avec la plateforme Zoom. L’hyperlien pour vous joindre à ces sessions vous sera transmis par courriel. \nPour information\, veuillez communiquer avec Sylvie Beaupré au 514-865-4377 ou à sbeaupre01@hotmail.com
URL:https://www.rsdo.org/evenements/choeur-du-rsdo/2022-05-03/
LOCATION:ZOOM
CATEGORIES:Cours
ATTACH;FMTTYPE=image/jpeg:https://www.rsdo.org/wp-content/uploads/2022/03/Choeur-RSDO-e1646257129683.jpg
END:VEVENT
BEGIN:VEVENT
DTSTART;TZID=America/New_York:20220504T193000
DTEND;TZID=America/New_York:20220504T210000
DTSTAMP:20260421T121126
CREATED:20220121T025346Z
LAST-MODIFIED:20220419T223553Z
UID:10000683-1651692600-1651698000@www.rsdo.org
SUMMARY:Manon Bédard - Un sourire vaut mille mots !
DESCRIPTION:Gratuit pour les membres / 10$ pour les non-membres \nVous avez sans doute entendu cette expression. Que nous le croyions ou pas\, il semble bien\, selon de nombreuses études\, qu’un sourire en vaut effectivement plusieurs ! Dans les faits\, il semble que plus nous sommes optimistes et plus nous sourions facilement\, plus le sourire serait contagieux. \nAlors me voilà\, moi Manon Bédard et mon sourire ! J’ai vu le jour à St‑Tite\, ville officielle du Festival Country. Bien sûr\, dès mon jeune âge\, j’embrasse le rythme entraînant du country qui fait vibrer mon cœur et mon âme. Rapidement\, non seulement dans mon patelin mais aussi par-delà les frontières\, je me fais remarquer pour mon rapide yodle\, mon optimisme et ma joie de vivre. Après presque 25 ans de carrière\, mes contacts privilégiés avec le public me rappellent chaque fois\, combien j’aime contribuer aux petits bonheurs du quotidien tout en essayant de me porter messagère d’espoir pour qui en ressent le besoin et ce\, avec le sourire ! C’est en performance que Manon vous transmettra sa joie de vivre !
URL:https://www.rsdo.org/evenements/5363/
LOCATION:Église Sainte-Geneviève\, 16037\, boul. Gouin\, Ste-Geneviève\, Québec\, H9H 1C7\, Canada
CATEGORIES:Conférences
ATTACH;FMTTYPE=image/jpeg:https://www.rsdo.org/wp-content/uploads/2022/01/Manon-Bédard.jpg
GEO:45.4802657;-73.8719786
X-APPLE-STRUCTURED-LOCATION;VALUE=URI;X-ADDRESS=Église Sainte-Geneviève 16037 boul. Gouin Ste-Geneviève Québec H9H 1C7 Canada;X-APPLE-RADIUS=500;X-TITLE=16037\, boul. Gouin:geo:-73.8719786,45.4802657
END:VEVENT
END:VCALENDAR