BEGIN:VCALENDAR
VERSION:2.0
PRODID:-//RSDO - ECPv6.15.20//NONSGML v1.0//EN
CALSCALE:GREGORIAN
METHOD:PUBLISH
X-ORIGINAL-URL:https://www.rsdo.org
X-WR-CALDESC:Évènements pour RSDO
REFRESH-INTERVAL;VALUE=DURATION:PT1H
X-Robots-Tag:noindex
X-PUBLISHED-TTL:PT1H
BEGIN:VTIMEZONE
TZID:America/New_York
BEGIN:DAYLIGHT
TZOFFSETFROM:-0500
TZOFFSETTO:-0400
TZNAME:EDT
DTSTART:20200308T070000
END:DAYLIGHT
BEGIN:STANDARD
TZOFFSETFROM:-0400
TZOFFSETTO:-0500
TZNAME:EST
DTSTART:20201101T060000
END:STANDARD
BEGIN:DAYLIGHT
TZOFFSETFROM:-0500
TZOFFSETTO:-0400
TZNAME:EDT
DTSTART:20210314T070000
END:DAYLIGHT
BEGIN:STANDARD
TZOFFSETFROM:-0400
TZOFFSETTO:-0500
TZNAME:EST
DTSTART:20211107T060000
END:STANDARD
BEGIN:DAYLIGHT
TZOFFSETFROM:-0500
TZOFFSETTO:-0400
TZNAME:EDT
DTSTART:20220313T070000
END:DAYLIGHT
BEGIN:STANDARD
TZOFFSETFROM:-0400
TZOFFSETTO:-0500
TZNAME:EST
DTSTART:20221106T060000
END:STANDARD
END:VTIMEZONE
BEGIN:VEVENT
DTSTART;TZID=America/New_York:20210913T093000
DTEND;TZID=America/New_York:20210913T110000
DTSTAMP:20260423T183721
CREATED:20210606T001122Z
LAST-MODIFIED:20210909T230605Z
UID:10001881-1631525400-1631530800@www.rsdo.org
SUMMARY:Groupes de marche - Île-Bizard
DESCRIPTION:Pour la période estivale\, le RSDO a deux points de rencontre pour les marches hebdomadaires gratuites d’une durée de 60 à\n75 minutes qui sont ouvertes à tous\, quel que soit votre niveaud’activité. Nous demandons aux marcheurs de se présenter au\npoint de rencontre au moins 10 minutes avant le départ.\nLes responsables pour chacun des groupes communiquentavec les participants lors de changements du lieu de marche\nou d’annulations de l’activité pour cause de mauvais temps. \nDans le Parc nature de l’Île-Bizard\, les lundis et jeudis à 9 h 30\nPoint de rencontre et stationnement au Complexe sportif Saint-Raphaël\, près del’entrée du parc \nResponsable : Carole Larivière | Tél. 514 626-9306
URL:https://www.rsdo.org/evenements/groupes-de-marche-ile-bizard-2/2021-09-13/
LOCATION:Complexe sportif Saint-Raphaël\, 750\, boul. Jacques-Bizard\, H9C 2Y2\, Île-Bizard\, Québec\, H9C 2Y2\, Canada
CATEGORIES:Ateliers
ATTACH;FMTTYPE=image/jpeg:https://www.rsdo.org/wp-content/uploads/2018/06/Randonnée-parc-ïle-Bizard.jpg
GEO:45.5027065;-73.8776709
X-APPLE-STRUCTURED-LOCATION;VALUE=URI;X-ADDRESS=Complexe sportif Saint-Raphaël 750 boul. Jacques-Bizard H9C 2Y2 Île-Bizard Québec H9C 2Y2 Canada;X-APPLE-RADIUS=500;X-TITLE=750\, boul. Jacques-Bizard\, H9C 2Y2:geo:-73.8776709,45.5027065
END:VEVENT
BEGIN:VEVENT
DTSTART;TZID=America/New_York:20210914T103000
DTEND;TZID=America/New_York:20210914T120000
DTSTAMP:20260423T183721
CREATED:20210606T001631Z
LAST-MODIFIED:20210909T230705Z
UID:10001937-1631615400-1631620800@www.rsdo.org
SUMMARY:Groupes de marche - Vaudreuil-Dorion
DESCRIPTION:Pour la période estivale\, le RSDO a deux points de rencontre pour les marches hebdomadaires gratuites d’une durée de 60 à\n75 minutes qui sont ouvertes à tous\, quel que soit votre niveaud’activité. Nous demandons aux marcheurs de se présenter au\npoint de rencontre au moins 10 minutes avant le départ.\nLes responsables pour chacun des groupes communiquentavec les participants lors de changements du lieu de marche\nou d’annulations de l’activité pour cause de mauvais temps. \nÀ Vaudreuil-Dorion\, les mardis et jeudis à 10 h 30\nPoint de rencontre : Dans le stationnement de la rue Dumont\, derrière la Tour d’eau\nStationnement : Dans les stationnements voisins de la Tour d’eau \nResponsables : Pauline Debonville | Tél. 450 510-1931 et\nClaire Ménard | Tél. 450 218-0967
URL:https://www.rsdo.org/evenements/groupes-de-marche-vaudreuil-dorion-8/2021-09-14/
LOCATION:Tour d’eau Dorion\, Vaudeuil-Dorion\, J7V 1W9
CATEGORIES:Ateliers
ATTACH;FMTTYPE=image/jpeg:https://www.rsdo.org/wp-content/uploads/2018/06/Randonnée-pédestre-2.jpg
ORGANIZER;CN="Pauline Debonville":MAILTO:sociale@rsdo.org
END:VEVENT
BEGIN:VEVENT
DTSTART;TZID=America/New_York:20210914T190000
DTEND;TZID=America/New_York:20210914T200000
DTSTAMP:20260423T183721
CREATED:20210904T195618Z
LAST-MODIFIED:20210904T195618Z
UID:10001997-1631646000-1631649600@www.rsdo.org
SUMMARY:Le Choeur du RSDO - Rencontres virtuelles
DESCRIPTION:Au RSDO\, on continue de briser l’isolement en chantant virtuellement !  Notre directeur de chorale\, Jocelyn Bigras\, poursuit les rencontres de chant afin de pratiquer avec lui sur nos écrans de la maison.  À partir de chansons connues du répertoire qu’il nous propose\, Jocelyn s’exécute et nous accompagne au piano ou à l’accordéon. \nNous sommes invités à chanter avec lui\, ensemble\, chacun de notre côté.  L’expérience\, bien que très différente de ce que nous connaissons\, nous apporte la sensation d’être entouré et d’être dans une action de groupe. \nDes montages vidéo seront aussi créés afin de partager notre enthousiasme ! \nCoût : Gratuit pour les membres du RSDO. \nRenseignements : Sylvie Beaupré 514 865-4377 ou sbeaupre01@hotmail.com \nN’hésitez pas si vous avez des questions et au plaisir de chanter ensemble !
URL:https://www.rsdo.org/evenements/choeur-rsdo-rencontres-virtuelles/2021-09-14/
LOCATION:ZOOM
CATEGORIES:Cours
ATTACH;FMTTYPE=image/jpeg:https://www.rsdo.org/wp-content/uploads/2018/01/Chorale-1.jpg
END:VEVENT
BEGIN:VEVENT
DTSTART;TZID=America/New_York:20210915T103000
DTEND;TZID=America/New_York:20210915T113000
DTSTAMP:20260423T183721
CREATED:20210830T130316Z
LAST-MODIFIED:20210830T130625Z
UID:10001981-1631701800-1631705400@www.rsdo.org
SUMMARY:Cours virtuel de zumba
DESCRIPTION:Cette activité gratuite est réservée aux membres et sera transmise virtuellement. \nEssai gratuit d’un cours pour les non-membres; par la suite\, il faut payer la cotisation annuelle de 15$. \nLa Zumba est un programme d’entraînement physique complet\, alliant tous les éléments de la remise en forme : cardio et préparation musculaire\, équilibre et flexibilité. \nLes chorégraphies s’inspirent principalement des danses latines\, mais aussi de styles variés comme la danse du ventre ou la Quebradita. \nLes sessions virtuelles seront animées par la dynamique Jiana Saad. \nAvant le premier cours nous enverrons le lien Zoom à tous les membres du RSDO et vous pourrez utiliser ce même lien pour chaque cours\, durant toute la session.
URL:https://www.rsdo.org/evenements/cours-virtuel-de-zumba/2021-09-15/
LOCATION:ZOOM
CATEGORIES:Cours
ATTACH;FMTTYPE=image/jpeg:https://www.rsdo.org/wp-content/uploads/2020/12/Image-zumba.jpg
END:VEVENT
BEGIN:VEVENT
DTSTART;TZID=America/New_York:20210916T093000
DTEND;TZID=America/New_York:20210916T110000
DTSTAMP:20260423T183721
CREATED:20210606T001122Z
LAST-MODIFIED:20210909T230605Z
UID:10001882-1631784600-1631790000@www.rsdo.org
SUMMARY:Groupes de marche - Île-Bizard
DESCRIPTION:Pour la période estivale\, le RSDO a deux points de rencontre pour les marches hebdomadaires gratuites d’une durée de 60 à\n75 minutes qui sont ouvertes à tous\, quel que soit votre niveaud’activité. Nous demandons aux marcheurs de se présenter au\npoint de rencontre au moins 10 minutes avant le départ.\nLes responsables pour chacun des groupes communiquentavec les participants lors de changements du lieu de marche\nou d’annulations de l’activité pour cause de mauvais temps. \nDans le Parc nature de l’Île-Bizard\, les lundis et jeudis à 9 h 30\nPoint de rencontre et stationnement au Complexe sportif Saint-Raphaël\, près del’entrée du parc \nResponsable : Carole Larivière | Tél. 514 626-9306
URL:https://www.rsdo.org/evenements/groupes-de-marche-ile-bizard-2/2021-09-16/
LOCATION:Complexe sportif Saint-Raphaël\, 750\, boul. Jacques-Bizard\, H9C 2Y2\, Île-Bizard\, Québec\, H9C 2Y2\, Canada
CATEGORIES:Ateliers
ATTACH;FMTTYPE=image/jpeg:https://www.rsdo.org/wp-content/uploads/2018/06/Randonnée-parc-ïle-Bizard.jpg
GEO:45.5027065;-73.8776709
X-APPLE-STRUCTURED-LOCATION;VALUE=URI;X-ADDRESS=Complexe sportif Saint-Raphaël 750 boul. Jacques-Bizard H9C 2Y2 Île-Bizard Québec H9C 2Y2 Canada;X-APPLE-RADIUS=500;X-TITLE=750\, boul. Jacques-Bizard\, H9C 2Y2:geo:-73.8776709,45.5027065
END:VEVENT
BEGIN:VEVENT
DTSTART;TZID=America/New_York:20210916T103000
DTEND;TZID=America/New_York:20210916T120000
DTSTAMP:20260423T183721
CREATED:20210606T001631Z
LAST-MODIFIED:20210909T230705Z
UID:10001938-1631788200-1631793600@www.rsdo.org
SUMMARY:Groupes de marche - Vaudreuil-Dorion
DESCRIPTION:Pour la période estivale\, le RSDO a deux points de rencontre pour les marches hebdomadaires gratuites d’une durée de 60 à\n75 minutes qui sont ouvertes à tous\, quel que soit votre niveaud’activité. Nous demandons aux marcheurs de se présenter au\npoint de rencontre au moins 10 minutes avant le départ.\nLes responsables pour chacun des groupes communiquentavec les participants lors de changements du lieu de marche\nou d’annulations de l’activité pour cause de mauvais temps. \nÀ Vaudreuil-Dorion\, les mardis et jeudis à 10 h 30\nPoint de rencontre : Dans le stationnement de la rue Dumont\, derrière la Tour d’eau\nStationnement : Dans les stationnements voisins de la Tour d’eau \nResponsables : Pauline Debonville | Tél. 450 510-1931 et\nClaire Ménard | Tél. 450 218-0967
URL:https://www.rsdo.org/evenements/groupes-de-marche-vaudreuil-dorion-8/2021-09-16/
LOCATION:Tour d’eau Dorion\, Vaudeuil-Dorion\, J7V 1W9
CATEGORIES:Ateliers
ATTACH;FMTTYPE=image/jpeg:https://www.rsdo.org/wp-content/uploads/2018/06/Randonnée-pédestre-2.jpg
ORGANIZER;CN="Pauline Debonville":MAILTO:sociale@rsdo.org
END:VEVENT
BEGIN:VEVENT
DTSTART;TZID=America/New_York:20210916T193000
DTEND;TZID=America/New_York:20210916T210000
DTSTAMP:20260423T183721
CREATED:20210904T193749Z
LAST-MODIFIED:20210909T222356Z
UID:10001995-1631820600-1631826000@www.rsdo.org
SUMMARY:Portes ouvertes 21-22
DESCRIPTION:Pour sortir de l’isolement le RSDO vous invite à sa soirée «Portes ouvertes» à l’église Ste-Geneviève. \nCette soirée est une occasion de nouer ou de renouer des liens d’amitié et de support entre nouveaux et anciens membres. \nAu programme: \nPrésentation des membres du conseil d’administration\, des bénévoles et de la programmation de l’automne\, ainsi que des prix de présence. \nBienvenue à tous dans le respect des consignes sanitaires!
URL:https://www.rsdo.org/evenements/portes-ouvertes-21-22/
LOCATION:Église Sainte-Geneviève\, 16037\, boul. Gouin\, Ste-Geneviève\, Québec\, H9H 1C7\, Canada
CATEGORIES:Réunions
ATTACH;FMTTYPE=image/jpeg:https://www.rsdo.org/wp-content/uploads/2018/08/IMG_1328.jpg
GEO:45.4802657;-73.8719786
X-APPLE-STRUCTURED-LOCATION;VALUE=URI;X-ADDRESS=Église Sainte-Geneviève 16037 boul. Gouin Ste-Geneviève Québec H9H 1C7 Canada;X-APPLE-RADIUS=500;X-TITLE=16037\, boul. Gouin:geo:-73.8719786,45.4802657
END:VEVENT
BEGIN:VEVENT
DTSTART;TZID=America/New_York:20210918T090000
DTEND;TZID=America/New_York:20210918T100000
DTSTAMP:20260423T183721
CREATED:20210606T000052Z
LAST-MODIFIED:20210911T184133Z
UID:10001850-1631955600-1631959200@www.rsdo.org
SUMMARY:Cours de yoga extérieur
DESCRIPTION:Le RSDO vous offre gratuitement à ses membres un cours de yoga d’une durée d’une heure par semaine\, pour la période estivale.\n\nLes inscriptions et les présences se font sur place. (Maximum de 25 personnes)\n\nPour votre confort\, apportez un tapis\, des blocs de mousse\, serviette et bouteille d’eau\, (facultatif: plastique ou toile de protection à mettre sous le tapis).\n\nEn cas de pluie\, le cours est transmis virtuellement.\n\nDistanciation sociale selon la santé publique.\n\nRenseignements: Chantal 514-696-9408 ou RSDO: 438-390-7736
URL:https://www.rsdo.org/evenements/cours-de-yoga-exterieur/2021-09-18/
LOCATION:Parc Jacques-Cardinal\, 16037\, boulevard Gouin Ouest\,\, Pierrefonds\, Québec\, H9H 2X3\, Canada
CATEGORIES:Cours
ATTACH;FMTTYPE=image/png:https://www.rsdo.org/wp-content/uploads/2021/06/Yoga.png
ORGANIZER;CN="Josey Deroy":MAILTO:josey.yoga.fitness@gmail.com
GEO:45.4805517;-73.8725251
X-APPLE-STRUCTURED-LOCATION;VALUE=URI;X-ADDRESS=Parc Jacques-Cardinal 16037 boulevard Gouin Ouest Pierrefonds Québec H9H 2X3 Canada;X-APPLE-RADIUS=500;X-TITLE=16037\, boulevard Gouin Ouest\,:geo:-73.8725251,45.4805517
END:VEVENT
BEGIN:VEVENT
DTSTART;TZID=America/New_York:20210919T100000
DTEND;TZID=America/New_York:20210919T110000
DTSTAMP:20260423T183721
CREATED:20210823T170859Z
LAST-MODIFIED:20210823T170859Z
UID:10000657-1632045600-1632049200@www.rsdo.org
SUMMARY:Qi Gong en plein air
DESCRIPTION:Pour suivre cet atelier\, il faut être membre du RSDO (un essai gratuit pour les non-membres)\n\nLe Qi Gong (prononcez tchi gong est un ensemble d’exercices énergétiques issus de la médecine traditionnelle chinoise et de la philosophie Taoïste.  Cette pratique rétablit la libre circulation de l’énergie dans les méridiens\, stimulant ainsi le potentiel naturel de guérison et la capacité de faire face au stress.  Les mouvements peuvent se faire debout ou assis ou si vous avez un tapis\, au sol. .  Ils sont doux\, fluides\, souples et faciles d’exécution\, ils améliorent la flexibilité\, la posture\, l’équilibre\, harmonisent les émotions\, apaisent l’esprit\, stimulent et fortifient tout le corps.  Cette pratique s’adresse à tout le monde et s’adapte à toutes les conditions.\nEmmenez votre chaise ou cousin.\nLe rendez-vous sera près d’un très grand saule pleurer à côté du stationnement.\n\nAnimatrice : Luce Desgagné\, enseignante Qi Gong depuis 1998
URL:https://www.rsdo.org/evenements/qi-gong-plein-air-7/
LOCATION:Parc Edgewater\, Pointe-Claire\, Québec\, H9S 4K6\, Canada
CATEGORIES:Cours
ATTACH;FMTTYPE=image/jpeg:https://www.rsdo.org/wp-content/uploads/2019/09/Luce-Desgagnés.jpg
END:VEVENT
END:VCALENDAR