BEGIN:VCALENDAR
VERSION:2.0
PRODID:-//RSDO - ECPv6.15.20//NONSGML v1.0//EN
CALSCALE:GREGORIAN
METHOD:PUBLISH
X-WR-CALNAME:RSDO
X-ORIGINAL-URL:https://www.rsdo.org
X-WR-CALDESC:Évènements pour RSDO
REFRESH-INTERVAL;VALUE=DURATION:PT1H
X-Robots-Tag:noindex
X-PUBLISHED-TTL:PT1H
BEGIN:VTIMEZONE
TZID:America/New_York
BEGIN:DAYLIGHT
TZOFFSETFROM:-0500
TZOFFSETTO:-0400
TZNAME:EDT
DTSTART:20200308T070000
END:DAYLIGHT
BEGIN:STANDARD
TZOFFSETFROM:-0400
TZOFFSETTO:-0500
TZNAME:EST
DTSTART:20201101T060000
END:STANDARD
BEGIN:DAYLIGHT
TZOFFSETFROM:-0500
TZOFFSETTO:-0400
TZNAME:EDT
DTSTART:20210314T070000
END:DAYLIGHT
BEGIN:STANDARD
TZOFFSETFROM:-0400
TZOFFSETTO:-0500
TZNAME:EST
DTSTART:20211107T060000
END:STANDARD
BEGIN:DAYLIGHT
TZOFFSETFROM:-0500
TZOFFSETTO:-0400
TZNAME:EDT
DTSTART:20220313T070000
END:DAYLIGHT
BEGIN:STANDARD
TZOFFSETFROM:-0400
TZOFFSETTO:-0500
TZNAME:EST
DTSTART:20221106T060000
END:STANDARD
END:VTIMEZONE
BEGIN:VEVENT
DTSTART;TZID=America/New_York:20210526T190000
DTEND;TZID=America/New_York:20210526T200000
DTSTAMP:20260424T005738
CREATED:20201226T143359Z
LAST-MODIFIED:20201226T145222Z
UID:10000581-1622055600-1622059200@www.rsdo.org
SUMMARY:Le Choeur du RSDO - Virtuel
DESCRIPTION:Cette activité\, offerte aux membres du RSDO\, est transmise par l’application ZOOM. \nJocelyn Bigras\, le directeur de la chorale\, poursuit les rencontres de chant qui permettent de pratiquer avec lui mais chacun chez soi.  À partir de chansons connues du répertoire qu’il nous propose\, Jocelyn dirige la chorale et nous accompagne au piano ou à l’accordéon. \nVous serez invités(es) à chanter avec lui\, ensemble\, mais chacun(e) de votre côté. \nQuoique différente de l’expérience habituelle\, cette formule donne la sensation d’être entourés(es) et d’être dans une action de groupe. \nDe plus\, des montages vidéo sont aussi créés afin de partager notre enthousiasme. \nLe lien pour joindre la chorale RSDO par ZOOM est transmis par courriel aux participants\, il faut donc s’inscrire à sbeaupré01@hotmail.com \nPour information\, veuillez communiquer avec Sylvie Beaupré au 514 865-4377 ou par courriel à sbeaupre01@hotmail.ca \n  \n  \n 
URL:https://www.rsdo.org/evenements/choeur-rsdo-virtuel/2021-05-26/
LOCATION:ZOOM
CATEGORIES:Cours
END:VEVENT
BEGIN:VEVENT
DTSTART;TZID=America/New_York:20210527T190000
DTEND;TZID=America/New_York:20210527T210000
DTSTAMP:20260424T005738
CREATED:20190925T000726Z
LAST-MODIFIED:20190925T000726Z
UID:10001567-1622142000-1622149200@www.rsdo.org
SUMMARY:Réunion du conseil d'administration
DESCRIPTION:Une période de questions permet aux membres du RSDO de présenter des suggestions ou des idées pouvant enrichir ces soirées. Prendre note cependant que vous n’avez pas droit de vote.
URL:https://www.rsdo.org/evenements/reunion-conseil-dadministration-16/2021-05-27/
LOCATION:Centre communautaire Marcel Morin\, 14068\, boulevard Gouin Ouest\, Pierrefonds\, Québec\, H8Z 1Y1\, Canada
CATEGORIES:Réunions
ATTACH;FMTTYPE=image/jpeg:https://www.rsdo.org/wp-content/uploads/2018/01/Réunion-Silhouettes-Bulles-rondes-1.jpg
GEO:45.4956281;-73.8506691
X-APPLE-STRUCTURED-LOCATION;VALUE=URI;X-ADDRESS=Centre communautaire Marcel Morin 14068 boulevard Gouin Ouest Pierrefonds Québec H8Z 1Y1 Canada;X-APPLE-RADIUS=500;X-TITLE=14068\, boulevard Gouin Ouest:geo:-73.8506691,45.4956281
END:VEVENT
BEGIN:VEVENT
DTSTART;TZID=America/New_York:20210527T190000
DTEND;TZID=America/New_York:20210527T210000
DTSTAMP:20260424T005738
CREATED:20210107T200552Z
LAST-MODIFIED:20210523T152334Z
UID:10000645-1622142000-1622149200@www.rsdo.org
SUMMARY:Réunion du Conseil d'administration
DESCRIPTION:Depuis le début de la pandémie\, les réunions se tiennent de façon virtuelle. \nSi vous souhaitez y participer\, veuillez en informer Pauline Primeau par courriel à tresorier@rsdo.org. \nUne période de questions permet aux membres du RSDO de présenter des suggestions ou des idées pouvant enrichir la mission de l’organisme. Prendre note cependant que les membres n’ont pas de droit de vote.
URL:https://www.rsdo.org/evenements/reunion-conseil-dadministration-33/
LOCATION:ZOOM
CATEGORIES:Réunions
ATTACH;FMTTYPE=image/jpeg:https://www.rsdo.org/wp-content/uploads/2020/09/Réunion-virtuelle-1.jpg
END:VEVENT
BEGIN:VEVENT
DTSTART;TZID=America/New_York:20210530T100000
DTEND;TZID=America/New_York:20210530T111500
DTSTAMP:20260424T005738
CREATED:20201227T010519Z
LAST-MODIFIED:20201227T010519Z
UID:10000592-1622368800-1622373300@www.rsdo.org
SUMMARY:Qi Gong virtuel
DESCRIPTION:Suite aux directives de la Santé publique\, ce cours est offert par ZOOM.\nPour suivre cet atelier\, il faut être membre du RSDO (un essai gratuit pour les non-membres)\n\nLe Qi Gong (prononcez tchi gong est un ensemble d’exercices énergétiques issus de la médecine traditionnelle chinoise et de la philosophie Taoïste.  Cette pratique rétablit la libre circulation de l’énergie dans les méridiens\, stimulant ainsi le potentiel naturel de guérison et la capacité de faire face au stress.  Les mouvements peuvent se faire debout ou assis ou si vous avez un tapis\, au sol. .  Ils sont doux\, fluides\, souples et faciles d’exécution\, ils améliorent la flexibilité\, la posture\, l’équilibre\, harmonisent les émotions\, apaisent l’esprit\, stimulent et fortifient tout le corps.  Cette pratique s’adresse à tout le monde et s’adapte à toutes les conditions.\n\nLe lien sera envoyé avant chaque cours à tous les membres.\nCoût : gratuit pour les membres\nAnimatrice : Luce Desgagné\, enseignante Qi Gong depuis 1998
URL:https://www.rsdo.org/evenements/qi-gong-virtuel-2/2021-05-30/
LOCATION:ZOOM
CATEGORIES:Cours
ATTACH;FMTTYPE=image/jpeg:https://www.rsdo.org/wp-content/uploads/2019/09/Luce-Desgagnés.jpg
END:VEVENT
END:VCALENDAR