BEGIN:VCALENDAR
VERSION:2.0
PRODID:-//RSDO - ECPv6.15.20//NONSGML v1.0//EN
CALSCALE:GREGORIAN
METHOD:PUBLISH
X-ORIGINAL-URL:https://www.rsdo.org
X-WR-CALDESC:Évènements pour RSDO
REFRESH-INTERVAL;VALUE=DURATION:PT1H
X-Robots-Tag:noindex
X-PUBLISHED-TTL:PT1H
BEGIN:VTIMEZONE
TZID:America/New_York
BEGIN:DAYLIGHT
TZOFFSETFROM:-0500
TZOFFSETTO:-0400
TZNAME:EDT
DTSTART:20200308T070000
END:DAYLIGHT
BEGIN:STANDARD
TZOFFSETFROM:-0400
TZOFFSETTO:-0500
TZNAME:EST
DTSTART:20201101T060000
END:STANDARD
BEGIN:DAYLIGHT
TZOFFSETFROM:-0500
TZOFFSETTO:-0400
TZNAME:EDT
DTSTART:20210314T070000
END:DAYLIGHT
BEGIN:STANDARD
TZOFFSETFROM:-0400
TZOFFSETTO:-0500
TZNAME:EST
DTSTART:20211107T060000
END:STANDARD
BEGIN:DAYLIGHT
TZOFFSETFROM:-0500
TZOFFSETTO:-0400
TZNAME:EDT
DTSTART:20220313T070000
END:DAYLIGHT
BEGIN:STANDARD
TZOFFSETFROM:-0400
TZOFFSETTO:-0500
TZNAME:EST
DTSTART:20221106T060000
END:STANDARD
END:VTIMEZONE
BEGIN:VEVENT
DTSTART;TZID=America/New_York:20210323T110000
DTEND;TZID=America/New_York:20210323T120000
DTSTAMP:20260424T052837
CREATED:20201227T014725Z
LAST-MODIFIED:20201227T014725Z
UID:10000632-1616497200-1616500800@www.rsdo.org
SUMMARY:Cours de zumba virtuel
DESCRIPTION:Cette activité gratuite est réservée aux membres et sera transmise virtuellement. \nEssai gratuit d’un cours pour les non-membres \nLa Zumba est un programme d’entraînement physique complet\, alliant tous les éléments de la remise en forme : cardio et préparation musculaire\, équilibre et flexibilité. \nLes chorégraphies s’inspirent principalement des danses latines\, mais aussi de styles variés comme la danse du ventre ou la Quebradita. \nLes sessions virtuelles seront animées par la dynamique Jiana Saad. \nLe lien pour rejoindre le cours virtuellement sera transmis par courriel avant chaque cours aux membres. \nPour information et inscription\, veuillez communiquer avec Sylvie Gagnon à conference@rsdo.org \n  \n 
URL:https://www.rsdo.org/evenements/cours-de-zumba-virtuel/2021-03-23/
LOCATION:ZOOM
CATEGORIES:Cours
ATTACH;FMTTYPE=image/jpeg:https://www.rsdo.org/wp-content/uploads/2020/12/Image-zumba.jpg
END:VEVENT
BEGIN:VEVENT
DTSTART;TZID=America/New_York:20210324T190000
DTEND;TZID=America/New_York:20210324T200000
DTSTAMP:20260424T052837
CREATED:20201226T143359Z
LAST-MODIFIED:20201226T145222Z
UID:10000572-1616612400-1616616000@www.rsdo.org
SUMMARY:Le Choeur du RSDO - Virtuel
DESCRIPTION:Cette activité\, offerte aux membres du RSDO\, est transmise par l’application ZOOM. \nJocelyn Bigras\, le directeur de la chorale\, poursuit les rencontres de chant qui permettent de pratiquer avec lui mais chacun chez soi.  À partir de chansons connues du répertoire qu’il nous propose\, Jocelyn dirige la chorale et nous accompagne au piano ou à l’accordéon. \nVous serez invités(es) à chanter avec lui\, ensemble\, mais chacun(e) de votre côté. \nQuoique différente de l’expérience habituelle\, cette formule donne la sensation d’être entourés(es) et d’être dans une action de groupe. \nDe plus\, des montages vidéo sont aussi créés afin de partager notre enthousiasme. \nLe lien pour joindre la chorale RSDO par ZOOM est transmis par courriel aux participants\, il faut donc s’inscrire à sbeaupré01@hotmail.com \nPour information\, veuillez communiquer avec Sylvie Beaupré au 514 865-4377 ou par courriel à sbeaupre01@hotmail.ca \n  \n  \n 
URL:https://www.rsdo.org/evenements/choeur-rsdo-virtuel/2021-03-24/
LOCATION:ZOOM
CATEGORIES:Cours
END:VEVENT
BEGIN:VEVENT
DTSTART;TZID=America/New_York:20210325T110000
DTEND;TZID=America/New_York:20210325T120000
DTSTAMP:20260424T052837
CREATED:20201227T014725Z
LAST-MODIFIED:20201227T014725Z
UID:10000633-1616670000-1616673600@www.rsdo.org
SUMMARY:Cours de zumba virtuel
DESCRIPTION:Cette activité gratuite est réservée aux membres et sera transmise virtuellement. \nEssai gratuit d’un cours pour les non-membres \nLa Zumba est un programme d’entraînement physique complet\, alliant tous les éléments de la remise en forme : cardio et préparation musculaire\, équilibre et flexibilité. \nLes chorégraphies s’inspirent principalement des danses latines\, mais aussi de styles variés comme la danse du ventre ou la Quebradita. \nLes sessions virtuelles seront animées par la dynamique Jiana Saad. \nLe lien pour rejoindre le cours virtuellement sera transmis par courriel avant chaque cours aux membres. \nPour information et inscription\, veuillez communiquer avec Sylvie Gagnon à conference@rsdo.org \n  \n 
URL:https://www.rsdo.org/evenements/cours-de-zumba-virtuel/2021-03-25/
LOCATION:ZOOM
CATEGORIES:Cours
ATTACH;FMTTYPE=image/jpeg:https://www.rsdo.org/wp-content/uploads/2020/12/Image-zumba.jpg
END:VEVENT
BEGIN:VEVENT
DTSTART;TZID=America/New_York:20210325T140000
DTEND;TZID=America/New_York:20210325T160000
DTSTAMP:20260424T052837
CREATED:20210107T200213Z
LAST-MODIFIED:20210322T223332Z
UID:10000643-1616680800-1616688000@www.rsdo.org
SUMMARY:Réunion du Conseil d'administration
DESCRIPTION:Depuis le début de la pandémie\, les réunions se tiennent de façon virtuelle. \nSi vous souhaitez y participer\, veuillez en informer Pauline Primeau par courriel à tresorier@rsdo.org. \nUne période de questions permet aux membres du RSDO de présenter des suggestions ou des idées pouvant enrichir la mission de l’organisme. Prendre note cependant que les membres n’ont pas de droit de vote.
URL:https://www.rsdo.org/evenements/reunion-conseil-dadministration-31/
LOCATION:ZOOM
CATEGORIES:Réunions
ATTACH;FMTTYPE=image/jpeg:https://www.rsdo.org/wp-content/uploads/2020/09/Réunion-virtuelle-1.jpg
END:VEVENT
BEGIN:VEVENT
DTSTART;TZID=America/New_York:20210325T190000
DTEND;TZID=America/New_York:20210325T210000
DTSTAMP:20260424T052837
CREATED:20190925T000726Z
LAST-MODIFIED:20190925T000726Z
UID:10001565-1616698800-1616706000@www.rsdo.org
SUMMARY:Réunion du conseil d'administration
DESCRIPTION:Une période de questions permet aux membres du RSDO de présenter des suggestions ou des idées pouvant enrichir ces soirées. Prendre note cependant que vous n’avez pas droit de vote.
URL:https://www.rsdo.org/evenements/reunion-conseil-dadministration-16/2021-03-25/
LOCATION:Centre communautaire Marcel Morin\, 14068\, boulevard Gouin Ouest\, Pierrefonds\, Québec\, H8Z 1Y1\, Canada
CATEGORIES:Réunions
ATTACH;FMTTYPE=image/jpeg:https://www.rsdo.org/wp-content/uploads/2018/01/Réunion-Silhouettes-Bulles-rondes-1.jpg
GEO:45.4956281;-73.8506691
X-APPLE-STRUCTURED-LOCATION;VALUE=URI;X-ADDRESS=Centre communautaire Marcel Morin 14068 boulevard Gouin Ouest Pierrefonds Québec H8Z 1Y1 Canada;X-APPLE-RADIUS=500;X-TITLE=14068\, boulevard Gouin Ouest:geo:-73.8506691,45.4956281
END:VEVENT
BEGIN:VEVENT
DTSTART;TZID=America/New_York:20210325T190000
DTEND;TZID=America/New_York:20210325T210000
DTSTAMP:20260424T052837
CREATED:20201228T234836Z
LAST-MODIFIED:20201228T235657Z
UID:10001828-1616698800-1616706000@www.rsdo.org
SUMMARY:Faire le choix du bonheur
DESCRIPTION:Cette conférence sera transmise par ZOOM et le lien sera envoyé par courriel aux membres la veille de l’évènement. \nGratuit pour les membres | 5 $ pour les non-membres – pour informations\, veuillez communiquer avec conference@rsdo.org \nAuteur-compositeur-interprète ayant sept albums à son actif\, Étienne Drapeau vient de publier son premier livre « Faire le choix du bonheur ». Depuis 2004\, il a conquis le public avec ses chansons\, atteignant le numéro un des palmarès à plusieurs reprises. Il participe à des missions humanitaires et présente des centaines de spectacles au Québec et à travers le monde : République Dominicaine\, Cuba\, Argentine\, Maroc\, Éthiopie\, Sénégal\, États-Unis\, France\, etc. Étienne est porte-parole de Ste-Justine au cœur du monde et ambassadeur pour Opération Enfant Soleil. \nAu cours de sa conférence\, Étienne nous dévoilera ses trucs et conseils pratiques pour être heureux et vous parle de la philosophie de vie qu’il a développée pour atteindre le véritable bonheur. « Au début de la vingtaine\, je vivais ce que je croyais être le plus grand échec de ma vie. J’ai ensuite découvert qu’il n’en tenait qu’à moi de faire le choix du bonheur. Désormais\, je n’attends plus d’être heureux pour sourire\, je souris pour être heureux ! ». \nVous pouvez vous procurer une copie dédicacée de son livre en vous rendant à l’adresse suivante :  https://etiennedrapeau.ca \n  \n 
URL:https://www.rsdo.org/evenements/faire-choix-bonheur/
LOCATION:ZOOM
CATEGORIES:Conférences
ATTACH;FMTTYPE=image/jpeg:https://www.rsdo.org/wp-content/uploads/2020/12/Étienne-Drapeau.jpg
END:VEVENT
BEGIN:VEVENT
DTSTART;TZID=America/New_York:20210327T101500
DTEND;TZID=America/New_York:20210327T111500
DTSTAMP:20260424T052837
CREATED:20201227T013005Z
LAST-MODIFIED:20210103T201615Z
UID:10000604-1616840100-1616843700@www.rsdo.org
SUMMARY:Cours de yoga virtuel
DESCRIPTION:Cette activité gratuite est réservée aux membres et sera transmise virtuellement. \nEssai gratuit d’un cours pour les non-membres \nJosey Deroy\, instructrice de yoga depuis de nombreuses années\, poursuivra l’animation des cours de yoga pour le RSDO virtuellement. \nVoici le déroulement du cours:\n– Musculation bras et jambes: 10 minutes\n– Abs/core:10 minutes\n– yoga et étirement: 35 minutes\n– détente: 5 minutes\nPour votre confort au yoga\, prévoyez un tapis\, des blocs en mousse\, une serviette et une bouteille d’eau. \nUn lien sera envoyé à tous les membres avant chaque cours. \nPour information\, veuillez communiquer avec Chantal Mark au 514 696-9408.
URL:https://www.rsdo.org/evenements/cours-de-yoga-virtuel/2021-03-27/
LOCATION:ZOOM
CATEGORIES:Cours
ATTACH;FMTTYPE=image/jpeg:https://www.rsdo.org/wp-content/uploads/2018/09/download-1-1.jpg
ORGANIZER;CN="Josey Deroy":MAILTO:josey.yoga.fitness@gmail.com
END:VEVENT
END:VCALENDAR