BEGIN:VCALENDAR
VERSION:2.0
PRODID:-//RSDO - ECPv6.15.20//NONSGML v1.0//EN
CALSCALE:GREGORIAN
METHOD:PUBLISH
X-ORIGINAL-URL:https://www.rsdo.org
X-WR-CALDESC:Évènements pour RSDO
REFRESH-INTERVAL;VALUE=DURATION:PT1H
X-Robots-Tag:noindex
X-PUBLISHED-TTL:PT1H
BEGIN:VTIMEZONE
TZID:America/New_York
BEGIN:DAYLIGHT
TZOFFSETFROM:-0500
TZOFFSETTO:-0400
TZNAME:EDT
DTSTART:20200308T070000
END:DAYLIGHT
BEGIN:STANDARD
TZOFFSETFROM:-0400
TZOFFSETTO:-0500
TZNAME:EST
DTSTART:20201101T060000
END:STANDARD
BEGIN:DAYLIGHT
TZOFFSETFROM:-0500
TZOFFSETTO:-0400
TZNAME:EDT
DTSTART:20210314T070000
END:DAYLIGHT
BEGIN:STANDARD
TZOFFSETFROM:-0400
TZOFFSETTO:-0500
TZNAME:EST
DTSTART:20211107T060000
END:STANDARD
BEGIN:DAYLIGHT
TZOFFSETFROM:-0500
TZOFFSETTO:-0400
TZNAME:EDT
DTSTART:20220313T070000
END:DAYLIGHT
BEGIN:STANDARD
TZOFFSETFROM:-0400
TZOFFSETTO:-0500
TZNAME:EST
DTSTART:20221106T060000
END:STANDARD
END:VTIMEZONE
BEGIN:VEVENT
DTSTART;TZID=America/New_York:20210223T110000
DTEND;TZID=America/New_York:20210223T120000
DTSTAMP:20260424T094951
CREATED:20201227T014725Z
LAST-MODIFIED:20201227T014725Z
UID:10000624-1614078000-1614081600@www.rsdo.org
SUMMARY:Cours de zumba virtuel
DESCRIPTION:Cette activité gratuite est réservée aux membres et sera transmise virtuellement. \nEssai gratuit d’un cours pour les non-membres \nLa Zumba est un programme d’entraînement physique complet\, alliant tous les éléments de la remise en forme : cardio et préparation musculaire\, équilibre et flexibilité. \nLes chorégraphies s’inspirent principalement des danses latines\, mais aussi de styles variés comme la danse du ventre ou la Quebradita. \nLes sessions virtuelles seront animées par la dynamique Jiana Saad. \nLe lien pour rejoindre le cours virtuellement sera transmis par courriel avant chaque cours aux membres. \nPour information et inscription\, veuillez communiquer avec Sylvie Gagnon à conference@rsdo.org \n  \n 
URL:https://www.rsdo.org/evenements/cours-de-zumba-virtuel/2021-02-23/
LOCATION:ZOOM
CATEGORIES:Cours
ATTACH;FMTTYPE=image/jpeg:https://www.rsdo.org/wp-content/uploads/2020/12/Image-zumba.jpg
END:VEVENT
BEGIN:VEVENT
DTSTART;TZID=America/New_York:20210223T190000
DTEND;TZID=America/New_York:20210223T210000
DTSTAMP:20260424T094951
CREATED:20210114T214704Z
LAST-MODIFIED:20210114T215612Z
UID:10000647-1614106800-1614114000@www.rsdo.org
SUMMARY:Le Monstre
DESCRIPTION:Cette conférence sera transmise par ZOOM et le lien sera envoyé par courriel aux membres la veille de l’évènement. \nGratuit pour les membres | 5 $ pour les non-membres – pour informations\, veuillez communiquer avec conference@rsdo.org \nLe 7 octobre 2015\, la comédienne Ingrid Falaise sort son premier livre. Cinq jours seulement après une sortie très médiatisée\, son livre « Le Monstre » paru aux éditions Libre Expression\, se hisse à la première position de tous les palmarès. \nLe Monstre est un récit bouleversant\, poignant qui n’est pas celui d’une lointaine étrangère… C’est celui d’Ingrid Falaise. Mais\, c’est peut-être aussi celui de votre sœur\, de votre fille\, de votre amie ou même le vôtre. \nPour cette raison\, afin d’entrer en contact avec toutes les « Ingrid » du Québec\, cette dernière a mis sur pied une conférence afin de sensibiliser\, dénoncer et briser le silence sur le tabou qu’est la violence conjugale. \nCette conférence touche autant les hommes\, les femmes que les jeunes\, violentés ou non\, que nous devons conscientiser au respect car « sans respect\, l’amour n’a pas la même couleur » dit Ingrid.
URL:https://www.rsdo.org/evenements/le-monstre/
LOCATION:ZOOM
CATEGORIES:Conférences
ATTACH;FMTTYPE=image/jpeg:https://www.rsdo.org/wp-content/uploads/2021/01/Ingrid-Falaise-1.jpg
END:VEVENT
BEGIN:VEVENT
DTSTART;TZID=America/New_York:20210224T190000
DTEND;TZID=America/New_York:20210224T200000
DTSTAMP:20260424T094951
CREATED:20201226T143359Z
LAST-MODIFIED:20201226T145222Z
UID:10000568-1614193200-1614196800@www.rsdo.org
SUMMARY:Le Choeur du RSDO - Virtuel
DESCRIPTION:Cette activité\, offerte aux membres du RSDO\, est transmise par l’application ZOOM. \nJocelyn Bigras\, le directeur de la chorale\, poursuit les rencontres de chant qui permettent de pratiquer avec lui mais chacun chez soi.  À partir de chansons connues du répertoire qu’il nous propose\, Jocelyn dirige la chorale et nous accompagne au piano ou à l’accordéon. \nVous serez invités(es) à chanter avec lui\, ensemble\, mais chacun(e) de votre côté. \nQuoique différente de l’expérience habituelle\, cette formule donne la sensation d’être entourés(es) et d’être dans une action de groupe. \nDe plus\, des montages vidéo sont aussi créés afin de partager notre enthousiasme. \nLe lien pour joindre la chorale RSDO par ZOOM est transmis par courriel aux participants\, il faut donc s’inscrire à sbeaupré01@hotmail.com \nPour information\, veuillez communiquer avec Sylvie Beaupré au 514 865-4377 ou par courriel à sbeaupre01@hotmail.ca \n  \n  \n 
URL:https://www.rsdo.org/evenements/choeur-rsdo-virtuel/2021-02-24/
LOCATION:ZOOM
CATEGORIES:Cours
END:VEVENT
BEGIN:VEVENT
DTSTART;TZID=America/New_York:20210225T110000
DTEND;TZID=America/New_York:20210225T120000
DTSTAMP:20260424T094951
CREATED:20201227T014725Z
LAST-MODIFIED:20201227T014725Z
UID:10000625-1614250800-1614254400@www.rsdo.org
SUMMARY:Cours de zumba virtuel
DESCRIPTION:Cette activité gratuite est réservée aux membres et sera transmise virtuellement. \nEssai gratuit d’un cours pour les non-membres \nLa Zumba est un programme d’entraînement physique complet\, alliant tous les éléments de la remise en forme : cardio et préparation musculaire\, équilibre et flexibilité. \nLes chorégraphies s’inspirent principalement des danses latines\, mais aussi de styles variés comme la danse du ventre ou la Quebradita. \nLes sessions virtuelles seront animées par la dynamique Jiana Saad. \nLe lien pour rejoindre le cours virtuellement sera transmis par courriel avant chaque cours aux membres. \nPour information et inscription\, veuillez communiquer avec Sylvie Gagnon à conference@rsdo.org \n  \n 
URL:https://www.rsdo.org/evenements/cours-de-zumba-virtuel/2021-02-25/
LOCATION:ZOOM
CATEGORIES:Cours
ATTACH;FMTTYPE=image/jpeg:https://www.rsdo.org/wp-content/uploads/2020/12/Image-zumba.jpg
END:VEVENT
BEGIN:VEVENT
DTSTART;TZID=America/New_York:20210225T140000
DTEND;TZID=America/New_York:20210225T160000
DTSTAMP:20260424T094951
CREATED:20210107T200028Z
LAST-MODIFIED:20210322T223422Z
UID:10000642-1614261600-1614268800@www.rsdo.org
SUMMARY:Réunion du Conseil d'administration
DESCRIPTION:Depuis le début de la pandémie\, les réunions se tiennent de façon virtuelle. \nSi vous souhaitez y participer\, veuillez en informer Pauline Primeau par courriel à tresorier@rsdo.org. \nUne période de questions permet aux membres du RSDO de présenter des suggestions ou des idées pouvant enrichir la mission de l’organisme. Prendre note cependant que les membres n’ont pas de droit de vote.
URL:https://www.rsdo.org/evenements/reunion-conseil-dadministration-30/
LOCATION:ZOOM
CATEGORIES:Réunions
ATTACH;FMTTYPE=image/jpeg:https://www.rsdo.org/wp-content/uploads/2020/09/Réunion-virtuelle-1.jpg
END:VEVENT
BEGIN:VEVENT
DTSTART;TZID=America/New_York:20210225T190000
DTEND;TZID=America/New_York:20210225T210000
DTSTAMP:20260424T094952
CREATED:20190925T000726Z
LAST-MODIFIED:20190925T000726Z
UID:10001564-1614279600-1614286800@www.rsdo.org
SUMMARY:Réunion du conseil d'administration
DESCRIPTION:Une période de questions permet aux membres du RSDO de présenter des suggestions ou des idées pouvant enrichir ces soirées. Prendre note cependant que vous n’avez pas droit de vote.
URL:https://www.rsdo.org/evenements/reunion-conseil-dadministration-16/2021-02-25/
LOCATION:Centre communautaire Marcel Morin\, 14068\, boulevard Gouin Ouest\, Pierrefonds\, Québec\, H8Z 1Y1\, Canada
CATEGORIES:Réunions
ATTACH;FMTTYPE=image/jpeg:https://www.rsdo.org/wp-content/uploads/2018/01/Réunion-Silhouettes-Bulles-rondes-1.jpg
GEO:45.4956281;-73.8506691
X-APPLE-STRUCTURED-LOCATION;VALUE=URI;X-ADDRESS=Centre communautaire Marcel Morin 14068 boulevard Gouin Ouest Pierrefonds Québec H8Z 1Y1 Canada;X-APPLE-RADIUS=500;X-TITLE=14068\, boulevard Gouin Ouest:geo:-73.8506691,45.4956281
END:VEVENT
BEGIN:VEVENT
DTSTART;TZID=America/New_York:20210225T190000
DTEND;TZID=America/New_York:20210225T210000
DTSTAMP:20260424T094952
CREATED:20201228T181615Z
LAST-MODIFIED:20210223T010242Z
UID:10001824-1614279600-1614286800@www.rsdo.org
SUMMARY:L’histoire du Taj Mahal
DESCRIPTION:Cette conférence sera transmise par Youtube et le lien sera envoyé par courriel aux membres la veille de l’évènement. \nGratuit pour les membres | 5 $ pour les non-membres – pour informations\, veuillez communiquer avec conference@rsdo.org \nGuide francophone en Inde du Nord\, Kawar Dnanjai (DK) travaille exclusivement pour les Routes du Monde depuis sa première rencontre avec Robert Bérubé en 2000. Il accompagne tous les groupes en Inde sacrée avec un plaisir renouvelé à chaque fois. Il guide aussi avec plaisir des voyageurs individuels qui ont envie de faire la route en Inde avec lui.  Il aime la langue française\, les expressions québécoises\, tous les gens qui viennent le voir en Inde\, transmettre différentes connaissances comme la mythologie indienne\, les notions de karma\, le mode de vie des Indiens d’aujourd’hui et aussi chanter et faire des blagues avec ses voyageurs ! Mais par-dessus tout\, DK aime sans cesse apprendre des québécois qui viennent en Inde et partager avec eux un moment important de leur vie. \nQuand on pense à l’Inde\, on pense automatiquement au Taj Mahal\, le temple de l’amour. Au premier regard le voyageur tombe en amour avec cette merveille du monde. Ce mausolée tout en marbre blanc\, incrusté de nombreuses pierres précieuses\, change de couleurs du lever au coucher du soleil. Ce monument\, dont la construction a commencé en 1632\, a été achevé en 1648. Plus de 20 000 travailleurs ont contribué à sa création.
URL:https://www.rsdo.org/evenements/lhistoire-taj-mahal/
LOCATION:ZOOM
CATEGORIES:Conférences
ATTACH;FMTTYPE=image/jpeg:https://www.rsdo.org/wp-content/uploads/2020/12/Kawar-Nadjai-1.jpg
END:VEVENT
BEGIN:VEVENT
DTSTART;TZID=America/New_York:20210227T101500
DTEND;TZID=America/New_York:20210227T111500
DTSTAMP:20260424T094952
CREATED:20201227T013005Z
LAST-MODIFIED:20210103T201615Z
UID:10000600-1614420900-1614424500@www.rsdo.org
SUMMARY:Cours de yoga virtuel
DESCRIPTION:Cette activité gratuite est réservée aux membres et sera transmise virtuellement. \nEssai gratuit d’un cours pour les non-membres \nJosey Deroy\, instructrice de yoga depuis de nombreuses années\, poursuivra l’animation des cours de yoga pour le RSDO virtuellement. \nVoici le déroulement du cours:\n– Musculation bras et jambes: 10 minutes\n– Abs/core:10 minutes\n– yoga et étirement: 35 minutes\n– détente: 5 minutes\nPour votre confort au yoga\, prévoyez un tapis\, des blocs en mousse\, une serviette et une bouteille d’eau. \nUn lien sera envoyé à tous les membres avant chaque cours. \nPour information\, veuillez communiquer avec Chantal Mark au 514 696-9408.
URL:https://www.rsdo.org/evenements/cours-de-yoga-virtuel/2021-02-27/
LOCATION:ZOOM
CATEGORIES:Cours
ATTACH;FMTTYPE=image/jpeg:https://www.rsdo.org/wp-content/uploads/2018/09/download-1-1.jpg
ORGANIZER;CN="Josey Deroy":MAILTO:josey.yoga.fitness@gmail.com
END:VEVENT
END:VCALENDAR