BEGIN:VCALENDAR
VERSION:2.0
PRODID:-//RSDO - ECPv6.15.20//NONSGML v1.0//EN
CALSCALE:GREGORIAN
METHOD:PUBLISH
X-WR-CALNAME:RSDO
X-ORIGINAL-URL:https://www.rsdo.org
X-WR-CALDESC:Évènements pour RSDO
REFRESH-INTERVAL;VALUE=DURATION:PT1H
X-Robots-Tag:noindex
X-PUBLISHED-TTL:PT1H
BEGIN:VTIMEZONE
TZID:America/New_York
BEGIN:DAYLIGHT
TZOFFSETFROM:-0500
TZOFFSETTO:-0400
TZNAME:EDT
DTSTART:20200308T070000
END:DAYLIGHT
BEGIN:STANDARD
TZOFFSETFROM:-0400
TZOFFSETTO:-0500
TZNAME:EST
DTSTART:20201101T060000
END:STANDARD
BEGIN:DAYLIGHT
TZOFFSETFROM:-0500
TZOFFSETTO:-0400
TZNAME:EDT
DTSTART:20210314T070000
END:DAYLIGHT
BEGIN:STANDARD
TZOFFSETFROM:-0400
TZOFFSETTO:-0500
TZNAME:EST
DTSTART:20211107T060000
END:STANDARD
BEGIN:DAYLIGHT
TZOFFSETFROM:-0500
TZOFFSETTO:-0400
TZNAME:EDT
DTSTART:20220313T070000
END:DAYLIGHT
BEGIN:STANDARD
TZOFFSETFROM:-0400
TZOFFSETTO:-0500
TZNAME:EST
DTSTART:20221106T060000
END:STANDARD
END:VTIMEZONE
BEGIN:VEVENT
DTSTART;TZID=America/New_York:20210112T110000
DTEND;TZID=America/New_York:20210112T120000
DTSTAMP:20260424T194852
CREATED:20201227T014725Z
LAST-MODIFIED:20201227T014725Z
UID:10000612-1610449200-1610452800@www.rsdo.org
SUMMARY:Cours de zumba virtuel
DESCRIPTION:Cette activité gratuite est réservée aux membres et sera transmise virtuellement. \nEssai gratuit d’un cours pour les non-membres \nLa Zumba est un programme d’entraînement physique complet\, alliant tous les éléments de la remise en forme : cardio et préparation musculaire\, équilibre et flexibilité. \nLes chorégraphies s’inspirent principalement des danses latines\, mais aussi de styles variés comme la danse du ventre ou la Quebradita. \nLes sessions virtuelles seront animées par la dynamique Jiana Saad. \nLe lien pour rejoindre le cours virtuellement sera transmis par courriel avant chaque cours aux membres. \nPour information et inscription\, veuillez communiquer avec Sylvie Gagnon à conference@rsdo.org \n  \n 
URL:https://www.rsdo.org/evenements/cours-de-zumba-virtuel/2021-01-12/
LOCATION:ZOOM
CATEGORIES:Cours
ATTACH;FMTTYPE=image/jpeg:https://www.rsdo.org/wp-content/uploads/2020/12/Image-zumba.jpg
END:VEVENT
BEGIN:VEVENT
DTSTART;TZID=America/New_York:20210113T190000
DTEND;TZID=America/New_York:20210113T200000
DTSTAMP:20260424T194852
CREATED:20201226T143359Z
LAST-MODIFIED:20201226T145222Z
UID:10000562-1610564400-1610568000@www.rsdo.org
SUMMARY:Le Choeur du RSDO - Virtuel
DESCRIPTION:Cette activité\, offerte aux membres du RSDO\, est transmise par l’application ZOOM. \nJocelyn Bigras\, le directeur de la chorale\, poursuit les rencontres de chant qui permettent de pratiquer avec lui mais chacun chez soi.  À partir de chansons connues du répertoire qu’il nous propose\, Jocelyn dirige la chorale et nous accompagne au piano ou à l’accordéon. \nVous serez invités(es) à chanter avec lui\, ensemble\, mais chacun(e) de votre côté. \nQuoique différente de l’expérience habituelle\, cette formule donne la sensation d’être entourés(es) et d’être dans une action de groupe. \nDe plus\, des montages vidéo sont aussi créés afin de partager notre enthousiasme. \nLe lien pour joindre la chorale RSDO par ZOOM est transmis par courriel aux participants\, il faut donc s’inscrire à sbeaupré01@hotmail.com \nPour information\, veuillez communiquer avec Sylvie Beaupré au 514 865-4377 ou par courriel à sbeaupre01@hotmail.ca \n  \n  \n 
URL:https://www.rsdo.org/evenements/choeur-rsdo-virtuel/2021-01-13/
LOCATION:ZOOM
CATEGORIES:Cours
END:VEVENT
BEGIN:VEVENT
DTSTART;TZID=America/New_York:20210114T110000
DTEND;TZID=America/New_York:20210114T120000
DTSTAMP:20260424T194852
CREATED:20201227T014725Z
LAST-MODIFIED:20201227T014725Z
UID:10000613-1610622000-1610625600@www.rsdo.org
SUMMARY:Cours de zumba virtuel
DESCRIPTION:Cette activité gratuite est réservée aux membres et sera transmise virtuellement. \nEssai gratuit d’un cours pour les non-membres \nLa Zumba est un programme d’entraînement physique complet\, alliant tous les éléments de la remise en forme : cardio et préparation musculaire\, équilibre et flexibilité. \nLes chorégraphies s’inspirent principalement des danses latines\, mais aussi de styles variés comme la danse du ventre ou la Quebradita. \nLes sessions virtuelles seront animées par la dynamique Jiana Saad. \nLe lien pour rejoindre le cours virtuellement sera transmis par courriel avant chaque cours aux membres. \nPour information et inscription\, veuillez communiquer avec Sylvie Gagnon à conference@rsdo.org \n  \n 
URL:https://www.rsdo.org/evenements/cours-de-zumba-virtuel/2021-01-14/
LOCATION:ZOOM
CATEGORIES:Cours
ATTACH;FMTTYPE=image/jpeg:https://www.rsdo.org/wp-content/uploads/2020/12/Image-zumba.jpg
END:VEVENT
BEGIN:VEVENT
DTSTART;TZID=America/New_York:20210114T190000
DTEND;TZID=America/New_York:20210114T210000
DTSTAMP:20260424T194852
CREATED:20201227T020235Z
LAST-MODIFIED:20201227T022532Z
UID:10000635-1610650800-1610658000@www.rsdo.org
SUMMARY:Quand l'intuition trace la route
DESCRIPTION:Cette conférence sera transmise par ZOOM et le lien sera envoyé par courriel aux membres la veille de l’évènement. \nGratuit pour les membres | 10 $ pour les non-membres – pour informations\, veuillez communiquer avec conference@rsdo.org \nDepuis plus de 20 ans\, Danièle Henkel est une cheffe de file dans le domaine des affaires et de l’entrepreneuriat au Canada. Fondatrice et présidente-directrice générale des Entreprises Daniele Henkel\, elle met sur le marché des technologies avant-gardistes et non invasives au profit des centres de beauté et de santé. Il y a un an\, elle a lancé une plateforme télévisuelle numérique : danielehenkel.tv. Ce médium est entièrement dédié à outiller les petites et moyennes entreprises et à offrir de la visibilité à tout entrepreneur d’ici et à l’international. \nElle est aussi reconnue pour ses qualités de communicatrice; c’est une des raisons pour laquelle l’émission « Dans l’œil du Dragon » l’a recrutée comme l’une de ses mentors. C’est d’ailleurs ce programme télévisé qui a donné l’occasion au grand public de la découvrir. \nMalgré ses succès\, Danièle Henkel demeure humaine et authentique. Elle avoue candidement que la peur et le doute sont ses plus fidèles compagnons de route. Elle est aussi très attachée à ses racines et à ses valeurs familiales. « Ma plus grande réussite\, c’est ma famille je suis mère de 4 enfants et grand-mère de 7 petits-enfants ». \nNous vivons une situation sans précédent et nos vies personnelles et professionnelles se voient bouleversées. Il est même difficile\, pour plusieurs\, de voir la lumière au bout du tunnel. C’est à travers son parcours et son expérience que madame Henkel échangera avec nous ses points de vue\, qu’elle nous fera réfléchir et voire même\, nous questionner sur\, entre autres\, la capacité à nous adapter à notre réalité et ce besoin criant de nous réinventer.
URL:https://www.rsdo.org/evenements/lintuition-trace-route/
LOCATION:ZOOM
CATEGORIES:Conférences
ATTACH;FMTTYPE=image/jpeg:https://www.rsdo.org/wp-content/uploads/2020/12/Danièle-Henkel-1.jpg
END:VEVENT
BEGIN:VEVENT
DTSTART;TZID=America/New_York:20210116T101500
DTEND;TZID=America/New_York:20210116T111500
DTSTAMP:20260424T194852
CREATED:20201227T013005Z
LAST-MODIFIED:20210103T201615Z
UID:10000594-1610792100-1610795700@www.rsdo.org
SUMMARY:Cours de yoga virtuel
DESCRIPTION:Cette activité gratuite est réservée aux membres et sera transmise virtuellement. \nEssai gratuit d’un cours pour les non-membres \nJosey Deroy\, instructrice de yoga depuis de nombreuses années\, poursuivra l’animation des cours de yoga pour le RSDO virtuellement. \nVoici le déroulement du cours:\n– Musculation bras et jambes: 10 minutes\n– Abs/core:10 minutes\n– yoga et étirement: 35 minutes\n– détente: 5 minutes\nPour votre confort au yoga\, prévoyez un tapis\, des blocs en mousse\, une serviette et une bouteille d’eau. \nUn lien sera envoyé à tous les membres avant chaque cours. \nPour information\, veuillez communiquer avec Chantal Mark au 514 696-9408.
URL:https://www.rsdo.org/evenements/cours-de-yoga-virtuel/2021-01-16/
LOCATION:ZOOM
CATEGORIES:Cours
ATTACH;FMTTYPE=image/jpeg:https://www.rsdo.org/wp-content/uploads/2018/09/download-1-1.jpg
ORGANIZER;CN="Josey Deroy":MAILTO:josey.yoga.fitness@gmail.com
END:VEVENT
END:VCALENDAR