BEGIN:VCALENDAR
VERSION:2.0
PRODID:-//RSDO - ECPv6.15.20//NONSGML v1.0//EN
CALSCALE:GREGORIAN
METHOD:PUBLISH
X-ORIGINAL-URL:https://www.rsdo.org
X-WR-CALDESC:Évènements pour RSDO
REFRESH-INTERVAL;VALUE=DURATION:PT1H
X-Robots-Tag:noindex
X-PUBLISHED-TTL:PT1H
BEGIN:VTIMEZONE
TZID:America/New_York
BEGIN:DAYLIGHT
TZOFFSETFROM:-0500
TZOFFSETTO:-0400
TZNAME:EDT
DTSTART:20190310T070000
END:DAYLIGHT
BEGIN:STANDARD
TZOFFSETFROM:-0400
TZOFFSETTO:-0500
TZNAME:EST
DTSTART:20191103T060000
END:STANDARD
BEGIN:DAYLIGHT
TZOFFSETFROM:-0500
TZOFFSETTO:-0400
TZNAME:EDT
DTSTART:20200308T070000
END:DAYLIGHT
BEGIN:STANDARD
TZOFFSETFROM:-0400
TZOFFSETTO:-0500
TZNAME:EST
DTSTART:20201101T060000
END:STANDARD
BEGIN:DAYLIGHT
TZOFFSETFROM:-0500
TZOFFSETTO:-0400
TZNAME:EDT
DTSTART:20210314T070000
END:DAYLIGHT
BEGIN:STANDARD
TZOFFSETFROM:-0400
TZOFFSETTO:-0500
TZNAME:EST
DTSTART:20211107T060000
END:STANDARD
END:VTIMEZONE
BEGIN:VEVENT
DTSTART;TZID=America/New_York:20201005T093000
DTEND;TZID=America/New_York:20201005T110000
DTSTAMP:20260424T231220
CREATED:20200928T220948Z
LAST-MODIFIED:20201115T010833Z
UID:10000491-1601890200-1601895600@www.rsdo.org
SUMMARY:Groupes de marche - Île-Bizard - Annulés - COVID 19
DESCRIPTION:En accord avec les directives de Santé Québec stipulant que les rassemblements extérieurs comme intérieurs sont interdits\, les groupes de marches sont annulés. \nLe RSDO a trois points de rencontre pour les marches hebdomadaires gratuites d’une durée de 60 à 75 minutes qui sont ouvertes à tous\, quel que soit votre niveau d’activité.  Nous demandons aux marcheurs de se présenter au point de rencontre au moins 10 minutes avant le départ. \nLes responsables pour chacun des groupes communiquent avec les participants lors de changements du lieu de marche ou d’annulations de l’activité pour cause de mauvais temps. \nÀ la fin de l’activité\, des marcheurs ont l’habitude de se rendre dans un établissement à proximité pour prendre un café ou un repas. \nPour informations générales\, veuillez communiquer avec Gisèle Talbot au 514 620-6652 \nPoint de rencontre :  Complexe sportif Saint-Raphaël; stationnement près de l’entrée du parc nature. \nResponsable :  Carole Larivière | Tél. 514 626-9306
URL:https://www.rsdo.org/evenements/marches-ile-bizard-2020-09-24/2020-10-05/
LOCATION:Complexe sportif Saint-Raphaël\, 750\, boul. Jacques-Bizard\, H9C 2Y2\, Île-Bizard\, Québec\, H9C 2Y2\, Canada
CATEGORIES:Ateliers
ATTACH;FMTTYPE=image/jpeg:https://www.rsdo.org/wp-content/uploads/2018/06/Randonnée-parc-ïle-Bizard.jpg
GEO:45.5027065;-73.8776709
X-APPLE-STRUCTURED-LOCATION;VALUE=URI;X-ADDRESS=Complexe sportif Saint-Raphaël 750 boul. Jacques-Bizard H9C 2Y2 Île-Bizard Québec H9C 2Y2 Canada;X-APPLE-RADIUS=500;X-TITLE=750\, boul. Jacques-Bizard\, H9C 2Y2:geo:-73.8776709,45.5027065
END:VEVENT
BEGIN:VEVENT
DTSTART;TZID=America/New_York:20201006T103000
DTEND;TZID=America/New_York:20201006T120000
DTSTAMP:20260424T231220
CREATED:20200928T222350Z
LAST-MODIFIED:20201115T010241Z
UID:10000538-1601980200-1601985600@www.rsdo.org
SUMMARY:Groupes de marche - Vaudreuil-Dorion - Annulés - COVID 19
DESCRIPTION:En accord avec les directives de Santé Québec stipulant que les rassemblements extérieurs comme intérieurs sont interdits\, les groupes de marches sont annulés. \nLe RSDO a trois points de rencontre pour les marches hebdomadaires gratuites d’une durée de 60 à 75 minutes qui sont ouvertes à tous\, quel que soit votre niveau d’activité.  Nous demandons aux marcheurs de se présenter au point de rencontre au moins 10 minutes avant le départ. \nLes responsables pour chacun des groupes communiquent avec les participants lors de changements du lieu de marche ou d’annulations de l’activité pour cause de mauvais temps. \nÀ la fin de l’activité\, des marcheurs ont l’habitude de se rendre dans un établissement à proximité pour prendre un café ou un repas. \nPour informations générales\, veuillez communiquer avec Gisèle Talbot au 514 620-6652 \nPoint de rencontre :   Dans le stationnement de la rue Dumont\, derrière la Tour d’eau \nStationnement :  Dans les stationnements voisins de la Tour d’eau \nResponsables :   Claire Ménard | Tél. 450 218-0967\, et \nPauline Debonville | Tél.  450 510-1931\, et \nViateur Bradley | Tél. 450 455-1014
URL:https://www.rsdo.org/evenements/groupes-de-marche-vaudreuil-dorion-7-2020-09-24/2020-10-06/
LOCATION:Tour d’eau Dorion\, Vaudeuil-Dorion\, J7V 1W9
CATEGORIES:Ateliers
ATTACH;FMTTYPE=image/jpeg:https://www.rsdo.org/wp-content/uploads/2018/06/Randonnée-pédestre-2.jpg
END:VEVENT
BEGIN:VEVENT
DTSTART;TZID=America/New_York:20201007T190000
DTEND;TZID=America/New_York:20201007T200000
DTSTAMP:20260424T231220
CREATED:20200922T160357Z
LAST-MODIFIED:20200922T160357Z
UID:10000469-1602097200-1602100800@www.rsdo.org
SUMMARY:Le choeur du RSDO
DESCRIPTION:Gratuit pour les membres. \nAu RSDO\, on brise l’isolement en chantant virtuellement !  Notre directeur de chorale\, Jocelyn Bigras\, poursuit les rencontres de chant afin de pratiquer avec lui sur nos écrans de la maison.  À partir de chansons connues du répertoire qu’il nous propose\, Jocelyn s’exécute et nous accompagne au piano ou à l’accordéon. \nNous sommes invités à chanter avec lui\, ensemble\, chacun de notre côté.  L’expérience\, bien que très différente de ce que nous connaissons\, nous apporte la sensation d’être entouré et d’être dans une action de groupe. \nDes montages vidéo seront aussi créés afin de partager notre enthousiasme ! \nLa chorale du RSDO utilise l’application ZOOM. Lorsque vous en faites la demande\, un courriel est envoyé avec le lien. \nRenseignements : Sylvie Beaupré 514 865-4377
URL:https://www.rsdo.org/evenements/le-choeur-du-rsdo-6/2020-10-07/
LOCATION:Québec
CATEGORIES:Cours
END:VEVENT
BEGIN:VEVENT
DTSTART;TZID=America/New_York:20201008T093000
DTEND;TZID=America/New_York:20201008T110000
DTSTAMP:20260424T231220
CREATED:20200928T220948Z
LAST-MODIFIED:20201115T010833Z
UID:10000492-1602149400-1602154800@www.rsdo.org
SUMMARY:Groupes de marche - Île-Bizard - Annulés - COVID 19
DESCRIPTION:En accord avec les directives de Santé Québec stipulant que les rassemblements extérieurs comme intérieurs sont interdits\, les groupes de marches sont annulés. \nLe RSDO a trois points de rencontre pour les marches hebdomadaires gratuites d’une durée de 60 à 75 minutes qui sont ouvertes à tous\, quel que soit votre niveau d’activité.  Nous demandons aux marcheurs de se présenter au point de rencontre au moins 10 minutes avant le départ. \nLes responsables pour chacun des groupes communiquent avec les participants lors de changements du lieu de marche ou d’annulations de l’activité pour cause de mauvais temps. \nÀ la fin de l’activité\, des marcheurs ont l’habitude de se rendre dans un établissement à proximité pour prendre un café ou un repas. \nPour informations générales\, veuillez communiquer avec Gisèle Talbot au 514 620-6652 \nPoint de rencontre :  Complexe sportif Saint-Raphaël; stationnement près de l’entrée du parc nature. \nResponsable :  Carole Larivière | Tél. 514 626-9306
URL:https://www.rsdo.org/evenements/marches-ile-bizard-2020-09-24/2020-10-08/
LOCATION:Complexe sportif Saint-Raphaël\, 750\, boul. Jacques-Bizard\, H9C 2Y2\, Île-Bizard\, Québec\, H9C 2Y2\, Canada
CATEGORIES:Ateliers
ATTACH;FMTTYPE=image/jpeg:https://www.rsdo.org/wp-content/uploads/2018/06/Randonnée-parc-ïle-Bizard.jpg
GEO:45.5027065;-73.8776709
X-APPLE-STRUCTURED-LOCATION;VALUE=URI;X-ADDRESS=Complexe sportif Saint-Raphaël 750 boul. Jacques-Bizard H9C 2Y2 Île-Bizard Québec H9C 2Y2 Canada;X-APPLE-RADIUS=500;X-TITLE=750\, boul. Jacques-Bizard\, H9C 2Y2:geo:-73.8776709,45.5027065
END:VEVENT
BEGIN:VEVENT
DTSTART;TZID=America/New_York:20201008T103000
DTEND;TZID=America/New_York:20201008T120000
DTSTAMP:20260424T231220
CREATED:20200928T222350Z
LAST-MODIFIED:20201115T010241Z
UID:10000539-1602153000-1602158400@www.rsdo.org
SUMMARY:Groupes de marche - Vaudreuil-Dorion - Annulés - COVID 19
DESCRIPTION:En accord avec les directives de Santé Québec stipulant que les rassemblements extérieurs comme intérieurs sont interdits\, les groupes de marches sont annulés. \nLe RSDO a trois points de rencontre pour les marches hebdomadaires gratuites d’une durée de 60 à 75 minutes qui sont ouvertes à tous\, quel que soit votre niveau d’activité.  Nous demandons aux marcheurs de se présenter au point de rencontre au moins 10 minutes avant le départ. \nLes responsables pour chacun des groupes communiquent avec les participants lors de changements du lieu de marche ou d’annulations de l’activité pour cause de mauvais temps. \nÀ la fin de l’activité\, des marcheurs ont l’habitude de se rendre dans un établissement à proximité pour prendre un café ou un repas. \nPour informations générales\, veuillez communiquer avec Gisèle Talbot au 514 620-6652 \nPoint de rencontre :   Dans le stationnement de la rue Dumont\, derrière la Tour d’eau \nStationnement :  Dans les stationnements voisins de la Tour d’eau \nResponsables :   Claire Ménard | Tél. 450 218-0967\, et \nPauline Debonville | Tél.  450 510-1931\, et \nViateur Bradley | Tél. 450 455-1014
URL:https://www.rsdo.org/evenements/groupes-de-marche-vaudreuil-dorion-7-2020-09-24/2020-10-08/
LOCATION:Tour d’eau Dorion\, Vaudeuil-Dorion\, J7V 1W9
CATEGORIES:Ateliers
ATTACH;FMTTYPE=image/jpeg:https://www.rsdo.org/wp-content/uploads/2018/06/Randonnée-pédestre-2.jpg
END:VEVENT
BEGIN:VEVENT
DTSTART;TZID=America/New_York:20201008T193000
DTEND;TZID=America/New_York:20201008T213000
DTSTAMP:20260424T231220
CREATED:20200928T214431Z
LAST-MODIFIED:20201001T143234Z
UID:10000480-1602185400-1602192600@www.rsdo.org
SUMMARY:Oser un nouveau monde
DESCRIPTION:Suite aux directives de la Santé publique\, cette conférence est annulée. \nGratuit pour les membres | 5 $ pour les non-membres \nDaniel Bertolino est cinéaste et conférencier depuis l’âge de 17 ans.  Ses films\, pour l’essentiel des documentaires\, ont été tournés et distribués sur tous les continents.  Les distinctions suivantes lui ont été accordées : Officier de l’Ordre national du Québec en 2017\, Membre de l’Ordre du Canada en 2015.  Les Prix du Québec-Prix Guy-Mauffette en 2013. \nOser un nouveau monde est un documentaire qui raconte l’histoire de femmes qui ont osé\, les Religieuses Hospitalières de Saint-Joseph.  Arrivées au début de la colonie\, elles ont contribué à édifier le système de santé au Québec.  Avec une grande humilité\, elles ont soigné la population tout en formant des générations d’infirmières.  Un voyage dans le temps qui permettra au public de revivre également cette époque qui fut marquée par la création de Ville-Marie par Jeanne Mance et le Sieur de Maisonneuve\, en 1642. \n 
URL:https://www.rsdo.org/evenements/oser-nouveau-monde/
LOCATION:Le Grenier\, 571\, rue Cherrier\, Île-Bizard\, Québec\, H9E 1J7\, Canada
CATEGORIES:Conférences
ATTACH;FMTTYPE=image/jpeg:https://www.rsdo.org/wp-content/uploads/2019/09/daniel-bertolino.jpg
GEO:45.4853816;-73.8807703
X-APPLE-STRUCTURED-LOCATION;VALUE=URI;X-ADDRESS=Le Grenier 571 rue Cherrier Île-Bizard Québec H9E 1J7 Canada;X-APPLE-RADIUS=500;X-TITLE=571\, rue Cherrier:geo:-73.8807703,45.4853816
END:VEVENT
BEGIN:VEVENT
DTSTART;TZID=America/New_York:20201010T100000
DTEND;TZID=America/New_York:20201010T113000
DTSTAMP:20260424T231220
CREATED:20200909T000156Z
LAST-MODIFIED:20201001T144020Z
UID:10001782-1602324000-1602329400@www.rsdo.org
SUMMARY:Cours de conditionnement physique et de yoga
DESCRIPTION:Suite aux directives de la Santé publique\, ce cours est annulé. \nPour suivre ce cours\, il faut être membre du RSDO\, sauf pour le 1er cours. \nLe RSDO vous offre gratuitement un cours de yoga d’une heure combiné avec le conditionnement physique d’une durée de 30 minutes. Vous avez le choix de faire l’un ou l’autre ou les deux. \nConditionnement physique de 10h à 10h30 \nYoga de 10h30 à 11h30 \nInstructrice : Josey Deroy \nPour votre confort au yoga\, apportez un tapis\, des blocs en mousse\, serviette et bouteille d’eau. \nPour le conditionnement physique\, des espadrilles et des poids de 2 à 5 kg. \nInscription sur place. \nDirectives pour le respect des consignes de la santé publique du Québec : \n\nLe lavage des mains est nécessaire avant et après l’activité\, et s’il y a lieu après la toilette (désinfectant fourni sur place).\nLe port du masque est obligatoire lors de vos déplacements dans la salle; vous pourrez l’enlever lorsque vous êtes à votre tapis.\nDistanciation de 2 mètres.\nLe vestiaire ne sera pas disponible\, mais une chaise sera attribuée à chaque personne. \nL’entrée de la salle se fera par la porte du côté vestiaire\, et la sortie par la porte de derrière qui donne sur le stationnement.\nUn maximum de 20 personnes est limité pour ce cours.\n\nRenseignements : Chantal 514-696-9408 ou RSDO 438-390-7736 \n 
URL:https://www.rsdo.org/evenements/cours-de-conditionnement-physique-de-yoga-5/2020-10-10/
LOCATION:Chalet Roxboro\, 10 11 rue\, Roxboro\, Quebec\, H8Y 2P3\, Canada
CATEGORIES:Cours
ATTACH;FMTTYPE=image/jpeg:https://www.rsdo.org/wp-content/uploads/2018/09/download-1-1.jpg
ORGANIZER;CN="Josey Deroy":MAILTO:josey.yoga.fitness@gmail.com
GEO:45.5053201;-73.8030777
X-APPLE-STRUCTURED-LOCATION;VALUE=URI;X-ADDRESS=Chalet Roxboro 10 11 rue Roxboro Quebec H8Y 2P3 Canada;X-APPLE-RADIUS=500;X-TITLE=10 11 rue:geo:-73.8030777,45.5053201
END:VEVENT
BEGIN:VEVENT
DTSTART;TZID=America/New_York:20201010T100000
DTEND;TZID=America/New_York:20201010T113000
DTSTAMP:20260424T231221
CREATED:20200928T221827Z
LAST-MODIFIED:20201115T011443Z
UID:10000518-1602324000-1602329400@www.rsdo.org
SUMMARY:Groupes de marche - Lachine - Annulés - COVID 19
DESCRIPTION:En accord avec les directives de Santé Québec stipulant que les rassemblements extérieurs comme intérieurs sont interdits\, les groupes de marches sont annulés. \nLe RSDO a trois points de rencontre pour les marches hebdomadaires gratuites d’une durée de 60 à 75 minutes qui sont ouvertes à tous\, quel que soit votre niveau d’activité.  Nous demandons aux marcheurs de se présenter au point de rencontre au moins 10 minutes avant le départ. \nLes responsables pour chacun des groupes communiquent avec les participants lors de changements du lieu de marche ou d’annulations de l’activité pour cause de mauvais temps. \nÀ la fin de l’activité\, des marcheurs ont l’habitude de se rendre dans un établissement à proximité pour prendre un café ou un repas. \nPour informations générales\, veuillez communiquer avec Gisèle Talbot au 514 620-6652 \nPoint de rencontre :  Devant le Dairy Queen sur le bord de l’eau \nStationnement :  Sur les rues avoisinantes où le stationnement est permis \nResponsable : Deana Gauthier | Tél. 514 575-2844
URL:https://www.rsdo.org/evenements/groupes-de-marche-lachine-5-2020-09-12-2020-09-26/2020-10-10/
LOCATION:Dairy Queen Lachine\, 3210\, boul. Saint-Joseph\, Lachine\, Québec\, H8T 1P4\, Canada
CATEGORIES:Ateliers
ATTACH;FMTTYPE=image/jpeg:https://www.rsdo.org/wp-content/uploads/2018/06/Randonnée-Lachine.jpg
GEO:45.4338847;-73.6923329
X-APPLE-STRUCTURED-LOCATION;VALUE=URI;X-ADDRESS=Dairy Queen Lachine 3210 boul. Saint-Joseph Lachine Québec H8T 1P4 Canada;X-APPLE-RADIUS=500;X-TITLE=3210\, boul. Saint-Joseph:geo:-73.6923329,45.4338847
END:VEVENT
END:VCALENDAR