BEGIN:VCALENDAR
VERSION:2.0
PRODID:-//RSDO - ECPv6.15.20//NONSGML v1.0//EN
CALSCALE:GREGORIAN
METHOD:PUBLISH
X-WR-CALNAME:RSDO
X-ORIGINAL-URL:https://www.rsdo.org
X-WR-CALDESC:Évènements pour RSDO
REFRESH-INTERVAL;VALUE=DURATION:PT1H
X-Robots-Tag:noindex
X-PUBLISHED-TTL:PT1H
BEGIN:VTIMEZONE
TZID:America/New_York
BEGIN:DAYLIGHT
TZOFFSETFROM:-0500
TZOFFSETTO:-0400
TZNAME:EDT
DTSTART:20190310T070000
END:DAYLIGHT
BEGIN:STANDARD
TZOFFSETFROM:-0400
TZOFFSETTO:-0500
TZNAME:EST
DTSTART:20191103T060000
END:STANDARD
BEGIN:DAYLIGHT
TZOFFSETFROM:-0500
TZOFFSETTO:-0400
TZNAME:EDT
DTSTART:20200308T070000
END:DAYLIGHT
BEGIN:STANDARD
TZOFFSETFROM:-0400
TZOFFSETTO:-0500
TZNAME:EST
DTSTART:20201101T060000
END:STANDARD
BEGIN:DAYLIGHT
TZOFFSETFROM:-0500
TZOFFSETTO:-0400
TZNAME:EDT
DTSTART:20210314T070000
END:DAYLIGHT
BEGIN:STANDARD
TZOFFSETFROM:-0400
TZOFFSETTO:-0500
TZNAME:EST
DTSTART:20211107T060000
END:STANDARD
END:VTIMEZONE
BEGIN:VEVENT
DTSTART;TZID=America/New_York:20200907T093000
DTEND;TZID=America/New_York:20200907T110000
DTSTAMP:20260424T232206
CREATED:20200928T220948Z
LAST-MODIFIED:20200928T221322Z
UID:10000482-1599471000-1599476400@www.rsdo.org
SUMMARY:Groupes de marche - Île-Bizard
DESCRIPTION:Le RSDO a trois points de rencontre pour les marches hebdomadaires gratuites d’une durée de 60 à 75 minutes qui sont ouvertes à tous\, quel que soit votre niveau d’activité.  Nous demandons aux marcheurs de se présenter au point de rencontre au moins 10 minutes avant le départ. \nLes responsables pour chacun des groupes communiquent avec les participants lors de changements du lieu de marche ou d’annulations de l’activité pour cause de mauvais temps. \nÀ la fin de l’activité\, des marcheurs ont l’habitude de se rendre dans un établissement à proximité pour prendre un café ou un repas. \nPour informations générales\, veuillez communiquer avec Gisèle Talbot au 514 620-6652 \nPoint de rencontre :  Complexe sportif Saint-Raphaël; stationnement près de l’entrée du parc nature. \nResponsable :  Carole Larivière | Tél. 514 626-9306
URL:https://www.rsdo.org/evenements/marches-ile-bizard/2020-09-07/
LOCATION:Complexe sportif Saint-Raphaël\, 750\, boul. Jacques-Bizard\, H9C 2Y2\, Île-Bizard\, Québec\, H9C 2Y2\, Canada
CATEGORIES:Ateliers
ATTACH;FMTTYPE=image/jpeg:https://www.rsdo.org/wp-content/uploads/2018/06/Randonnée-parc-ïle-Bizard.jpg
GEO:45.5027065;-73.8776709
X-APPLE-STRUCTURED-LOCATION;VALUE=URI;X-ADDRESS=Complexe sportif Saint-Raphaël 750 boul. Jacques-Bizard H9C 2Y2 Île-Bizard Québec H9C 2Y2 Canada;X-APPLE-RADIUS=500;X-TITLE=750\, boul. Jacques-Bizard\, H9C 2Y2:geo:-73.8776709,45.5027065
END:VEVENT
BEGIN:VEVENT
DTSTART;TZID=America/New_York:20200908T103000
DTEND;TZID=America/New_York:20200908T120000
DTSTAMP:20260424T232206
CREATED:20200928T222350Z
LAST-MODIFIED:20200928T222350Z
UID:10000529-1599561000-1599566400@www.rsdo.org
SUMMARY:Groupes de marche - Vaudreuil-Dorion
DESCRIPTION:Le RSDO a trois points de rencontre pour les marches hebdomadaires gratuites d’une durée de 60 à 75 minutes qui sont ouvertes à tous\, quel que soit votre niveau d’activité.  Nous demandons aux marcheurs de se présenter au point de rencontre au moins 10 minutes avant le départ. \nLes responsables pour chacun des groupes communiquent avec les participants lors de changements du lieu de marche ou d’annulations de l’activité pour cause de mauvais temps. \nÀ la fin de l’activité\, des marcheurs ont l’habitude de se rendre dans un établissement à proximité pour prendre un café ou un repas. \nPour informations générales\, veuillez communiquer avec Gisèle Talbot au 514 620-6652 \nPoint de rencontre :   Dans le stationnement de la rue Dumont\, derrière la Tour d’eau \nStationnement :  Dans les stationnements voisins de la Tour d’eau \nResponsables :   Claire Ménard | Tél. 450 218-0967\, et \nPauline Debonville | Tél.  450 510-1931\, et \nViateur Bradley | Tél. 450 455-1014
URL:https://www.rsdo.org/evenements/groupes-de-marche-vaudreuil-dorion-7/2020-09-08/
LOCATION:Tour d’eau Dorion\, Vaudeuil-Dorion\, J7V 1W9
CATEGORIES:Ateliers
ATTACH;FMTTYPE=image/jpeg:https://www.rsdo.org/wp-content/uploads/2018/06/Randonnée-pédestre-2.jpg
END:VEVENT
BEGIN:VEVENT
DTSTART;TZID=America/New_York:20200909T190000
DTEND;TZID=America/New_York:20200909T200000
DTSTAMP:20260424T232206
CREATED:20200922T160357Z
LAST-MODIFIED:20200922T160357Z
UID:10000465-1599678000-1599681600@www.rsdo.org
SUMMARY:Le choeur du RSDO
DESCRIPTION:Gratuit pour les membres. \nAu RSDO\, on brise l’isolement en chantant virtuellement !  Notre directeur de chorale\, Jocelyn Bigras\, poursuit les rencontres de chant afin de pratiquer avec lui sur nos écrans de la maison.  À partir de chansons connues du répertoire qu’il nous propose\, Jocelyn s’exécute et nous accompagne au piano ou à l’accordéon. \nNous sommes invités à chanter avec lui\, ensemble\, chacun de notre côté.  L’expérience\, bien que très différente de ce que nous connaissons\, nous apporte la sensation d’être entouré et d’être dans une action de groupe. \nDes montages vidéo seront aussi créés afin de partager notre enthousiasme ! \nLa chorale du RSDO utilise l’application ZOOM. Lorsque vous en faites la demande\, un courriel est envoyé avec le lien. \nRenseignements : Sylvie Beaupré 514 865-4377
URL:https://www.rsdo.org/evenements/le-choeur-du-rsdo-6/2020-09-09/
LOCATION:Québec
CATEGORIES:Cours
END:VEVENT
BEGIN:VEVENT
DTSTART;TZID=America/New_York:20200910T093000
DTEND;TZID=America/New_York:20200910T110000
DTSTAMP:20260424T232206
CREATED:20200928T220948Z
LAST-MODIFIED:20200928T221322Z
UID:10000483-1599730200-1599735600@www.rsdo.org
SUMMARY:Groupes de marche - Île-Bizard
DESCRIPTION:Le RSDO a trois points de rencontre pour les marches hebdomadaires gratuites d’une durée de 60 à 75 minutes qui sont ouvertes à tous\, quel que soit votre niveau d’activité.  Nous demandons aux marcheurs de se présenter au point de rencontre au moins 10 minutes avant le départ. \nLes responsables pour chacun des groupes communiquent avec les participants lors de changements du lieu de marche ou d’annulations de l’activité pour cause de mauvais temps. \nÀ la fin de l’activité\, des marcheurs ont l’habitude de se rendre dans un établissement à proximité pour prendre un café ou un repas. \nPour informations générales\, veuillez communiquer avec Gisèle Talbot au 514 620-6652 \nPoint de rencontre :  Complexe sportif Saint-Raphaël; stationnement près de l’entrée du parc nature. \nResponsable :  Carole Larivière | Tél. 514 626-9306
URL:https://www.rsdo.org/evenements/marches-ile-bizard/2020-09-10/
LOCATION:Complexe sportif Saint-Raphaël\, 750\, boul. Jacques-Bizard\, H9C 2Y2\, Île-Bizard\, Québec\, H9C 2Y2\, Canada
CATEGORIES:Ateliers
ATTACH;FMTTYPE=image/jpeg:https://www.rsdo.org/wp-content/uploads/2018/06/Randonnée-parc-ïle-Bizard.jpg
GEO:45.5027065;-73.8776709
X-APPLE-STRUCTURED-LOCATION;VALUE=URI;X-ADDRESS=Complexe sportif Saint-Raphaël 750 boul. Jacques-Bizard H9C 2Y2 Île-Bizard Québec H9C 2Y2 Canada;X-APPLE-RADIUS=500;X-TITLE=750\, boul. Jacques-Bizard\, H9C 2Y2:geo:-73.8776709,45.5027065
END:VEVENT
BEGIN:VEVENT
DTSTART;TZID=America/New_York:20200910T103000
DTEND;TZID=America/New_York:20200910T120000
DTSTAMP:20260424T232206
CREATED:20200928T222350Z
LAST-MODIFIED:20200928T222350Z
UID:10000530-1599733800-1599739200@www.rsdo.org
SUMMARY:Groupes de marche - Vaudreuil-Dorion
DESCRIPTION:Le RSDO a trois points de rencontre pour les marches hebdomadaires gratuites d’une durée de 60 à 75 minutes qui sont ouvertes à tous\, quel que soit votre niveau d’activité.  Nous demandons aux marcheurs de se présenter au point de rencontre au moins 10 minutes avant le départ. \nLes responsables pour chacun des groupes communiquent avec les participants lors de changements du lieu de marche ou d’annulations de l’activité pour cause de mauvais temps. \nÀ la fin de l’activité\, des marcheurs ont l’habitude de se rendre dans un établissement à proximité pour prendre un café ou un repas. \nPour informations générales\, veuillez communiquer avec Gisèle Talbot au 514 620-6652 \nPoint de rencontre :   Dans le stationnement de la rue Dumont\, derrière la Tour d’eau \nStationnement :  Dans les stationnements voisins de la Tour d’eau \nResponsables :   Claire Ménard | Tél. 450 218-0967\, et \nPauline Debonville | Tél.  450 510-1931\, et \nViateur Bradley | Tél. 450 455-1014
URL:https://www.rsdo.org/evenements/groupes-de-marche-vaudreuil-dorion-7/2020-09-10/
LOCATION:Tour d’eau Dorion\, Vaudeuil-Dorion\, J7V 1W9
CATEGORIES:Ateliers
ATTACH;FMTTYPE=image/jpeg:https://www.rsdo.org/wp-content/uploads/2018/06/Randonnée-pédestre-2.jpg
END:VEVENT
BEGIN:VEVENT
DTSTART;TZID=America/New_York:20200912T100000
DTEND;TZID=America/New_York:20200912T110000
DTSTAMP:20260424T232206
CREATED:20200909T002219Z
LAST-MODIFIED:20200909T002219Z
UID:10001794-1599904800-1599908400@www.rsdo.org
SUMMARY:Cours de yoga à l'extérieur de l'été 2020 - prolongation
DESCRIPTION:Pour les membres seulement\nLe RSDO vous offre gratuitement un cours de yoga d’une durée d’une heure pour la période estivale\, soit les samedis du 4 Juillet au 29 août\, avec votre intructrice habituelle\, Josey Deroy.\nLes inscriptions et les présences se feront sur place.\nPour votre confort\, apporter un tapis\, des blocs de mousse\, serviette et bouteille d’eau\, (facultatif: plastique ou toile de protection à mettre sous le tapis).\nVeuillez noter que les règles de distanciation sociale seront respectées.\n\nEn cas de pluie\, le cours sera automatiquement annulé.\nRenseignements: Chantal 514-696-9408 ou RSDO: 438-390-7736
URL:https://www.rsdo.org/evenements/cours-de-yoga-a-lexterieur-de-lete-2020-prolongation/2020-09-12/
LOCATION:Parc Jacques-Cardinal\, 16037\, boulevard Gouin Ouest\,\, Pierrefonds\, Québec\, H9H 2X3\, Canada
CATEGORIES:Cours
ATTACH;FMTTYPE=image/jpeg:https://www.rsdo.org/wp-content/uploads/2020/07/Yoga-extérieur-3-b.jpg
ORGANIZER;CN="Josey Deroy":MAILTO:josey.yoga.fitness@gmail.com
GEO:45.4805517;-73.8725251
X-APPLE-STRUCTURED-LOCATION;VALUE=URI;X-ADDRESS=Parc Jacques-Cardinal 16037 boulevard Gouin Ouest Pierrefonds Québec H9H 2X3 Canada;X-APPLE-RADIUS=500;X-TITLE=16037\, boulevard Gouin Ouest\,:geo:-73.8725251,45.4805517
END:VEVENT
BEGIN:VEVENT
DTSTART;TZID=America/New_York:20200912T100000
DTEND;TZID=America/New_York:20200912T113000
DTSTAMP:20260424T232206
CREATED:20200928T221827Z
LAST-MODIFIED:20201115T011334Z
UID:10000513-1599904800-1599910200@www.rsdo.org
SUMMARY:Groupes de marche - Lachine
DESCRIPTION:Le RSDO a trois points de rencontre pour les marches hebdomadaires gratuites d’une durée de 60 à 75 minutes qui sont ouvertes à tous\, quel que soit votre niveau d’activité.  Nous demandons aux marcheurs de se présenter au point de rencontre au moins 10 minutes avant le départ. \nLes responsables pour chacun des groupes communiquent avec les participants lors de changements du lieu de marche ou d’annulations de l’activité pour cause de mauvais temps. \nÀ la fin de l’activité\, des marcheurs ont l’habitude de se rendre dans un établissement à proximité pour prendre un café ou un repas. \nPour informations générales\, veuillez communiquer avec Gisèle Talbot au 514 620-6652 \nPoint de rencontre :  Devant le Dairy Queen sur le bord de l’eau \nStationnement :  Sur les rues avoisinantes où le stationnement est permis \nResponsable : Deana Gauthier | Tél. 514 575-2844
URL:https://www.rsdo.org/evenements/groupes-de-marche-lachine-5-2020-09-12/2020-09-12/
LOCATION:Dairy Queen Lachine\, 3210\, boul. Saint-Joseph\, Lachine\, Québec\, H8T 1P4\, Canada
CATEGORIES:Ateliers
ATTACH;FMTTYPE=image/jpeg:https://www.rsdo.org/wp-content/uploads/2018/06/Randonnée-Lachine.jpg
GEO:45.4338847;-73.6923329
X-APPLE-STRUCTURED-LOCATION;VALUE=URI;X-ADDRESS=Dairy Queen Lachine 3210 boul. Saint-Joseph Lachine Québec H8T 1P4 Canada;X-APPLE-RADIUS=500;X-TITLE=3210\, boul. Saint-Joseph:geo:-73.6923329,45.4338847
END:VEVENT
END:VCALENDAR