BEGIN:VCALENDAR
VERSION:2.0
PRODID:-//RSDO - ECPv6.15.20//NONSGML v1.0//EN
CALSCALE:GREGORIAN
METHOD:PUBLISH
X-ORIGINAL-URL:https://www.rsdo.org
X-WR-CALDESC:Évènements pour RSDO
REFRESH-INTERVAL;VALUE=DURATION:PT1H
X-Robots-Tag:noindex
X-PUBLISHED-TTL:PT1H
BEGIN:VTIMEZONE
TZID:America/New_York
BEGIN:DAYLIGHT
TZOFFSETFROM:-0500
TZOFFSETTO:-0400
TZNAME:EDT
DTSTART:20190310T070000
END:DAYLIGHT
BEGIN:STANDARD
TZOFFSETFROM:-0400
TZOFFSETTO:-0500
TZNAME:EST
DTSTART:20191103T060000
END:STANDARD
BEGIN:DAYLIGHT
TZOFFSETFROM:-0500
TZOFFSETTO:-0400
TZNAME:EDT
DTSTART:20200308T070000
END:DAYLIGHT
BEGIN:STANDARD
TZOFFSETFROM:-0400
TZOFFSETTO:-0500
TZNAME:EST
DTSTART:20201101T060000
END:STANDARD
BEGIN:DAYLIGHT
TZOFFSETFROM:-0500
TZOFFSETTO:-0400
TZNAME:EDT
DTSTART:20210314T070000
END:DAYLIGHT
BEGIN:STANDARD
TZOFFSETFROM:-0400
TZOFFSETTO:-0500
TZNAME:EST
DTSTART:20211107T060000
END:STANDARD
END:VTIMEZONE
BEGIN:VEVENT
DTSTART;TZID=America/New_York:20200824T093000
DTEND;TZID=America/New_York:20200824T103000
DTSTAMP:20260424T231225
CREATED:20200716T172053Z
LAST-MODIFIED:20200716T172053Z
UID:10000460-1598261400-1598265000@www.rsdo.org
SUMMARY:Groupes de marche - Île-Bizard
DESCRIPTION:Le RSDO a trois points de rencontre pour les marches hebdomadaires qui sont d’une durée d’une heure et sont ouvertes à tous\, quel que soit votre niveau de forme physique.  Nous demandons aux marcheurs de se présenter au point de rencontre au moins 10 minutes avant le départ. \nLes responsables pour chacun des groupes communiquent avec les participants lors de changements du lieu de marche ou d’annulations de l’activité pour cause de mauvais temps. \nÀ la fin de l’activité\, les marcheurs ont l’habitude de se rendre dans un établissement à proximité pour prendre un café ou un repas. \nPoint de rencontre :      Complexe Sportif St-Raphaël \nStationnement :            Stationnement du complexe \nResponsable :              Carole Larivière | Tél. 514 626-9306
URL:https://www.rsdo.org/evenements/groupes-de-marche-ile-bizard/2020-08-24/
LOCATION:Complexe sportif Saint-Raphaël\, 750\, boul. Jacques-Bizard\, H9C 2Y2\, Île-Bizard\, Québec\, H9C 2Y2\, Canada
CATEGORIES:Ateliers
ATTACH;FMTTYPE=image/jpeg:https://www.rsdo.org/wp-content/uploads/2018/06/Randonnée-parc-ïle-Bizard.jpg
GEO:45.5027065;-73.8776709
X-APPLE-STRUCTURED-LOCATION;VALUE=URI;X-ADDRESS=Complexe sportif Saint-Raphaël 750 boul. Jacques-Bizard H9C 2Y2 Île-Bizard Québec H9C 2Y2 Canada;X-APPLE-RADIUS=500;X-TITLE=750\, boul. Jacques-Bizard\, H9C 2Y2:geo:-73.8776709,45.5027065
END:VEVENT
BEGIN:VEVENT
DTSTART;TZID=America/New_York:20200826T190000
DTEND;TZID=America/New_York:20200826T203000
DTSTAMP:20260424T231225
CREATED:20200703T205810Z
LAST-MODIFIED:20200716T174911Z
UID:10000441-1598468400-1598473800@www.rsdo.org
SUMMARY:Chorale virtuelle estivale
DESCRIPTION:Pour les membres seulement.\nLe RSDO offre des ateliers de chorale virtuels tous les mercredi soirs avec l’application gratuite ZOOM pour les mois de juillet et août 2020 avec le directeur/accompagnateur Jocelyn Bigras.\nÀ noter qu’il n’y aura pas de chorale les 5 et 12 août.\nRenseignements: Pauline Primeau au 514-465-3428 
URL:https://www.rsdo.org/evenements/chorale-virtuelle-estivale/2020-08-26/
LOCATION:Québec
CATEGORIES:Cours
END:VEVENT
BEGIN:VEVENT
DTSTART;TZID=America/New_York:20200827T093000
DTEND;TZID=America/New_York:20200827T103000
DTSTAMP:20260424T231225
CREATED:20200716T172053Z
LAST-MODIFIED:20200716T172053Z
UID:10000461-1598520600-1598524200@www.rsdo.org
SUMMARY:Groupes de marche - Île-Bizard
DESCRIPTION:Le RSDO a trois points de rencontre pour les marches hebdomadaires qui sont d’une durée d’une heure et sont ouvertes à tous\, quel que soit votre niveau de forme physique.  Nous demandons aux marcheurs de se présenter au point de rencontre au moins 10 minutes avant le départ. \nLes responsables pour chacun des groupes communiquent avec les participants lors de changements du lieu de marche ou d’annulations de l’activité pour cause de mauvais temps. \nÀ la fin de l’activité\, les marcheurs ont l’habitude de se rendre dans un établissement à proximité pour prendre un café ou un repas. \nPoint de rencontre :      Complexe Sportif St-Raphaël \nStationnement :            Stationnement du complexe \nResponsable :              Carole Larivière | Tél. 514 626-9306
URL:https://www.rsdo.org/evenements/groupes-de-marche-ile-bizard/2020-08-27/
LOCATION:Complexe sportif Saint-Raphaël\, 750\, boul. Jacques-Bizard\, H9C 2Y2\, Île-Bizard\, Québec\, H9C 2Y2\, Canada
CATEGORIES:Ateliers
ATTACH;FMTTYPE=image/jpeg:https://www.rsdo.org/wp-content/uploads/2018/06/Randonnée-parc-ïle-Bizard.jpg
GEO:45.5027065;-73.8776709
X-APPLE-STRUCTURED-LOCATION;VALUE=URI;X-ADDRESS=Complexe sportif Saint-Raphaël 750 boul. Jacques-Bizard H9C 2Y2 Île-Bizard Québec H9C 2Y2 Canada;X-APPLE-RADIUS=500;X-TITLE=750\, boul. Jacques-Bizard\, H9C 2Y2:geo:-73.8776709,45.5027065
END:VEVENT
BEGIN:VEVENT
DTSTART;TZID=America/New_York:20200827T103000
DTEND;TZID=America/New_York:20200827T113000
DTSTAMP:20260424T231225
CREATED:20200716T174143Z
LAST-MODIFIED:20200716T174143Z
UID:10001771-1598524200-1598527800@www.rsdo.org
SUMMARY:Groupes de marche - Vaudreuil-Dorion
DESCRIPTION:Le RSDO a trois points de rencontre pour les marches hebdomadaires qui sont d’une durée d’une heure et sont ouvertes à tous\, quel que soit votre niveau de forme physique.  Nous demandons aux marcheurs de se présenter au point de rencontre au moins 10 minutes avant le départ. \nLes responsables pour chacun des groupes communiquent avec les participants lors de changements du lieu de marche ou d’annulations de l’activité pour cause de mauvais temps. \nÀ la fin de l’activité\, les marcheurs ont l’habitude de se rendre dans un établissement à proximité pour prendre un café ou un repas. \nPoint de rencontre :      Dans le stationnement de la rue Dumont\, derrière la Tour d’eau \nStationnement :            Dans les stationnements voisins de la Tour d’eau \nResponsables :            Claire Ménard | Tél. 450 218-0967\, et \nPauline Debonville | Tél.  450 510-1931\, et \nViateur Bradley | Tél. 450 455-1014
URL:https://www.rsdo.org/evenements/groupes-de-marche-vaudreuil-dorion-6/2020-08-27/
LOCATION:Tour d’eau Dorion\, Vaudeuil-Dorion\, J7V 1W9
CATEGORIES:Ateliers
ATTACH;FMTTYPE=image/jpeg:https://www.rsdo.org/wp-content/uploads/2018/06/Randonnée-pédestre-2.jpg
END:VEVENT
BEGIN:VEVENT
DTSTART;TZID=America/New_York:20200827T190000
DTEND;TZID=America/New_York:20200827T210000
DTSTAMP:20260424T231225
CREATED:20190925T000726Z
LAST-MODIFIED:20190925T000726Z
UID:10001558-1598554800-1598562000@www.rsdo.org
SUMMARY:Réunion du conseil d'administration
DESCRIPTION:Une période de questions permet aux membres du RSDO de présenter des suggestions ou des idées pouvant enrichir ces soirées. Prendre note cependant que vous n’avez pas droit de vote.
URL:https://www.rsdo.org/evenements/reunion-conseil-dadministration-16/2020-08-27/
LOCATION:Centre communautaire Marcel Morin\, 14068\, boulevard Gouin Ouest\, Pierrefonds\, Québec\, H8Z 1Y1\, Canada
CATEGORIES:Réunions
ATTACH;FMTTYPE=image/jpeg:https://www.rsdo.org/wp-content/uploads/2018/01/Réunion-Silhouettes-Bulles-rondes-1.jpg
GEO:45.4956281;-73.8506691
X-APPLE-STRUCTURED-LOCATION;VALUE=URI;X-ADDRESS=Centre communautaire Marcel Morin 14068 boulevard Gouin Ouest Pierrefonds Québec H8Z 1Y1 Canada;X-APPLE-RADIUS=500;X-TITLE=14068\, boulevard Gouin Ouest:geo:-73.8506691,45.4956281
END:VEVENT
BEGIN:VEVENT
DTSTART;TZID=America/New_York:20200829T100000
DTEND;TZID=America/New_York:20200829T110000
DTSTAMP:20260424T231225
CREATED:20200716T172953Z
LAST-MODIFIED:20201115T011118Z
UID:10000448-1598695200-1598698800@www.rsdo.org
SUMMARY:Groupes de marche - Lachine
DESCRIPTION:Le RSDO a trois points de rencontre pour les marches hebdomadaires qui sont d’une durée d’une heure et sont ouvertes à tous\, quel que soit votre niveau de forme physique.  Nous demandons aux marcheurs de se présenter au point de rencontre au moins 10 minutes avant le départ. \nLes responsables pour chacun des groupes communiquent avec les participants lors de changements du lieu de marche ou d’annulations de l’activité pour cause de mauvais temps. \nÀ la fin de l’activité\, les marcheurs ont l’habitude de se rendre dans un établissement à proximité pour prendre un café ou un repas. \nPoint de rencontre :      Sur le boulevard St-Joseph\, près de la 32e avenue\, sur le bord de l’eau\, devant le Dairy Queen \nStationnement :            Sur les rues avoisinantes où le stationnement est permis \nResponsable :              Deana Gauthier-Calder | Tél. 514 575-2844 \n 
URL:https://www.rsdo.org/evenements/groupes-de-marche-lachine-4/2020-08-29/
LOCATION:Dairy Queen Lachine\, 3210\, boul. Saint-Joseph\, Lachine\, Québec\, H8T 1P4\, Canada
CATEGORIES:Ateliers
ATTACH;FMTTYPE=image/jpeg:https://www.rsdo.org/wp-content/uploads/2018/06/Randonnée-Lachine.jpg
GEO:45.4338847;-73.6923329
X-APPLE-STRUCTURED-LOCATION;VALUE=URI;X-ADDRESS=Dairy Queen Lachine 3210 boul. Saint-Joseph Lachine Québec H8T 1P4 Canada;X-APPLE-RADIUS=500;X-TITLE=3210\, boul. Saint-Joseph:geo:-73.6923329,45.4338847
END:VEVENT
BEGIN:VEVENT
DTSTART;TZID=America/New_York:20200829T100000
DTEND;TZID=America/New_York:20200829T110000
DTSTAMP:20260424T231225
CREATED:20200909T002626Z
LAST-MODIFIED:20200928T222839Z
UID:10001805-1598695200-1598698800@www.rsdo.org
SUMMARY:Cours de yoga à l'extérieur pendant l'été 2020
DESCRIPTION:Pour les membres seulement\nLe RSDO vous offre gratuitement un cours de yoga d’une durée d’une heure pour la période estivale\, soit les samedis du 4 Juillet au 29 août\, avec votre intructrice habituelle\, Josey Deroy.\nLes inscriptions et les présences se feront sur place.\nPour votre confort\, apporter un tapis\, des blocs de mousse\, serviette et bouteille d’eau\, (facultatif: plastique ou toile de protection à mettre sous le tapis).\nVeuillez noter que les règles de distanciation sociale seront respectées.\n\nEn cas de pluie\, le cours sera automatiquement annulé.\nRenseignements: Chantal 514-696-9408 ou RSDO: 438-390-7736
URL:https://www.rsdo.org/evenements/cours-de-yoga-a-lexterieur-pendant-lete-2020-2/2020-08-29/
LOCATION:Parc Jacques-Cardinal\, 16037\, boulevard Gouin Ouest\,\, Pierrefonds\, Québec\, H9H 2X3\, Canada
CATEGORIES:Cours
ATTACH;FMTTYPE=image/jpeg:https://www.rsdo.org/wp-content/uploads/2020/07/Yoga-extérieur-3-b.jpg
ORGANIZER;CN="Josey Deroy":MAILTO:josey.yoga.fitness@gmail.com
GEO:45.4805517;-73.8725251
X-APPLE-STRUCTURED-LOCATION;VALUE=URI;X-ADDRESS=Parc Jacques-Cardinal 16037 boulevard Gouin Ouest Pierrefonds Québec H9H 2X3 Canada;X-APPLE-RADIUS=500;X-TITLE=16037\, boulevard Gouin Ouest\,:geo:-73.8725251,45.4805517
END:VEVENT
BEGIN:VEVENT
DTSTART;TZID=America/New_York:20200830T170000
DTEND;TZID=America/New_York:20200830T200000
DTSTAMP:20260424T231225
CREATED:20200703T204120Z
LAST-MODIFIED:20200716T174635Z
UID:10000434-1598806800-1598817600@www.rsdo.org
SUMMARY:Pique-niques du dimanche soir
DESCRIPTION:Les incontournables pique-niques du dimanche sont de retour! pour les membres et les non-membres. \nÉvidemment\, nous vous demandons de respecter les règles de distanciation sociale.  À cette fin\, nous vous recommandons d’apporter votre chaise ainsi qu’un petit tabouret ou une petite table pour déposer vos aliments. \nVeuillez noter qu’il n’y a pas de toilettes chimiques pour l’instant. \n\n\nRenseignements:  Pauline Debonville au 450 510-1931 (pdebonville@videotron.ca) \n\n\n\n                               Georgiane Landry au 514-626-6176  \n\n 
URL:https://www.rsdo.org/evenements/pique-niques-dimanche-soir/2020-08-30/
LOCATION:Parc Jacques-Cardinal\, 16037\, boulevard Gouin Ouest\,\, Pierrefonds\, Québec\, H9H 2X3\, Canada
CATEGORIES:Ateliers
ATTACH;FMTTYPE=image/jpeg:https://www.rsdo.org/wp-content/uploads/2018/06/Pique-nique-8.jpg
ORGANIZER;CN="Pauline Debonville":MAILTO:sociale@rsdo.org
GEO:45.4805517;-73.8725251
X-APPLE-STRUCTURED-LOCATION;VALUE=URI;X-ADDRESS=Parc Jacques-Cardinal 16037 boulevard Gouin Ouest Pierrefonds Québec H9H 2X3 Canada;X-APPLE-RADIUS=500;X-TITLE=16037\, boulevard Gouin Ouest\,:geo:-73.8725251,45.4805517
END:VEVENT
END:VCALENDAR