BEGIN:VCALENDAR
VERSION:2.0
PRODID:-//RSDO - ECPv6.15.20//NONSGML v1.0//EN
CALSCALE:GREGORIAN
METHOD:PUBLISH
X-ORIGINAL-URL:https://www.rsdo.org
X-WR-CALDESC:Évènements pour RSDO
REFRESH-INTERVAL;VALUE=DURATION:PT1H
X-Robots-Tag:noindex
X-PUBLISHED-TTL:PT1H
BEGIN:VTIMEZONE
TZID:America/New_York
BEGIN:DAYLIGHT
TZOFFSETFROM:-0500
TZOFFSETTO:-0400
TZNAME:EDT
DTSTART:20190310T070000
END:DAYLIGHT
BEGIN:STANDARD
TZOFFSETFROM:-0400
TZOFFSETTO:-0500
TZNAME:EST
DTSTART:20191103T060000
END:STANDARD
BEGIN:DAYLIGHT
TZOFFSETFROM:-0500
TZOFFSETTO:-0400
TZNAME:EDT
DTSTART:20200308T070000
END:DAYLIGHT
BEGIN:STANDARD
TZOFFSETFROM:-0400
TZOFFSETTO:-0500
TZNAME:EST
DTSTART:20201101T060000
END:STANDARD
BEGIN:DAYLIGHT
TZOFFSETFROM:-0500
TZOFFSETTO:-0400
TZNAME:EDT
DTSTART:20210314T070000
END:DAYLIGHT
BEGIN:STANDARD
TZOFFSETFROM:-0400
TZOFFSETTO:-0500
TZNAME:EST
DTSTART:20211107T060000
END:STANDARD
END:VTIMEZONE
BEGIN:VEVENT
DTSTART;TZID=America/New_York:20200708T190000
DTEND;TZID=America/New_York:20200708T203000
DTSTAMP:20260424T231058
CREATED:20200703T205810Z
LAST-MODIFIED:20200716T174911Z
UID:10000436-1594234800-1594240200@www.rsdo.org
SUMMARY:Chorale virtuelle estivale
DESCRIPTION:Pour les membres seulement.\nLe RSDO offre des ateliers de chorale virtuels tous les mercredi soirs avec l’application gratuite ZOOM pour les mois de juillet et août 2020 avec le directeur/accompagnateur Jocelyn Bigras.\nÀ noter qu’il n’y aura pas de chorale les 5 et 12 août.\nRenseignements: Pauline Primeau au 514-465-3428 
URL:https://www.rsdo.org/evenements/chorale-virtuelle-estivale/2020-07-08/
LOCATION:Québec
CATEGORIES:Cours
END:VEVENT
BEGIN:VEVENT
DTSTART;TZID=America/New_York:20200709T140000
DTEND;TZID=America/New_York:20200709T160000
DTSTAMP:20260424T231058
CREATED:20200703T212913Z
LAST-MODIFIED:20200703T212913Z
UID:10000420-1594303200-1594310400@www.rsdo.org
SUMMARY:Réunion du conseil d'administration
DESCRIPTION:Étant donné les règles de distanciation sociale et le lieu de la réunion disponible\, de dimension limitée\, le CA demande aux membres qui voudraient assister à cette réunion comme le stipule nos règlements d’en faire la demande à info@rsdo.org ou à Pauline Primeau pour discuter de la faisabilité. \n 
URL:https://www.rsdo.org/evenements/reunion-conseil-dadministration-23/
LOCATION:Québec
CATEGORIES:Réunions
ATTACH;FMTTYPE=image/jpeg:https://www.rsdo.org/wp-content/uploads/2018/01/Réunion-Silhouettes-Bulles-rondes-1.jpg
END:VEVENT
BEGIN:VEVENT
DTSTART;TZID=America/New_York:20200711T100000
DTEND;TZID=America/New_York:20200711T110000
DTSTAMP:20260424T231058
CREATED:20200909T002626Z
LAST-MODIFIED:20200928T222839Z
UID:10001798-1594461600-1594465200@www.rsdo.org
SUMMARY:Cours de yoga à l'extérieur pendant l'été 2020
DESCRIPTION:Pour les membres seulement\nLe RSDO vous offre gratuitement un cours de yoga d’une durée d’une heure pour la période estivale\, soit les samedis du 4 Juillet au 29 août\, avec votre intructrice habituelle\, Josey Deroy.\nLes inscriptions et les présences se feront sur place.\nPour votre confort\, apporter un tapis\, des blocs de mousse\, serviette et bouteille d’eau\, (facultatif: plastique ou toile de protection à mettre sous le tapis).\nVeuillez noter que les règles de distanciation sociale seront respectées.\n\nEn cas de pluie\, le cours sera automatiquement annulé.\nRenseignements: Chantal 514-696-9408 ou RSDO: 438-390-7736
URL:https://www.rsdo.org/evenements/cours-de-yoga-a-lexterieur-pendant-lete-2020-2/2020-07-11/
LOCATION:Parc Jacques-Cardinal\, 16037\, boulevard Gouin Ouest\,\, Pierrefonds\, Québec\, H9H 2X3\, Canada
CATEGORIES:Cours
ATTACH;FMTTYPE=image/jpeg:https://www.rsdo.org/wp-content/uploads/2020/07/Yoga-extérieur-3-b.jpg
ORGANIZER;CN="Josey Deroy":MAILTO:josey.yoga.fitness@gmail.com
GEO:45.4805517;-73.8725251
X-APPLE-STRUCTURED-LOCATION;VALUE=URI;X-ADDRESS=Parc Jacques-Cardinal 16037 boulevard Gouin Ouest Pierrefonds Québec H9H 2X3 Canada;X-APPLE-RADIUS=500;X-TITLE=16037\, boulevard Gouin Ouest\,:geo:-73.8725251,45.4805517
END:VEVENT
BEGIN:VEVENT
DTSTART;TZID=America/New_York:20200712T110000
DTEND;TZID=America/New_York:20200712T130000
DTSTAMP:20260424T231058
CREATED:20200103T200933Z
LAST-MODIFIED:20200704T150513Z
UID:10001747-1594551600-1594558800@www.rsdo.org
SUMMARY:Eggsquis Lachine - Annulé – COVID 19
DESCRIPTION:Les brunchs ont lieu aux deux semaines\, les dimanches à 11 h. Pour continuer les bonnes habitudes\, nous vous proposons d’initier des activités sportives après le brunch. \nN’oubliez pas d’en discuter entre vous pendant le brunch afin d’apporter l’équipement adéquat pour la prochaine fois. Veuillez noter que les réservations sont préférables au plus tard le vendredi précédent le brunch. \nRenseignements et réservations : Michel V. au 514 567-4623.
URL:https://www.rsdo.org/evenements/eggsquis-lachine-13/
LOCATION:Eggsquis Lachine\, 2780 Rue Remembrance\, Lachine\, Quebec\, H8S 1X8\, Canada
CATEGORIES:Soutien émotionnel
ATTACH;FMTTYPE=image/jpeg:https://www.rsdo.org/wp-content/uploads/2020/01/Eggsquis-déjeuner.jpg
GEO:45.4378976;-73.6884203
X-APPLE-STRUCTURED-LOCATION;VALUE=URI;X-ADDRESS=Eggsquis Lachine 2780 Rue Remembrance Lachine Quebec H8S 1X8 Canada;X-APPLE-RADIUS=500;X-TITLE=2780 Rue Remembrance:geo:-73.6884203,45.4378976
END:VEVENT
BEGIN:VEVENT
DTSTART;TZID=America/New_York:20200712T170000
DTEND;TZID=America/New_York:20200712T200000
DTSTAMP:20260424T231058
CREATED:20200703T204120Z
LAST-MODIFIED:20200716T174635Z
UID:10000427-1594573200-1594584000@www.rsdo.org
SUMMARY:Pique-niques du dimanche soir
DESCRIPTION:Les incontournables pique-niques du dimanche sont de retour! pour les membres et les non-membres. \nÉvidemment\, nous vous demandons de respecter les règles de distanciation sociale.  À cette fin\, nous vous recommandons d’apporter votre chaise ainsi qu’un petit tabouret ou une petite table pour déposer vos aliments. \nVeuillez noter qu’il n’y a pas de toilettes chimiques pour l’instant. \n\n\nRenseignements:  Pauline Debonville au 450 510-1931 (pdebonville@videotron.ca) \n\n\n\n                               Georgiane Landry au 514-626-6176  \n\n 
URL:https://www.rsdo.org/evenements/pique-niques-dimanche-soir/2020-07-12/
LOCATION:Parc Jacques-Cardinal\, 16037\, boulevard Gouin Ouest\,\, Pierrefonds\, Québec\, H9H 2X3\, Canada
CATEGORIES:Ateliers
ATTACH;FMTTYPE=image/jpeg:https://www.rsdo.org/wp-content/uploads/2018/06/Pique-nique-8.jpg
ORGANIZER;CN="Pauline Debonville":MAILTO:sociale@rsdo.org
GEO:45.4805517;-73.8725251
X-APPLE-STRUCTURED-LOCATION;VALUE=URI;X-ADDRESS=Parc Jacques-Cardinal 16037 boulevard Gouin Ouest Pierrefonds Québec H9H 2X3 Canada;X-APPLE-RADIUS=500;X-TITLE=16037\, boulevard Gouin Ouest\,:geo:-73.8725251,45.4805517
END:VEVENT
END:VCALENDAR