BEGIN:VCALENDAR
VERSION:2.0
PRODID:-//RSDO - ECPv6.15.20//NONSGML v1.0//EN
CALSCALE:GREGORIAN
METHOD:PUBLISH
X-WR-CALNAME:RSDO
X-ORIGINAL-URL:https://www.rsdo.org
X-WR-CALDESC:Évènements pour RSDO
REFRESH-INTERVAL;VALUE=DURATION:PT1H
X-Robots-Tag:noindex
X-PUBLISHED-TTL:PT1H
BEGIN:VTIMEZONE
TZID:America/New_York
BEGIN:DAYLIGHT
TZOFFSETFROM:-0500
TZOFFSETTO:-0400
TZNAME:EDT
DTSTART:20190310T070000
END:DAYLIGHT
BEGIN:STANDARD
TZOFFSETFROM:-0400
TZOFFSETTO:-0500
TZNAME:EST
DTSTART:20191103T060000
END:STANDARD
BEGIN:DAYLIGHT
TZOFFSETFROM:-0500
TZOFFSETTO:-0400
TZNAME:EDT
DTSTART:20200308T070000
END:DAYLIGHT
BEGIN:STANDARD
TZOFFSETFROM:-0400
TZOFFSETTO:-0500
TZNAME:EST
DTSTART:20201101T060000
END:STANDARD
BEGIN:DAYLIGHT
TZOFFSETFROM:-0500
TZOFFSETTO:-0400
TZNAME:EDT
DTSTART:20210314T070000
END:DAYLIGHT
BEGIN:STANDARD
TZOFFSETFROM:-0400
TZOFFSETTO:-0500
TZNAME:EST
DTSTART:20211107T060000
END:STANDARD
END:VTIMEZONE
BEGIN:VEVENT
DTSTART;TZID=America/New_York:20200614T110000
DTEND;TZID=America/New_York:20200614T130000
DTSTAMP:20260424T212859
CREATED:20200103T200526Z
LAST-MODIFIED:20200103T200526Z
UID:10001745-1592132400-1592139600@www.rsdo.org
SUMMARY:Eggspress ïle-Perrot
DESCRIPTION:Les brunchs ont lieu aux deux semaines\, les dimanches à 11 h. Pour continuer les bonnes habitudes\, nous vous proposons d’initier des activités sportives après le brunch. \nN’oubliez pas d’en discuter entre vous pendant le brunch afin d’apporter l’équipement adéquat pour la prochaine fois. Veuillez noter que les réservations sont préférables au plus tard le vendredi précédent le brunch. \nRenseignements et réservations : Michel V. au 514 567-4623.
URL:https://www.rsdo.org/evenements/eggspress-ile-perrot-3/
LOCATION:Eggspress\, 25\, boul. Don Quichotte\, Ïle-Perrot\, Québec\, J7V 7X4\, Canada
CATEGORIES:Soutien émotionnel
ATTACH;FMTTYPE=image/jpeg:https://www.rsdo.org/wp-content/uploads/2019/09/Eggspress.jpg
GEO:45.3910457;-73.9647977
X-APPLE-STRUCTURED-LOCATION;VALUE=URI;X-ADDRESS=Eggspress 25 boul. Don Quichotte Ïle-Perrot Québec J7V 7X4 Canada;X-APPLE-RADIUS=500;X-TITLE=25\, boul. Don Quichotte:geo:-73.9647977,45.3910457
END:VEVENT
BEGIN:VEVENT
DTSTART;TZID=America/New_York:20200614T170000
DTEND;TZID=America/New_York:20200614T200000
DTSTAMP:20260424T212859
CREATED:20200703T204120Z
LAST-MODIFIED:20200716T174635Z
UID:10000423-1592154000-1592164800@www.rsdo.org
SUMMARY:Pique-niques du dimanche soir
DESCRIPTION:Les incontournables pique-niques du dimanche sont de retour! pour les membres et les non-membres. \nÉvidemment\, nous vous demandons de respecter les règles de distanciation sociale.  À cette fin\, nous vous recommandons d’apporter votre chaise ainsi qu’un petit tabouret ou une petite table pour déposer vos aliments. \nVeuillez noter qu’il n’y a pas de toilettes chimiques pour l’instant. \n\n\nRenseignements:  Pauline Debonville au 450 510-1931 (pdebonville@videotron.ca) \n\n\n\n                               Georgiane Landry au 514-626-6176  \n\n 
URL:https://www.rsdo.org/evenements/pique-niques-dimanche-soir/2020-06-14/
LOCATION:Parc Jacques-Cardinal\, 16037\, boulevard Gouin Ouest\,\, Pierrefonds\, Québec\, H9H 2X3\, Canada
CATEGORIES:Ateliers
ATTACH;FMTTYPE=image/jpeg:https://www.rsdo.org/wp-content/uploads/2018/06/Pique-nique-8.jpg
ORGANIZER;CN="Pauline Debonville":MAILTO:sociale@rsdo.org
GEO:45.4805517;-73.8725251
X-APPLE-STRUCTURED-LOCATION;VALUE=URI;X-ADDRESS=Parc Jacques-Cardinal 16037 boulevard Gouin Ouest Pierrefonds Québec H9H 2X3 Canada;X-APPLE-RADIUS=500;X-TITLE=16037\, boulevard Gouin Ouest\,:geo:-73.8725251,45.4805517
END:VEVENT
END:VCALENDAR