BEGIN:VCALENDAR
VERSION:2.0
PRODID:-//RSDO - ECPv6.15.20//NONSGML v1.0//EN
CALSCALE:GREGORIAN
METHOD:PUBLISH
X-WR-CALNAME:RSDO
X-ORIGINAL-URL:https://www.rsdo.org
X-WR-CALDESC:Évènements pour RSDO
REFRESH-INTERVAL;VALUE=DURATION:PT1H
X-Robots-Tag:noindex
X-PUBLISHED-TTL:PT1H
BEGIN:VTIMEZONE
TZID:America/New_York
BEGIN:DAYLIGHT
TZOFFSETFROM:-0500
TZOFFSETTO:-0400
TZNAME:EDT
DTSTART:20190310T070000
END:DAYLIGHT
BEGIN:STANDARD
TZOFFSETFROM:-0400
TZOFFSETTO:-0500
TZNAME:EST
DTSTART:20191103T060000
END:STANDARD
BEGIN:DAYLIGHT
TZOFFSETFROM:-0500
TZOFFSETTO:-0400
TZNAME:EDT
DTSTART:20200308T070000
END:DAYLIGHT
BEGIN:STANDARD
TZOFFSETFROM:-0400
TZOFFSETTO:-0500
TZNAME:EST
DTSTART:20201101T060000
END:STANDARD
BEGIN:DAYLIGHT
TZOFFSETFROM:-0500
TZOFFSETTO:-0400
TZNAME:EDT
DTSTART:20210314T070000
END:DAYLIGHT
BEGIN:STANDARD
TZOFFSETFROM:-0400
TZOFFSETTO:-0500
TZNAME:EST
DTSTART:20211107T060000
END:STANDARD
END:VTIMEZONE
BEGIN:VEVENT
DTSTART;TZID=America/New_York:20200316T093000
DTEND;TZID=America/New_York:20200316T103000
DTSTAMP:20260424T200126
CREATED:20200103T175623Z
LAST-MODIFIED:20200103T175757Z
UID:10001713-1584351000-1584354600@www.rsdo.org
SUMMARY:Groupes de marche - Dollard-des-Ormeaux
DESCRIPTION:Nous avons 3 points de rencontre pour les marches régulières d’une durée d’une heure pour tous les niveaux. Rendez-vous dix minutes à l’avance. S’il y a des changements de lieu de marche\, des annulations ou des informations de resto\, les personnes chargées des renseignements pour chaque groupe communiqueront avec vous par courriel; les intéressé(e)s\, laissez-leur vos coordonnées. Les personnes ressources pour chaque lieu de départ ne garantissent pas leur présence à chaque jour indiqué.  Amenez un(e) ami(e). Veuillez noter que pour la période de l’hiver\, il y a des changements. Un avis vous sera communiqué pour les autres changements applicables au 1er mai. \nDollard-des-Ormeaux : \nDates :   Les lundis et jeudis jusqu’au 1er mai. \nRenseignements :      Carole L. – tél. 514 626-9306. \nInformations générales : Gisèle T. – tél. 514-620-6652
URL:https://www.rsdo.org/evenements/groupes-de-marche-dollard-ormeaux/2020-03-16/
LOCATION:Parc du Centenaire William Groove\, 3000rue Lake\, Dollard-des-Ormeaux\, H9B 2M1\, Canada
CATEGORIES:Ateliers
ATTACH;FMTTYPE=image/jpeg:https://www.rsdo.org/wp-content/uploads/2019/01/Parc-Centenaire-Hiver.jpg
GEO:45.4889505;-73.8189336
X-APPLE-STRUCTURED-LOCATION;VALUE=URI;X-ADDRESS=Parc du Centenaire William Groove 3000rue Lake Dollard-des-Ormeaux H9B 2M1 Canada;X-APPLE-RADIUS=500;X-TITLE=3000rue Lake:geo:-73.8189336,45.4889505
END:VEVENT
BEGIN:VEVENT
DTSTART;TZID=America/New_York:20200317T133000
DTEND;TZID=America/New_York:20200317T143000
DTSTAMP:20260424T200126
CREATED:20200103T174903Z
LAST-MODIFIED:20200103T182947Z
UID:10001679-1584451800-1584455400@www.rsdo.org
SUMMARY:Groupes de marche - Vaudreuil-Dorion
DESCRIPTION:Nous avons 3 points de rencontre pour les marches régulières d’une durée d’une heure pour tous les niveaux. Rendez-vous dix minutes à l’avance. S’il y a des changements de lieu de marche\, des annulations ou des informations de resto\, les personnes chargées des renseignements pour chaque groupe communiqueront avec vous par courriel; les intéressé(e)s\, laissez-leur vos coordonnées. Les personnes ressources pour chaque lieu de départ ne garantissent pas leur présence à chaque jour indiqué.  Amenez un(e) ami(e). Veuillez noter que pour la période de l’hiver\, il y a des changements. Un avis vous sera communiqué pour les autres changements applicables au 1er mai. \nVaudreuil-Dorion : \nDates : Les mardis et jeudis  jusqu’au 1er mai \nSi la température ne permet pas une marche extérieure sécuritaire\, nous irons marcher au Centre d’achat de Pincourt. Même lieu de rencontre en face de l’Opti-Centre. \nPossibilité d’aller au resto après les marches; lieu décidé sur place. \nStationnement :  Stationnement du fond\, en face de l’Opti-Centre. \nRenseignements :   Claire M. – tél. 450 218-0967 \nPauline D. – tél. 450 510-1931 \nViateur B. – tél. 450 455-1014 \nInformations générales : Gisèle T. – tél. 514-620-6652
URL:https://www.rsdo.org/evenements/groupes-de-marche-vaudreuil-dorion-5/2020-03-17/
LOCATION:Opti-Centre St-Jean-Baptiste\, 145\, Harwood\, Vaudreuil-Dorion\, Québec\, J7V 1Y3\, Canada
CATEGORIES:Ateliers
ATTACH;FMTTYPE=image/jpeg:https://www.rsdo.org/wp-content/uploads/2020/01/Dorion-neige.jpg
GEO:45.3836495;-74.0116336
X-APPLE-STRUCTURED-LOCATION;VALUE=URI;X-ADDRESS=Opti-Centre St-Jean-Baptiste 145 Harwood Vaudreuil-Dorion Québec J7V 1Y3 Canada;X-APPLE-RADIUS=500;X-TITLE=145\, Harwood:geo:-74.0116336,45.3836495
END:VEVENT
BEGIN:VEVENT
DTSTART;TZID=America/New_York:20200317T193000
DTEND;TZID=America/New_York:20200317T213000
DTSTAMP:20260424T200126
CREATED:20200103T172942Z
LAST-MODIFIED:20200121T010049Z
UID:10001631-1584473400-1584480600@www.rsdo.org
SUMMARY:La chorale du RSDO
DESCRIPTION:Si la chanson vous interpelle\, venez voir et participer à une de nos pratiques. Nous sommes certains que vous serez enchanté(e)s et aurez le goût d`y revenir. La participation dans un chœur de chants procure beaucoup de plaisir\, et nous enrichit tant sur les plans : émotionnel\, intellectuel\, social\, spirituel que physique. On vous attend\, venez au rendez-vous.Les  pratiques auront lieu les mardis soirs du 7 janvier au 28 avril 2020.  Deux ou           trois concerts seront présentés en mai. \nRenseignements :        Pauline P. au 514 465-3428 \nVeuillez noter qu’il faut être membre du RSDO pour participer aux différentes activités.
URL:https://www.rsdo.org/evenements/la-chorale-du-rsdo/2020-03-17/
LOCATION:CHSLD Denis Benjamin Viger\, 3292 rue Cherrier\, L’Île-Bizard\, Québec\, H9C 2N4\, Canada
CATEGORIES:Cours
GEO:45.4904577;-73.8692953
X-APPLE-STRUCTURED-LOCATION;VALUE=URI;X-ADDRESS=CHSLD Denis Benjamin Viger 3292 rue Cherrier L’Île-Bizard Québec H9C 2N4 Canada;X-APPLE-RADIUS=500;X-TITLE=3292 rue Cherrier:geo:-73.8692953,45.4904577
END:VEVENT
BEGIN:VEVENT
DTSTART;TZID=America/New_York:20200319T093000
DTEND;TZID=America/New_York:20200319T103000
DTSTAMP:20260424T200126
CREATED:20200103T175623Z
LAST-MODIFIED:20200103T175757Z
UID:10001714-1584610200-1584613800@www.rsdo.org
SUMMARY:Groupes de marche - Dollard-des-Ormeaux
DESCRIPTION:Nous avons 3 points de rencontre pour les marches régulières d’une durée d’une heure pour tous les niveaux. Rendez-vous dix minutes à l’avance. S’il y a des changements de lieu de marche\, des annulations ou des informations de resto\, les personnes chargées des renseignements pour chaque groupe communiqueront avec vous par courriel; les intéressé(e)s\, laissez-leur vos coordonnées. Les personnes ressources pour chaque lieu de départ ne garantissent pas leur présence à chaque jour indiqué.  Amenez un(e) ami(e). Veuillez noter que pour la période de l’hiver\, il y a des changements. Un avis vous sera communiqué pour les autres changements applicables au 1er mai. \nDollard-des-Ormeaux : \nDates :   Les lundis et jeudis jusqu’au 1er mai. \nRenseignements :      Carole L. – tél. 514 626-9306. \nInformations générales : Gisèle T. – tél. 514-620-6652
URL:https://www.rsdo.org/evenements/groupes-de-marche-dollard-ormeaux/2020-03-19/
LOCATION:Parc du Centenaire William Groove\, 3000rue Lake\, Dollard-des-Ormeaux\, H9B 2M1\, Canada
CATEGORIES:Ateliers
ATTACH;FMTTYPE=image/jpeg:https://www.rsdo.org/wp-content/uploads/2019/01/Parc-Centenaire-Hiver.jpg
GEO:45.4889505;-73.8189336
X-APPLE-STRUCTURED-LOCATION;VALUE=URI;X-ADDRESS=Parc du Centenaire William Groove 3000rue Lake Dollard-des-Ormeaux H9B 2M1 Canada;X-APPLE-RADIUS=500;X-TITLE=3000rue Lake:geo:-73.8189336,45.4889505
END:VEVENT
BEGIN:VEVENT
DTSTART;TZID=America/New_York:20200319T133000
DTEND;TZID=America/New_York:20200319T143000
DTSTAMP:20260424T200126
CREATED:20200103T174903Z
LAST-MODIFIED:20200103T182947Z
UID:10001680-1584624600-1584628200@www.rsdo.org
SUMMARY:Groupes de marche - Vaudreuil-Dorion
DESCRIPTION:Nous avons 3 points de rencontre pour les marches régulières d’une durée d’une heure pour tous les niveaux. Rendez-vous dix minutes à l’avance. S’il y a des changements de lieu de marche\, des annulations ou des informations de resto\, les personnes chargées des renseignements pour chaque groupe communiqueront avec vous par courriel; les intéressé(e)s\, laissez-leur vos coordonnées. Les personnes ressources pour chaque lieu de départ ne garantissent pas leur présence à chaque jour indiqué.  Amenez un(e) ami(e). Veuillez noter que pour la période de l’hiver\, il y a des changements. Un avis vous sera communiqué pour les autres changements applicables au 1er mai. \nVaudreuil-Dorion : \nDates : Les mardis et jeudis  jusqu’au 1er mai \nSi la température ne permet pas une marche extérieure sécuritaire\, nous irons marcher au Centre d’achat de Pincourt. Même lieu de rencontre en face de l’Opti-Centre. \nPossibilité d’aller au resto après les marches; lieu décidé sur place. \nStationnement :  Stationnement du fond\, en face de l’Opti-Centre. \nRenseignements :   Claire M. – tél. 450 218-0967 \nPauline D. – tél. 450 510-1931 \nViateur B. – tél. 450 455-1014 \nInformations générales : Gisèle T. – tél. 514-620-6652
URL:https://www.rsdo.org/evenements/groupes-de-marche-vaudreuil-dorion-5/2020-03-19/
LOCATION:Opti-Centre St-Jean-Baptiste\, 145\, Harwood\, Vaudreuil-Dorion\, Québec\, J7V 1Y3\, Canada
CATEGORIES:Ateliers
ATTACH;FMTTYPE=image/jpeg:https://www.rsdo.org/wp-content/uploads/2020/01/Dorion-neige.jpg
GEO:45.3836495;-74.0116336
X-APPLE-STRUCTURED-LOCATION;VALUE=URI;X-ADDRESS=Opti-Centre St-Jean-Baptiste 145 Harwood Vaudreuil-Dorion Québec J7V 1Y3 Canada;X-APPLE-RADIUS=500;X-TITLE=145\, Harwood:geo:-74.0116336,45.3836495
END:VEVENT
BEGIN:VEVENT
DTSTART;TZID=America/New_York:20200319T193000
DTEND;TZID=America/New_York:20200319T213000
DTSTAMP:20260424T200126
CREATED:20200107T220357Z
LAST-MODIFIED:20201125T010132Z
UID:10000411-1584646200-1584653400@www.rsdo.org
SUMMARY:Oser un nouveau monde: une conférence sur l'épopée des religieuses hospitalières de Saint-Joseph de l'Hôtel-Dieu de Montréal
DESCRIPTION:Dû à la pandémie\, cette conférence a été annulée. \nLe coût de cette conférence est de 10 $ pour les non-membres. \nDaniel Bertolino est cinéaste et conférencier depuis l’âge de 17 ans.  Ses films\, pour l’essentiel des documentaires\, ont été tournés et distribués sur tous les continents.  Les distinctions suivantes lui ont été accordées : Officier de l’Ordre national du Québec 2017\, Membre de l’Ordre du Canada 2015\, Les Prix du Québec-Prix Guy-Mauffette 2013. \nCatherine Viau est productrice\, scénariste et réalisatrice de documentaires\, d’émissions pour enfants et de fiction. Elle a produit\, aux côtés de Daniel Bertolino Le défi mondial.  Depuis sa création en 2014\, elle dirige chaque année la programmation du Festival Cinéma du Monde de Sherbrooke. \nOser un nouveau monde est un documentaire de Daniel Bertolino qui raconte l’histoire de femmes qui ont osé\, les Religieuses Hospitalières de Saint-Joseph.  Arrivées au début de la colonie\, elles ont contribué à édifier le système de santé au Québec.  Avec une grande humilité\, elles ont soigné la population tout en formant des générations d’infirmières. Un voyage dans le temps qui permettra au public de revivre également cette époque qui fut marquée par la création de Ville-Marie par Jeanne Mance et le Sieur de Maisonneuve\, le 17 mai 1642. \n  \n  \n 
URL:https://www.rsdo.org/evenements/oser-nouveau-monde-conference-lepopee-religieuses-hospitalieres-de-saint-joseph-de-lhotel-dieu-de-montreal/
LOCATION:Québec
CATEGORIES:Conférences
ATTACH;FMTTYPE=image/jpeg:https://www.rsdo.org/wp-content/uploads/2020/01/Daniel-Bertolino-et-Catherine-Viau-3.jpg
END:VEVENT
BEGIN:VEVENT
DTSTART;TZID=America/New_York:20200321T100000
DTEND;TZID=America/New_York:20200321T110000
DTSTAMP:20260424T200126
CREATED:20200103T182611Z
LAST-MODIFIED:20200103T182611Z
UID:10001738-1584784800-1584788400@www.rsdo.org
SUMMARY:Groupes de marche - Lachine
DESCRIPTION:Nous avons 3 points de rencontre pour les marches régulières d’une durée d’une heure pour tous les niveaux. Rendez-vous dix minutes à l’avance. S’il y a des changements de lieu de marche\, des annulations ou des informations de resto\, les personnes chargées des renseignements pour chaque groupe communiqueront avec vous par courriel; les intéressé(e)s\, laissez-leur vos coordonnées. Les personnes ressources pour chaque lieu de départ ne garantissent pas leur présence à chaque jour indiqué.  Amenez un(e) ami(e). Veuillez noter que pour la période de l’hiver\, il y a des changements. Un avis vous sera communiqué pour les autres changements applicables au 1er mai. \nLachine : \nDates : Les samedi jusqu’au 1er mai \nPossibilité d’aller au resto après la marche; lieux variables à proximité. Possibilité d’aller parfois marcher ailleurs mais même heure et même lieu de rencontre et possibilité de covoiturage. \nStationnement :  Sur les rues avoisinantes où le stationnement est permis \nRenseignements :  Deanna G. – tél. 514-575-2844 \nInformations générales : Gisèle T. – tél. 514-620-6652 \n 
URL:https://www.rsdo.org/evenements/groupes-de-marche-lachine-3/2020-03-21/
LOCATION:Dairy Queen Lachine\, 3210\, boul. Saint-Joseph\, Lachine\, Québec\, H8T 1P4\, Canada
CATEGORIES:Ateliers
ATTACH;FMTTYPE=image/jpeg:https://www.rsdo.org/wp-content/uploads/2020/01/Canal-de-Lachine-en-hiver.jpg
GEO:45.4338847;-73.6923329
X-APPLE-STRUCTURED-LOCATION;VALUE=URI;X-ADDRESS=Dairy Queen Lachine 3210 boul. Saint-Joseph Lachine Québec H8T 1P4 Canada;X-APPLE-RADIUS=500;X-TITLE=3210\, boul. Saint-Joseph:geo:-73.6923329,45.4338847
END:VEVENT
BEGIN:VEVENT
DTSTART;TZID=America/New_York:20200321T100000
DTEND;TZID=America/New_York:20200321T113000
DTSTAMP:20260424T200126
CREATED:20200103T174114Z
LAST-MODIFIED:20200104T005848Z
UID:10001648-1584784800-1584790200@www.rsdo.org
SUMMARY:Cours de conditionnement physique et yoga
DESCRIPTION:Pour suivre ce cours\, il faut être membre du RSDO sauf pour le 1er cours. \nLe RSDO vous offre gratuitement  un cours de yoga d’une durée d’une heure précédé d’une activité de conditionnement physique d’une durée de 30 minutes. Vous avez le choix de faire l’un ou l’autre ou les deux. \nDate :  Les samedis du 11 janvier au 30 mai 2020 \nPour votre confort au yoga\, apportez un tapis\, des blocs en mousse\, serviette et bouteille d’eau. \nPour le conditionnement physique\, des espadrilles et des poids de 2 à 5 kg. \nInstructrice : Josey Deroy \nRenseignements : Chantal 514-696-9408 ou RSDO 438-390-7736
URL:https://www.rsdo.org/evenements/cours-de-conditionnement-physique-yoga/2020-03-21/
LOCATION:Chalet Roxboro\, 10 11 rue\, Roxboro\, Quebec\, H8Y 2P3\, Canada
CATEGORIES:Cours
ATTACH;FMTTYPE=image/jpeg:https://www.rsdo.org/wp-content/uploads/2020/01/Yoga.jpg
ORGANIZER;CN="Josey Deroy":MAILTO:josey.yoga.fitness@gmail.com
GEO:45.5053201;-73.8030777
X-APPLE-STRUCTURED-LOCATION;VALUE=URI;X-ADDRESS=Chalet Roxboro 10 11 rue Roxboro Quebec H8Y 2P3 Canada;X-APPLE-RADIUS=500;X-TITLE=10 11 rue:geo:-73.8030777,45.5053201
END:VEVENT
BEGIN:VEVENT
DTSTART;TZID=America/New_York:20200321T100000
DTEND;TZID=America/New_York:20200321T170000
DTSTAMP:20260424T200126
CREATED:20200107T234304Z
LAST-MODIFIED:20200330T213403Z
UID:10001764-1584784800-1584810000@www.rsdo.org
SUMMARY:C'est le temps des sucres - Annulé – COVID 19
DESCRIPTION:C’est le temps de se sucrer le bec\, une tradition de plus de trente-cinq ans à l’Érablière au Chalet du Ruisseau qui vous accueille dans une ambiance chaleureuse pour un copieux repas du temps des sucres. \nAu grand plaisir de tous\, vous pourrez visiter la cabane à sucre pour voir la transformation de la sève d’érable. \nDes sentiers sont aménagés dans l’érablière \n\nProduits de l’érable\nPossibilité de promenade en traîneau\nObservation de la transformation de la sève d’érable sur place\nAnimation de danse en ligne et de danse sociale\nAccès à la Mini ferme gratuitement !\n\nEndroit :   Chalet du Ruisseau \nTransport :  Autobus \nDépart : 10 h à l’hôtel Holiday Inn \nRetour :  Départ de Mirabel à 16 h \nPrix :  33 $ pour un minimum de 30 personnes inscrites avant la fin de février\, sinon 40 $ \nRenseignements : Pauline Debonville 450 510-1931 \nPas de remboursement après le 15 mars 2020
URL:https://www.rsdo.org/evenements/cest-temps-sucres-2/
LOCATION:Chalet du Ruisseau\, 12570 de la Fresnière\, Mirabel\, Québec\, J7N 2R9\, Canada
CATEGORIES:Ateliers
ATTACH;FMTTYPE=image/jpeg:https://www.rsdo.org/wp-content/uploads/2020/01/Chalet-du-ruisseau-1.jpg
ORGANIZER;CN="Pauline Debonville":MAILTO:sociale@rsdo.org
GEO:45.5708889;-74.030516
X-APPLE-STRUCTURED-LOCATION;VALUE=URI;X-ADDRESS=Chalet du Ruisseau 12570 de la Fresnière Mirabel Québec J7N 2R9 Canada;X-APPLE-RADIUS=500;X-TITLE=12570 de la Fresnière:geo:-74.030516,45.5708889
END:VEVENT
BEGIN:VEVENT
DTSTART;TZID=America/New_York:20200322T110000
DTEND;TZID=America/New_York:20200322T130000
DTSTAMP:20260424T200126
CREATED:20200103T195308Z
LAST-MODIFIED:20200103T195308Z
UID:10000403-1584874800-1584882000@www.rsdo.org
SUMMARY:Eggsquis Lachine
DESCRIPTION:Les brunchs ont lieu aux deux semaines\, les dimanches à 11 h. Pour continuer les bonnes habitudes\, nous vous proposons d’initier des activités sportives après le brunch. \nN’oubliez pas d’en discuter entre vous pendant le brunch afin d’apporter l’équipement adéquat pour la prochaine fois. Veuillez noter que les réservations sont préférables au plus tard le vendredi précédent le brunch. \nRenseignements et réservations : Michel V. au 514 567-4623.
URL:https://www.rsdo.org/evenements/eggsquis-lachine-12/
LOCATION:Eggsquis Lachine\, 2780 Rue Remembrance\, Lachine\, Quebec\, H8S 1X8\, Canada
CATEGORIES:Soutien émotionnel
ATTACH;FMTTYPE=image/jpeg:https://www.rsdo.org/wp-content/uploads/2020/01/Eggsquis-déjeuner.jpg
GEO:45.4378976;-73.6884203
X-APPLE-STRUCTURED-LOCATION;VALUE=URI;X-ADDRESS=Eggsquis Lachine 2780 Rue Remembrance Lachine Quebec H8S 1X8 Canada;X-APPLE-RADIUS=500;X-TITLE=2780 Rue Remembrance:geo:-73.6884203,45.4378976
END:VEVENT
END:VCALENDAR