BEGIN:VCALENDAR
VERSION:2.0
PRODID:-//RSDO - ECPv6.15.20//NONSGML v1.0//EN
CALSCALE:GREGORIAN
METHOD:PUBLISH
X-ORIGINAL-URL:https://www.rsdo.org
X-WR-CALDESC:Évènements pour RSDO
REFRESH-INTERVAL;VALUE=DURATION:PT1H
X-Robots-Tag:noindex
X-PUBLISHED-TTL:PT1H
BEGIN:VTIMEZONE
TZID:America/New_York
BEGIN:DAYLIGHT
TZOFFSETFROM:-0500
TZOFFSETTO:-0400
TZNAME:EDT
DTSTART:20190310T070000
END:DAYLIGHT
BEGIN:STANDARD
TZOFFSETFROM:-0400
TZOFFSETTO:-0500
TZNAME:EST
DTSTART:20191103T060000
END:STANDARD
BEGIN:DAYLIGHT
TZOFFSETFROM:-0500
TZOFFSETTO:-0400
TZNAME:EDT
DTSTART:20200308T070000
END:DAYLIGHT
BEGIN:STANDARD
TZOFFSETFROM:-0400
TZOFFSETTO:-0500
TZNAME:EST
DTSTART:20201101T060000
END:STANDARD
BEGIN:DAYLIGHT
TZOFFSETFROM:-0500
TZOFFSETTO:-0400
TZNAME:EDT
DTSTART:20210314T070000
END:DAYLIGHT
BEGIN:STANDARD
TZOFFSETFROM:-0400
TZOFFSETTO:-0500
TZNAME:EST
DTSTART:20211107T060000
END:STANDARD
END:VTIMEZONE
BEGIN:VEVENT
DTSTART;TZID=America/New_York:20200302T093000
DTEND;TZID=America/New_York:20200302T103000
DTSTAMP:20260424T200410
CREATED:20200103T175623Z
LAST-MODIFIED:20200103T175757Z
UID:10001709-1583141400-1583145000@www.rsdo.org
SUMMARY:Groupes de marche - Dollard-des-Ormeaux
DESCRIPTION:Nous avons 3 points de rencontre pour les marches régulières d’une durée d’une heure pour tous les niveaux. Rendez-vous dix minutes à l’avance. S’il y a des changements de lieu de marche\, des annulations ou des informations de resto\, les personnes chargées des renseignements pour chaque groupe communiqueront avec vous par courriel; les intéressé(e)s\, laissez-leur vos coordonnées. Les personnes ressources pour chaque lieu de départ ne garantissent pas leur présence à chaque jour indiqué.  Amenez un(e) ami(e). Veuillez noter que pour la période de l’hiver\, il y a des changements. Un avis vous sera communiqué pour les autres changements applicables au 1er mai. \nDollard-des-Ormeaux : \nDates :   Les lundis et jeudis jusqu’au 1er mai. \nRenseignements :      Carole L. – tél. 514 626-9306. \nInformations générales : Gisèle T. – tél. 514-620-6652
URL:https://www.rsdo.org/evenements/groupes-de-marche-dollard-ormeaux/2020-03-02/
LOCATION:Parc du Centenaire William Groove\, 3000rue Lake\, Dollard-des-Ormeaux\, H9B 2M1\, Canada
CATEGORIES:Ateliers
ATTACH;FMTTYPE=image/jpeg:https://www.rsdo.org/wp-content/uploads/2019/01/Parc-Centenaire-Hiver.jpg
GEO:45.4889505;-73.8189336
X-APPLE-STRUCTURED-LOCATION;VALUE=URI;X-ADDRESS=Parc du Centenaire William Groove 3000rue Lake Dollard-des-Ormeaux H9B 2M1 Canada;X-APPLE-RADIUS=500;X-TITLE=3000rue Lake:geo:-73.8189336,45.4889505
END:VEVENT
BEGIN:VEVENT
DTSTART;TZID=America/New_York:20200303T133000
DTEND;TZID=America/New_York:20200303T143000
DTSTAMP:20260424T200411
CREATED:20200103T174903Z
LAST-MODIFIED:20200103T182947Z
UID:10001675-1583242200-1583245800@www.rsdo.org
SUMMARY:Groupes de marche - Vaudreuil-Dorion
DESCRIPTION:Nous avons 3 points de rencontre pour les marches régulières d’une durée d’une heure pour tous les niveaux. Rendez-vous dix minutes à l’avance. S’il y a des changements de lieu de marche\, des annulations ou des informations de resto\, les personnes chargées des renseignements pour chaque groupe communiqueront avec vous par courriel; les intéressé(e)s\, laissez-leur vos coordonnées. Les personnes ressources pour chaque lieu de départ ne garantissent pas leur présence à chaque jour indiqué.  Amenez un(e) ami(e). Veuillez noter que pour la période de l’hiver\, il y a des changements. Un avis vous sera communiqué pour les autres changements applicables au 1er mai. \nVaudreuil-Dorion : \nDates : Les mardis et jeudis  jusqu’au 1er mai \nSi la température ne permet pas une marche extérieure sécuritaire\, nous irons marcher au Centre d’achat de Pincourt. Même lieu de rencontre en face de l’Opti-Centre. \nPossibilité d’aller au resto après les marches; lieu décidé sur place. \nStationnement :  Stationnement du fond\, en face de l’Opti-Centre. \nRenseignements :   Claire M. – tél. 450 218-0967 \nPauline D. – tél. 450 510-1931 \nViateur B. – tél. 450 455-1014 \nInformations générales : Gisèle T. – tél. 514-620-6652
URL:https://www.rsdo.org/evenements/groupes-de-marche-vaudreuil-dorion-5/2020-03-03/
LOCATION:Opti-Centre St-Jean-Baptiste\, 145\, Harwood\, Vaudreuil-Dorion\, Québec\, J7V 1Y3\, Canada
CATEGORIES:Ateliers
ATTACH;FMTTYPE=image/jpeg:https://www.rsdo.org/wp-content/uploads/2020/01/Dorion-neige.jpg
GEO:45.3836495;-74.0116336
X-APPLE-STRUCTURED-LOCATION;VALUE=URI;X-ADDRESS=Opti-Centre St-Jean-Baptiste 145 Harwood Vaudreuil-Dorion Québec J7V 1Y3 Canada;X-APPLE-RADIUS=500;X-TITLE=145\, Harwood:geo:-74.0116336,45.3836495
END:VEVENT
BEGIN:VEVENT
DTSTART;TZID=America/New_York:20200303T193000
DTEND;TZID=America/New_York:20200303T213000
DTSTAMP:20260424T200411
CREATED:20200103T172942Z
LAST-MODIFIED:20200121T010049Z
UID:10001629-1583263800-1583271000@www.rsdo.org
SUMMARY:La chorale du RSDO
DESCRIPTION:Si la chanson vous interpelle\, venez voir et participer à une de nos pratiques. Nous sommes certains que vous serez enchanté(e)s et aurez le goût d`y revenir. La participation dans un chœur de chants procure beaucoup de plaisir\, et nous enrichit tant sur les plans : émotionnel\, intellectuel\, social\, spirituel que physique. On vous attend\, venez au rendez-vous.Les  pratiques auront lieu les mardis soirs du 7 janvier au 28 avril 2020.  Deux ou           trois concerts seront présentés en mai. \nRenseignements :        Pauline P. au 514 465-3428 \nVeuillez noter qu’il faut être membre du RSDO pour participer aux différentes activités.
URL:https://www.rsdo.org/evenements/la-chorale-du-rsdo/2020-03-03/
LOCATION:CHSLD Denis Benjamin Viger\, 3292 rue Cherrier\, L’Île-Bizard\, Québec\, H9C 2N4\, Canada
CATEGORIES:Cours
GEO:45.4904577;-73.8692953
X-APPLE-STRUCTURED-LOCATION;VALUE=URI;X-ADDRESS=CHSLD Denis Benjamin Viger 3292 rue Cherrier L’Île-Bizard Québec H9C 2N4 Canada;X-APPLE-RADIUS=500;X-TITLE=3292 rue Cherrier:geo:-73.8692953,45.4904577
END:VEVENT
BEGIN:VEVENT
DTSTART;TZID=America/New_York:20200305T093000
DTEND;TZID=America/New_York:20200305T103000
DTSTAMP:20260424T200411
CREATED:20200103T175623Z
LAST-MODIFIED:20200103T175757Z
UID:10001710-1583400600-1583404200@www.rsdo.org
SUMMARY:Groupes de marche - Dollard-des-Ormeaux
DESCRIPTION:Nous avons 3 points de rencontre pour les marches régulières d’une durée d’une heure pour tous les niveaux. Rendez-vous dix minutes à l’avance. S’il y a des changements de lieu de marche\, des annulations ou des informations de resto\, les personnes chargées des renseignements pour chaque groupe communiqueront avec vous par courriel; les intéressé(e)s\, laissez-leur vos coordonnées. Les personnes ressources pour chaque lieu de départ ne garantissent pas leur présence à chaque jour indiqué.  Amenez un(e) ami(e). Veuillez noter que pour la période de l’hiver\, il y a des changements. Un avis vous sera communiqué pour les autres changements applicables au 1er mai. \nDollard-des-Ormeaux : \nDates :   Les lundis et jeudis jusqu’au 1er mai. \nRenseignements :      Carole L. – tél. 514 626-9306. \nInformations générales : Gisèle T. – tél. 514-620-6652
URL:https://www.rsdo.org/evenements/groupes-de-marche-dollard-ormeaux/2020-03-05/
LOCATION:Parc du Centenaire William Groove\, 3000rue Lake\, Dollard-des-Ormeaux\, H9B 2M1\, Canada
CATEGORIES:Ateliers
ATTACH;FMTTYPE=image/jpeg:https://www.rsdo.org/wp-content/uploads/2019/01/Parc-Centenaire-Hiver.jpg
GEO:45.4889505;-73.8189336
X-APPLE-STRUCTURED-LOCATION;VALUE=URI;X-ADDRESS=Parc du Centenaire William Groove 3000rue Lake Dollard-des-Ormeaux H9B 2M1 Canada;X-APPLE-RADIUS=500;X-TITLE=3000rue Lake:geo:-73.8189336,45.4889505
END:VEVENT
BEGIN:VEVENT
DTSTART;TZID=America/New_York:20200305T133000
DTEND;TZID=America/New_York:20200305T143000
DTSTAMP:20260424T200411
CREATED:20200103T174903Z
LAST-MODIFIED:20200103T182947Z
UID:10001676-1583415000-1583418600@www.rsdo.org
SUMMARY:Groupes de marche - Vaudreuil-Dorion
DESCRIPTION:Nous avons 3 points de rencontre pour les marches régulières d’une durée d’une heure pour tous les niveaux. Rendez-vous dix minutes à l’avance. S’il y a des changements de lieu de marche\, des annulations ou des informations de resto\, les personnes chargées des renseignements pour chaque groupe communiqueront avec vous par courriel; les intéressé(e)s\, laissez-leur vos coordonnées. Les personnes ressources pour chaque lieu de départ ne garantissent pas leur présence à chaque jour indiqué.  Amenez un(e) ami(e). Veuillez noter que pour la période de l’hiver\, il y a des changements. Un avis vous sera communiqué pour les autres changements applicables au 1er mai. \nVaudreuil-Dorion : \nDates : Les mardis et jeudis  jusqu’au 1er mai \nSi la température ne permet pas une marche extérieure sécuritaire\, nous irons marcher au Centre d’achat de Pincourt. Même lieu de rencontre en face de l’Opti-Centre. \nPossibilité d’aller au resto après les marches; lieu décidé sur place. \nStationnement :  Stationnement du fond\, en face de l’Opti-Centre. \nRenseignements :   Claire M. – tél. 450 218-0967 \nPauline D. – tél. 450 510-1931 \nViateur B. – tél. 450 455-1014 \nInformations générales : Gisèle T. – tél. 514-620-6652
URL:https://www.rsdo.org/evenements/groupes-de-marche-vaudreuil-dorion-5/2020-03-05/
LOCATION:Opti-Centre St-Jean-Baptiste\, 145\, Harwood\, Vaudreuil-Dorion\, Québec\, J7V 1Y3\, Canada
CATEGORIES:Ateliers
ATTACH;FMTTYPE=image/jpeg:https://www.rsdo.org/wp-content/uploads/2020/01/Dorion-neige.jpg
GEO:45.3836495;-74.0116336
X-APPLE-STRUCTURED-LOCATION;VALUE=URI;X-ADDRESS=Opti-Centre St-Jean-Baptiste 145 Harwood Vaudreuil-Dorion Québec J7V 1Y3 Canada;X-APPLE-RADIUS=500;X-TITLE=145\, Harwood:geo:-74.0116336,45.3836495
END:VEVENT
BEGIN:VEVENT
DTSTART;TZID=America/New_York:20200305T193000
DTEND;TZID=America/New_York:20200305T213000
DTSTAMP:20260424T200411
CREATED:20200107T213948Z
LAST-MODIFIED:20200107T213948Z
UID:10000415-1583436600-1583443800@www.rsdo.org
SUMMARY:Seules - Ces femmes que j'aime
DESCRIPTION:Le coût de cette conférence est de 10 $ pour les non-membres. \nLouise Portal\, grande dame du petit et  grand écran\, chanteuse et écrivaine accomplie\, poursuit avec brio sa carrière amorcée en 1970. En 2019\, on peut la voir dans deux adaptations cinématographiques :  Il pleuvait des oiseaux\, film inspiré du roman de Jocelyne Saucier\, et Roseline comme dans les films\, court-métrage tiré d’une nouvelle qu’elle a écrite dans le collectif Aimer\, encore et toujours. Chez Druide\, elle a également fait paraître Pauline et moi et Le journal de ma vie\, un guide unique d’écriture. \nDans le cadre de la sortie de son livre  »Seules – Ces femmes que j’aime »\, Louise Portal vous propose une nouvelle conférence. Cette rencontre avec l’auteure est l’occasion de l’entendre nous parler de ses romans\, de l’écriture qui la passionne\, de son cheminement de femme\, façonné par sa carrière d’actrice. Louise Portal raconte la naissance de son plus récent livre\, Seules\, où elle trace le portrait de 15 femmes inspirantes\, qui malgré la solitude\, brillent par leur détermination\, leur vulnérabilité et leurs forces. Qu’elles soient d’éternelles amoureuses ou qu’elles aient renoncé à l’amour\, qu’elles soient artistes\, gestionnaires\, soignantes ou retraitées\, chacune de ces femmes accueille la solitude à sa façon. Toutes aspirent à une vie riche\, épanouie\, pour avancer dans leur mission d’amour et de réalisation. Au programme : lectures d’extraits et chansons. \n 
URL:https://www.rsdo.org/evenements/seules-femmes-jaime/
LOCATION:Centre communautaire Marcel Morin\, 14068\, boulevard Gouin Ouest\, Pierrefonds\, Québec\, H8Z 1Y1\, Canada
CATEGORIES:Conférences
ATTACH;FMTTYPE=image/jpeg:https://www.rsdo.org/wp-content/uploads/2020/01/Louise-Portal-2.jpg
GEO:45.4956281;-73.8506691
X-APPLE-STRUCTURED-LOCATION;VALUE=URI;X-ADDRESS=Centre communautaire Marcel Morin 14068 boulevard Gouin Ouest Pierrefonds Québec H8Z 1Y1 Canada;X-APPLE-RADIUS=500;X-TITLE=14068\, boulevard Gouin Ouest:geo:-73.8506691,45.4956281
END:VEVENT
BEGIN:VEVENT
DTSTART;TZID=America/New_York:20200307T100000
DTEND;TZID=America/New_York:20200307T110000
DTSTAMP:20260424T200411
CREATED:20200103T182611Z
LAST-MODIFIED:20200103T182611Z
UID:10001736-1583575200-1583578800@www.rsdo.org
SUMMARY:Groupes de marche - Lachine
DESCRIPTION:Nous avons 3 points de rencontre pour les marches régulières d’une durée d’une heure pour tous les niveaux. Rendez-vous dix minutes à l’avance. S’il y a des changements de lieu de marche\, des annulations ou des informations de resto\, les personnes chargées des renseignements pour chaque groupe communiqueront avec vous par courriel; les intéressé(e)s\, laissez-leur vos coordonnées. Les personnes ressources pour chaque lieu de départ ne garantissent pas leur présence à chaque jour indiqué.  Amenez un(e) ami(e). Veuillez noter que pour la période de l’hiver\, il y a des changements. Un avis vous sera communiqué pour les autres changements applicables au 1er mai. \nLachine : \nDates : Les samedi jusqu’au 1er mai \nPossibilité d’aller au resto après la marche; lieux variables à proximité. Possibilité d’aller parfois marcher ailleurs mais même heure et même lieu de rencontre et possibilité de covoiturage. \nStationnement :  Sur les rues avoisinantes où le stationnement est permis \nRenseignements :  Deanna G. – tél. 514-575-2844 \nInformations générales : Gisèle T. – tél. 514-620-6652 \n 
URL:https://www.rsdo.org/evenements/groupes-de-marche-lachine-3/2020-03-07/
LOCATION:Dairy Queen Lachine\, 3210\, boul. Saint-Joseph\, Lachine\, Québec\, H8T 1P4\, Canada
CATEGORIES:Ateliers
ATTACH;FMTTYPE=image/jpeg:https://www.rsdo.org/wp-content/uploads/2020/01/Canal-de-Lachine-en-hiver.jpg
GEO:45.4338847;-73.6923329
X-APPLE-STRUCTURED-LOCATION;VALUE=URI;X-ADDRESS=Dairy Queen Lachine 3210 boul. Saint-Joseph Lachine Québec H8T 1P4 Canada;X-APPLE-RADIUS=500;X-TITLE=3210\, boul. Saint-Joseph:geo:-73.6923329,45.4338847
END:VEVENT
BEGIN:VEVENT
DTSTART;TZID=America/New_York:20200307T100000
DTEND;TZID=America/New_York:20200307T113000
DTSTAMP:20260424T200411
CREATED:20200103T174114Z
LAST-MODIFIED:20200104T005848Z
UID:10001646-1583575200-1583580600@www.rsdo.org
SUMMARY:Cours de conditionnement physique et yoga
DESCRIPTION:Pour suivre ce cours\, il faut être membre du RSDO sauf pour le 1er cours. \nLe RSDO vous offre gratuitement  un cours de yoga d’une durée d’une heure précédé d’une activité de conditionnement physique d’une durée de 30 minutes. Vous avez le choix de faire l’un ou l’autre ou les deux. \nDate :  Les samedis du 11 janvier au 30 mai 2020 \nPour votre confort au yoga\, apportez un tapis\, des blocs en mousse\, serviette et bouteille d’eau. \nPour le conditionnement physique\, des espadrilles et des poids de 2 à 5 kg. \nInstructrice : Josey Deroy \nRenseignements : Chantal 514-696-9408 ou RSDO 438-390-7736
URL:https://www.rsdo.org/evenements/cours-de-conditionnement-physique-yoga/2020-03-07/
LOCATION:Chalet Roxboro\, 10 11 rue\, Roxboro\, Quebec\, H8Y 2P3\, Canada
CATEGORIES:Cours
ATTACH;FMTTYPE=image/jpeg:https://www.rsdo.org/wp-content/uploads/2020/01/Yoga.jpg
ORGANIZER;CN="Josey Deroy":MAILTO:josey.yoga.fitness@gmail.com
GEO:45.5053201;-73.8030777
X-APPLE-STRUCTURED-LOCATION;VALUE=URI;X-ADDRESS=Chalet Roxboro 10 11 rue Roxboro Quebec H8Y 2P3 Canada;X-APPLE-RADIUS=500;X-TITLE=10 11 rue:geo:-73.8030777,45.5053201
END:VEVENT
BEGIN:VEVENT
DTSTART;TZID=America/New_York:20200308T110000
DTEND;TZID=America/New_York:20200308T130000
DTSTAMP:20260424T200411
CREATED:20200103T194327Z
LAST-MODIFIED:20200103T194327Z
UID:10000402-1583665200-1583672400@www.rsdo.org
SUMMARY:Ben & Florentine
DESCRIPTION:Les brunchs ont lieu aux deux semaines\, les dimanches à 11 h. Pour continuer les bonnes habitudes\, nous vous proposons d’initier des activités sportives après le brunch. \nN’oubliez pas d’en discuter entre vous pendant le brunch afin d’apporter l’équipement adéquat pour la prochaine fois. Veuillez noter que les réservations sont préférables au plus tard le vendredi précédent le brunch. \nRenseignements et réservations : Michel V. au 514 567-4623.
URL:https://www.rsdo.org/evenements/ben-florentine/
LOCATION:Ben & Florentine\, 3555\, boulevard Saint-Charles\, Kirkland\, Québec\, H9H 3C4\, Canada
CATEGORIES:Soutien émotionnel
ATTACH;FMTTYPE=image/jpeg:https://www.rsdo.org/wp-content/uploads/2020/01/Ben-Florentine-Kirkland.jpg
GEO:45.457476;-73.862496
X-APPLE-STRUCTURED-LOCATION;VALUE=URI;X-ADDRESS=Ben & Florentine 3555 boulevard Saint-Charles Kirkland Québec H9H 3C4 Canada;X-APPLE-RADIUS=500;X-TITLE=3555\, boulevard Saint-Charles:geo:-73.862496,45.457476
END:VEVENT
END:VCALENDAR