BEGIN:VCALENDAR
VERSION:2.0
PRODID:-//RSDO - ECPv6.15.20//NONSGML v1.0//EN
CALSCALE:GREGORIAN
METHOD:PUBLISH
X-ORIGINAL-URL:https://www.rsdo.org
X-WR-CALDESC:Évènements pour RSDO
REFRESH-INTERVAL;VALUE=DURATION:PT1H
X-Robots-Tag:noindex
X-PUBLISHED-TTL:PT1H
BEGIN:VTIMEZONE
TZID:America/New_York
BEGIN:DAYLIGHT
TZOFFSETFROM:-0500
TZOFFSETTO:-0400
TZNAME:EDT
DTSTART:20190310T070000
END:DAYLIGHT
BEGIN:STANDARD
TZOFFSETFROM:-0400
TZOFFSETTO:-0500
TZNAME:EST
DTSTART:20191103T060000
END:STANDARD
BEGIN:DAYLIGHT
TZOFFSETFROM:-0500
TZOFFSETTO:-0400
TZNAME:EDT
DTSTART:20200308T070000
END:DAYLIGHT
BEGIN:STANDARD
TZOFFSETFROM:-0400
TZOFFSETTO:-0500
TZNAME:EST
DTSTART:20201101T060000
END:STANDARD
BEGIN:DAYLIGHT
TZOFFSETFROM:-0500
TZOFFSETTO:-0400
TZNAME:EDT
DTSTART:20210314T070000
END:DAYLIGHT
BEGIN:STANDARD
TZOFFSETFROM:-0400
TZOFFSETTO:-0500
TZNAME:EST
DTSTART:20211107T060000
END:STANDARD
END:VTIMEZONE
BEGIN:VEVENT
DTSTART;TZID=America/New_York:20200203T093000
DTEND;TZID=America/New_York:20200203T103000
DTSTAMP:20260425T072836
CREATED:20200103T175623Z
LAST-MODIFIED:20200103T175757Z
UID:10001701-1580722200-1580725800@www.rsdo.org
SUMMARY:Groupes de marche - Dollard-des-Ormeaux
DESCRIPTION:Nous avons 3 points de rencontre pour les marches régulières d’une durée d’une heure pour tous les niveaux. Rendez-vous dix minutes à l’avance. S’il y a des changements de lieu de marche\, des annulations ou des informations de resto\, les personnes chargées des renseignements pour chaque groupe communiqueront avec vous par courriel; les intéressé(e)s\, laissez-leur vos coordonnées. Les personnes ressources pour chaque lieu de départ ne garantissent pas leur présence à chaque jour indiqué.  Amenez un(e) ami(e). Veuillez noter que pour la période de l’hiver\, il y a des changements. Un avis vous sera communiqué pour les autres changements applicables au 1er mai. \nDollard-des-Ormeaux : \nDates :   Les lundis et jeudis jusqu’au 1er mai. \nRenseignements :      Carole L. – tél. 514 626-9306. \nInformations générales : Gisèle T. – tél. 514-620-6652
URL:https://www.rsdo.org/evenements/groupes-de-marche-dollard-ormeaux/2020-02-03/
LOCATION:Parc du Centenaire William Groove\, 3000rue Lake\, Dollard-des-Ormeaux\, H9B 2M1\, Canada
CATEGORIES:Ateliers
ATTACH;FMTTYPE=image/jpeg:https://www.rsdo.org/wp-content/uploads/2019/01/Parc-Centenaire-Hiver.jpg
GEO:45.4889505;-73.8189336
X-APPLE-STRUCTURED-LOCATION;VALUE=URI;X-ADDRESS=Parc du Centenaire William Groove 3000rue Lake Dollard-des-Ormeaux H9B 2M1 Canada;X-APPLE-RADIUS=500;X-TITLE=3000rue Lake:geo:-73.8189336,45.4889505
END:VEVENT
BEGIN:VEVENT
DTSTART;TZID=America/New_York:20200204T133000
DTEND;TZID=America/New_York:20200204T143000
DTSTAMP:20260425T072836
CREATED:20200103T174903Z
LAST-MODIFIED:20200103T182947Z
UID:10001667-1580823000-1580826600@www.rsdo.org
SUMMARY:Groupes de marche - Vaudreuil-Dorion
DESCRIPTION:Nous avons 3 points de rencontre pour les marches régulières d’une durée d’une heure pour tous les niveaux. Rendez-vous dix minutes à l’avance. S’il y a des changements de lieu de marche\, des annulations ou des informations de resto\, les personnes chargées des renseignements pour chaque groupe communiqueront avec vous par courriel; les intéressé(e)s\, laissez-leur vos coordonnées. Les personnes ressources pour chaque lieu de départ ne garantissent pas leur présence à chaque jour indiqué.  Amenez un(e) ami(e). Veuillez noter que pour la période de l’hiver\, il y a des changements. Un avis vous sera communiqué pour les autres changements applicables au 1er mai. \nVaudreuil-Dorion : \nDates : Les mardis et jeudis  jusqu’au 1er mai \nSi la température ne permet pas une marche extérieure sécuritaire\, nous irons marcher au Centre d’achat de Pincourt. Même lieu de rencontre en face de l’Opti-Centre. \nPossibilité d’aller au resto après les marches; lieu décidé sur place. \nStationnement :  Stationnement du fond\, en face de l’Opti-Centre. \nRenseignements :   Claire M. – tél. 450 218-0967 \nPauline D. – tél. 450 510-1931 \nViateur B. – tél. 450 455-1014 \nInformations générales : Gisèle T. – tél. 514-620-6652
URL:https://www.rsdo.org/evenements/groupes-de-marche-vaudreuil-dorion-5/2020-02-04/
LOCATION:Opti-Centre St-Jean-Baptiste\, 145\, Harwood\, Vaudreuil-Dorion\, Québec\, J7V 1Y3\, Canada
CATEGORIES:Ateliers
ATTACH;FMTTYPE=image/jpeg:https://www.rsdo.org/wp-content/uploads/2020/01/Dorion-neige.jpg
GEO:45.3836495;-74.0116336
X-APPLE-STRUCTURED-LOCATION;VALUE=URI;X-ADDRESS=Opti-Centre St-Jean-Baptiste 145 Harwood Vaudreuil-Dorion Québec J7V 1Y3 Canada;X-APPLE-RADIUS=500;X-TITLE=145\, Harwood:geo:-74.0116336,45.3836495
END:VEVENT
BEGIN:VEVENT
DTSTART;TZID=America/New_York:20200204T193000
DTEND;TZID=America/New_York:20200204T213000
DTSTAMP:20260425T072837
CREATED:20200103T172942Z
LAST-MODIFIED:20200121T010049Z
UID:10001625-1580844600-1580851800@www.rsdo.org
SUMMARY:La chorale du RSDO
DESCRIPTION:Si la chanson vous interpelle\, venez voir et participer à une de nos pratiques. Nous sommes certains que vous serez enchanté(e)s et aurez le goût d`y revenir. La participation dans un chœur de chants procure beaucoup de plaisir\, et nous enrichit tant sur les plans : émotionnel\, intellectuel\, social\, spirituel que physique. On vous attend\, venez au rendez-vous.Les  pratiques auront lieu les mardis soirs du 7 janvier au 28 avril 2020.  Deux ou           trois concerts seront présentés en mai. \nRenseignements :        Pauline P. au 514 465-3428 \nVeuillez noter qu’il faut être membre du RSDO pour participer aux différentes activités.
URL:https://www.rsdo.org/evenements/la-chorale-du-rsdo/2020-02-04/
LOCATION:CHSLD Denis Benjamin Viger\, 3292 rue Cherrier\, L’Île-Bizard\, Québec\, H9C 2N4\, Canada
CATEGORIES:Cours
GEO:45.4904577;-73.8692953
X-APPLE-STRUCTURED-LOCATION;VALUE=URI;X-ADDRESS=CHSLD Denis Benjamin Viger 3292 rue Cherrier L’Île-Bizard Québec H9C 2N4 Canada;X-APPLE-RADIUS=500;X-TITLE=3292 rue Cherrier:geo:-73.8692953,45.4904577
END:VEVENT
BEGIN:VEVENT
DTSTART;TZID=America/New_York:20200206T093000
DTEND;TZID=America/New_York:20200206T103000
DTSTAMP:20260425T072837
CREATED:20200103T175623Z
LAST-MODIFIED:20200103T175757Z
UID:10001702-1580981400-1580985000@www.rsdo.org
SUMMARY:Groupes de marche - Dollard-des-Ormeaux
DESCRIPTION:Nous avons 3 points de rencontre pour les marches régulières d’une durée d’une heure pour tous les niveaux. Rendez-vous dix minutes à l’avance. S’il y a des changements de lieu de marche\, des annulations ou des informations de resto\, les personnes chargées des renseignements pour chaque groupe communiqueront avec vous par courriel; les intéressé(e)s\, laissez-leur vos coordonnées. Les personnes ressources pour chaque lieu de départ ne garantissent pas leur présence à chaque jour indiqué.  Amenez un(e) ami(e). Veuillez noter que pour la période de l’hiver\, il y a des changements. Un avis vous sera communiqué pour les autres changements applicables au 1er mai. \nDollard-des-Ormeaux : \nDates :   Les lundis et jeudis jusqu’au 1er mai. \nRenseignements :      Carole L. – tél. 514 626-9306. \nInformations générales : Gisèle T. – tél. 514-620-6652
URL:https://www.rsdo.org/evenements/groupes-de-marche-dollard-ormeaux/2020-02-06/
LOCATION:Parc du Centenaire William Groove\, 3000rue Lake\, Dollard-des-Ormeaux\, H9B 2M1\, Canada
CATEGORIES:Ateliers
ATTACH;FMTTYPE=image/jpeg:https://www.rsdo.org/wp-content/uploads/2019/01/Parc-Centenaire-Hiver.jpg
GEO:45.4889505;-73.8189336
X-APPLE-STRUCTURED-LOCATION;VALUE=URI;X-ADDRESS=Parc du Centenaire William Groove 3000rue Lake Dollard-des-Ormeaux H9B 2M1 Canada;X-APPLE-RADIUS=500;X-TITLE=3000rue Lake:geo:-73.8189336,45.4889505
END:VEVENT
BEGIN:VEVENT
DTSTART;TZID=America/New_York:20200206T133000
DTEND;TZID=America/New_York:20200206T143000
DTSTAMP:20260425T072837
CREATED:20200103T174903Z
LAST-MODIFIED:20200103T182947Z
UID:10001668-1580995800-1580999400@www.rsdo.org
SUMMARY:Groupes de marche - Vaudreuil-Dorion
DESCRIPTION:Nous avons 3 points de rencontre pour les marches régulières d’une durée d’une heure pour tous les niveaux. Rendez-vous dix minutes à l’avance. S’il y a des changements de lieu de marche\, des annulations ou des informations de resto\, les personnes chargées des renseignements pour chaque groupe communiqueront avec vous par courriel; les intéressé(e)s\, laissez-leur vos coordonnées. Les personnes ressources pour chaque lieu de départ ne garantissent pas leur présence à chaque jour indiqué.  Amenez un(e) ami(e). Veuillez noter que pour la période de l’hiver\, il y a des changements. Un avis vous sera communiqué pour les autres changements applicables au 1er mai. \nVaudreuil-Dorion : \nDates : Les mardis et jeudis  jusqu’au 1er mai \nSi la température ne permet pas une marche extérieure sécuritaire\, nous irons marcher au Centre d’achat de Pincourt. Même lieu de rencontre en face de l’Opti-Centre. \nPossibilité d’aller au resto après les marches; lieu décidé sur place. \nStationnement :  Stationnement du fond\, en face de l’Opti-Centre. \nRenseignements :   Claire M. – tél. 450 218-0967 \nPauline D. – tél. 450 510-1931 \nViateur B. – tél. 450 455-1014 \nInformations générales : Gisèle T. – tél. 514-620-6652
URL:https://www.rsdo.org/evenements/groupes-de-marche-vaudreuil-dorion-5/2020-02-06/
LOCATION:Opti-Centre St-Jean-Baptiste\, 145\, Harwood\, Vaudreuil-Dorion\, Québec\, J7V 1Y3\, Canada
CATEGORIES:Ateliers
ATTACH;FMTTYPE=image/jpeg:https://www.rsdo.org/wp-content/uploads/2020/01/Dorion-neige.jpg
GEO:45.3836495;-74.0116336
X-APPLE-STRUCTURED-LOCATION;VALUE=URI;X-ADDRESS=Opti-Centre St-Jean-Baptiste 145 Harwood Vaudreuil-Dorion Québec J7V 1Y3 Canada;X-APPLE-RADIUS=500;X-TITLE=145\, Harwood:geo:-74.0116336,45.3836495
END:VEVENT
BEGIN:VEVENT
DTSTART;TZID=America/New_York:20200206T193000
DTEND;TZID=America/New_York:20200206T213000
DTSTAMP:20260425T072837
CREATED:20200104T021248Z
LAST-MODIFIED:20200104T021248Z
UID:10000408-1581017400-1581024600@www.rsdo.org
SUMMARY:Améliorez votre qualité de vie
DESCRIPTION:Le coût de cette conférence est de 20 $ pour les non-membres. \nMartin Allard\, coach des stars\, œuvre dans le domaine du mieux-être et de la santé depuis 25 ans.  Il est naturopathe spécialisé en phytothérapie attesté par l’Association des naturopathes et naturothérapeuthes spécialisés en phytothérapie du Québec (ANNSPQ) depuis 1994 et membre du comité de discipline de cette même association.  Il est fondateur d’une clinique spécialisée en perte et en gestion de poids.  Martin Allard est la référence en matière de naturopathie et nutrition auprès des artistes.  Parmi ses clients : Charles Lafortune\, François Morency\, Laurent Paquin\, Patrick Bruel\, Claude Legault\, Sophie Prégent\, Rachid Badouri\, Sugar Sammy\, Anne Dorval\, Adib Alkhalidey\, Dave Morisette\, Mario Pelchat…et bien d’autres \nDe nos jours\, qui que nous sommes : hommes\, femmes\, professionnels\, employeurs\, et employés\, nous cherchons\,  à performer plus. Nous cherchons l’outil ultime qui nous permettra d’améliorer nos performances et notre qualité de vie afin d’accéder à mieux : meilleure santé\, meilleure image et estime de soi\, meilleur revenu! \nMartin Allard nous propose un outil de travail et de transformation que nous avons tous à notre portée\, un outil de travail efficace et durable mais surtout accessible : sa méthode de nutrition. \nCette conférence s’adresse à: \n\nHommes et femmes\n\n\nPersonnes âgées\n\n\nAthlètes\n\nqui souhaitent améliorer leur santé\, leur image et leur estime de soi.
URL:https://www.rsdo.org/evenements/ameliorez-qualite-de-vie/
LOCATION:Centre communautaire Marcel Morin\, 14068\, boulevard Gouin Ouest\, Pierrefonds\, Québec\, H8Z 1Y1\, Canada
CATEGORIES:Conférences
ATTACH;FMTTYPE=image/jpeg:https://www.rsdo.org/wp-content/uploads/2019/12/Martin-Allard.jpg
GEO:45.4956281;-73.8506691
X-APPLE-STRUCTURED-LOCATION;VALUE=URI;X-ADDRESS=Centre communautaire Marcel Morin 14068 boulevard Gouin Ouest Pierrefonds Québec H8Z 1Y1 Canada;X-APPLE-RADIUS=500;X-TITLE=14068\, boulevard Gouin Ouest:geo:-73.8506691,45.4956281
END:VEVENT
BEGIN:VEVENT
DTSTART;TZID=America/New_York:20200208T100000
DTEND;TZID=America/New_York:20200208T110000
DTSTAMP:20260425T072837
CREATED:20200103T182611Z
LAST-MODIFIED:20200103T182611Z
UID:10001732-1581156000-1581159600@www.rsdo.org
SUMMARY:Groupes de marche - Lachine
DESCRIPTION:Nous avons 3 points de rencontre pour les marches régulières d’une durée d’une heure pour tous les niveaux. Rendez-vous dix minutes à l’avance. S’il y a des changements de lieu de marche\, des annulations ou des informations de resto\, les personnes chargées des renseignements pour chaque groupe communiqueront avec vous par courriel; les intéressé(e)s\, laissez-leur vos coordonnées. Les personnes ressources pour chaque lieu de départ ne garantissent pas leur présence à chaque jour indiqué.  Amenez un(e) ami(e). Veuillez noter que pour la période de l’hiver\, il y a des changements. Un avis vous sera communiqué pour les autres changements applicables au 1er mai. \nLachine : \nDates : Les samedi jusqu’au 1er mai \nPossibilité d’aller au resto après la marche; lieux variables à proximité. Possibilité d’aller parfois marcher ailleurs mais même heure et même lieu de rencontre et possibilité de covoiturage. \nStationnement :  Sur les rues avoisinantes où le stationnement est permis \nRenseignements :  Deanna G. – tél. 514-575-2844 \nInformations générales : Gisèle T. – tél. 514-620-6652 \n 
URL:https://www.rsdo.org/evenements/groupes-de-marche-lachine-3/2020-02-08/
LOCATION:Dairy Queen Lachine\, 3210\, boul. Saint-Joseph\, Lachine\, Québec\, H8T 1P4\, Canada
CATEGORIES:Ateliers
ATTACH;FMTTYPE=image/jpeg:https://www.rsdo.org/wp-content/uploads/2020/01/Canal-de-Lachine-en-hiver.jpg
GEO:45.4338847;-73.6923329
X-APPLE-STRUCTURED-LOCATION;VALUE=URI;X-ADDRESS=Dairy Queen Lachine 3210 boul. Saint-Joseph Lachine Québec H8T 1P4 Canada;X-APPLE-RADIUS=500;X-TITLE=3210\, boul. Saint-Joseph:geo:-73.6923329,45.4338847
END:VEVENT
BEGIN:VEVENT
DTSTART;TZID=America/New_York:20200208T100000
DTEND;TZID=America/New_York:20200208T113000
DTSTAMP:20260425T072837
CREATED:20200103T174114Z
LAST-MODIFIED:20200104T005848Z
UID:10001642-1581156000-1581161400@www.rsdo.org
SUMMARY:Cours de conditionnement physique et yoga
DESCRIPTION:Pour suivre ce cours\, il faut être membre du RSDO sauf pour le 1er cours. \nLe RSDO vous offre gratuitement  un cours de yoga d’une durée d’une heure précédé d’une activité de conditionnement physique d’une durée de 30 minutes. Vous avez le choix de faire l’un ou l’autre ou les deux. \nDate :  Les samedis du 11 janvier au 30 mai 2020 \nPour votre confort au yoga\, apportez un tapis\, des blocs en mousse\, serviette et bouteille d’eau. \nPour le conditionnement physique\, des espadrilles et des poids de 2 à 5 kg. \nInstructrice : Josey Deroy \nRenseignements : Chantal 514-696-9408 ou RSDO 438-390-7736
URL:https://www.rsdo.org/evenements/cours-de-conditionnement-physique-yoga/2020-02-08/
LOCATION:Chalet Roxboro\, 10 11 rue\, Roxboro\, Quebec\, H8Y 2P3\, Canada
CATEGORIES:Cours
ATTACH;FMTTYPE=image/jpeg:https://www.rsdo.org/wp-content/uploads/2020/01/Yoga.jpg
ORGANIZER;CN="Josey Deroy":MAILTO:josey.yoga.fitness@gmail.com
GEO:45.5053201;-73.8030777
X-APPLE-STRUCTURED-LOCATION;VALUE=URI;X-ADDRESS=Chalet Roxboro 10 11 rue Roxboro Quebec H8Y 2P3 Canada;X-APPLE-RADIUS=500;X-TITLE=10 11 rue:geo:-73.8030777,45.5053201
END:VEVENT
BEGIN:VEVENT
DTSTART;TZID=America/New_York:20200209T110000
DTEND;TZID=America/New_York:20200209T130000
DTSTAMP:20260425T072837
CREATED:20200103T193011Z
LAST-MODIFIED:20200103T193423Z
UID:10000398-1581246000-1581253200@www.rsdo.org
SUMMARY:Eggspress Ïle-Perrot
DESCRIPTION:Les brunchs ont lieu aux deux semaines\, les dimanches à 11 h. Pour continuer les bonnes habitudes\, nous vous proposons d’initier des activités sportives après le brunch. \nN’oubliez pas d’en discuter entre vous pendant le brunch afin d’apporter l’équipement adéquat pour la prochaine fois. Veuillez noter que les réservations sont préférables au plus tard le vendredi précédent le brunch. \nRenseignements et réservations : Michel V. au 514 567-4623.
URL:https://www.rsdo.org/evenements/eggspress-ile-perrot-2/
LOCATION:Eggspress\, 25\, boul. Don Quichotte\, Ïle-Perrot\, Québec\, J7V 7X4\, Canada
CATEGORIES:Soutien émotionnel
ATTACH;FMTTYPE=image/jpeg:https://www.rsdo.org/wp-content/uploads/2019/09/Eggspress.jpg
GEO:45.3910457;-73.9647977
X-APPLE-STRUCTURED-LOCATION;VALUE=URI;X-ADDRESS=Eggspress 25 boul. Don Quichotte Ïle-Perrot Québec J7V 7X4 Canada;X-APPLE-RADIUS=500;X-TITLE=25\, boul. Don Quichotte:geo:-73.9647977,45.3910457
END:VEVENT
END:VCALENDAR