BEGIN:VCALENDAR
VERSION:2.0
PRODID:-//RSDO - ECPv6.15.20//NONSGML v1.0//EN
CALSCALE:GREGORIAN
METHOD:PUBLISH
X-ORIGINAL-URL:https://www.rsdo.org
X-WR-CALDESC:Évènements pour RSDO
REFRESH-INTERVAL;VALUE=DURATION:PT1H
X-Robots-Tag:noindex
X-PUBLISHED-TTL:PT1H
BEGIN:VTIMEZONE
TZID:America/New_York
BEGIN:DAYLIGHT
TZOFFSETFROM:-0500
TZOFFSETTO:-0400
TZNAME:EDT
DTSTART:20180311T070000
END:DAYLIGHT
BEGIN:STANDARD
TZOFFSETFROM:-0400
TZOFFSETTO:-0500
TZNAME:EST
DTSTART:20181104T060000
END:STANDARD
BEGIN:DAYLIGHT
TZOFFSETFROM:-0500
TZOFFSETTO:-0400
TZNAME:EDT
DTSTART:20190310T070000
END:DAYLIGHT
BEGIN:STANDARD
TZOFFSETFROM:-0400
TZOFFSETTO:-0500
TZNAME:EST
DTSTART:20191103T060000
END:STANDARD
BEGIN:DAYLIGHT
TZOFFSETFROM:-0500
TZOFFSETTO:-0400
TZNAME:EDT
DTSTART:20200308T070000
END:DAYLIGHT
BEGIN:STANDARD
TZOFFSETFROM:-0400
TZOFFSETTO:-0500
TZNAME:EST
DTSTART:20201101T060000
END:STANDARD
END:VTIMEZONE
BEGIN:VEVENT
DTSTART;TZID=America/New_York:20191216T093000
DTEND;TZID=America/New_York:20191216T103000
DTSTAMP:20260425T115650
CREATED:20190929T232425Z
LAST-MODIFIED:20190929T234348Z
UID:10000342-1576488600-1576492200@www.rsdo.org
SUMMARY:Groupes de marche - Parc nature de l’Île-Bizard
DESCRIPTION:Nous avons 3 points de rencontre pour les marches régulières gratuites d’une durée de une heure pour tous les niveaux. Rendez-vous 10 minutes avant le départ. S’il y a changements de lieu de marche\, des annulations ou des informations de resto\, les personnes chargées des renseignements pour chaque groupe communiqueront avec vous ; les intéressé(e)s\, laissez-leur vos coordonnées. Les personnes ressources pour chaque lieu de départ ne garantissent pas leur présence à chaque jour indiqué ; amenez un(e) ami(e). \nRencontre : dans le stationnement du Complexe sportif Saint-Raphaël\,  près de l’entrée du parc. \nStationnement : Au Complexe sportif\, places près du boulevard Jacques-Bizard. \nRenseignements : Carole L. – tél. 514 626-9306. \nInformations générales : Gisèle T. 514-620-6652
URL:https://www.rsdo.org/evenements/groupes-de-marche-parc-nature-de-lile-bizard-4/2019-12-16/
LOCATION:Complexe sportif Saint-Raphaël\, 750\, boul. Jacques-Bizard\, H9C 2Y2\, Île-Bizard\, Québec\, H9C 2Y2\, Canada
CATEGORIES:Ateliers
ATTACH;FMTTYPE=image/jpeg:https://www.rsdo.org/wp-content/uploads/2018/06/Randonnée-parc-ïle-Bizard.jpg
GEO:45.5027065;-73.8776709
X-APPLE-STRUCTURED-LOCATION;VALUE=URI;X-ADDRESS=Complexe sportif Saint-Raphaël 750 boul. Jacques-Bizard H9C 2Y2 Île-Bizard Québec H9C 2Y2 Canada;X-APPLE-RADIUS=500;X-TITLE=750\, boul. Jacques-Bizard\, H9C 2Y2:geo:-73.8776709,45.5027065
END:VEVENT
BEGIN:VEVENT
DTSTART;TZID=America/New_York:20191217T133000
DTEND;TZID=America/New_York:20191217T143000
DTSTAMP:20260425T115650
CREATED:20190929T232916Z
LAST-MODIFIED:20190929T234139Z
UID:10000373-1576589400-1576593000@www.rsdo.org
SUMMARY:Groupes de marche - Vaudreuil-Dorion
DESCRIPTION:Nous avons 3 points de rencontre pour les marches régulières gratuites d’une durée de une heure pour tous les niveaux. Rendez-vous 10 minutes avant le départ. S’il y a changements de lieu de marche\, des annulations ou des informations de resto\, les personnes chargées des renseignements pour chaque groupe communiqueront avec vous ; les intéressé(e)s\, laissez-leur vos coordonnées. Les personnes ressources pour chaque lieu de départ ne garantissent pas leur présence à chaque jour indiqué ; amenez un(e) ami(e). \nRencontre : Opti-Centre Saint-Jean-Baptiste\, 145 Harwood\, J7V 1Y3. \nPossibilité d’aller au resto après la marche. \nPossibilité de changement de parcours mais même heure et même point de rencontre \nStationnement : Rencontre au stationnement du fond\, en face de l’Opti-Centre. \nRenseignements : Claire M. – tél. 450 218-0967\, Pauline D. – tél. 450 510-1931\, ou Viateur B. – tél. 450 455-1014 \nInformations générales : Gisèle T. 514-620-6652
URL:https://www.rsdo.org/evenements/groupes-de-marche-vaudreuil-dorion-4/2019-12-17/
LOCATION:Opti-Centre St-Jean-Baptiste\, 145\, Harwood\, Vaudreuil-Dorion\, Québec\, J7V 1Y3\, Canada
CATEGORIES:Ateliers
ATTACH;FMTTYPE=image/jpeg:https://www.rsdo.org/wp-content/uploads/2018/06/Randonnée-pédestre-2.jpg
GEO:45.3836495;-74.0116336
X-APPLE-STRUCTURED-LOCATION;VALUE=URI;X-ADDRESS=Opti-Centre St-Jean-Baptiste 145 Harwood Vaudreuil-Dorion Québec J7V 1Y3 Canada;X-APPLE-RADIUS=500;X-TITLE=145\, Harwood:geo:-74.0116336,45.3836495
END:VEVENT
BEGIN:VEVENT
DTSTART;TZID=America/New_York:20191219T133000
DTEND;TZID=America/New_York:20191219T143000
DTSTAMP:20260425T115650
CREATED:20190929T232916Z
LAST-MODIFIED:20190929T234139Z
UID:10000374-1576762200-1576765800@www.rsdo.org
SUMMARY:Groupes de marche - Vaudreuil-Dorion
DESCRIPTION:Nous avons 3 points de rencontre pour les marches régulières gratuites d’une durée de une heure pour tous les niveaux. Rendez-vous 10 minutes avant le départ. S’il y a changements de lieu de marche\, des annulations ou des informations de resto\, les personnes chargées des renseignements pour chaque groupe communiqueront avec vous ; les intéressé(e)s\, laissez-leur vos coordonnées. Les personnes ressources pour chaque lieu de départ ne garantissent pas leur présence à chaque jour indiqué ; amenez un(e) ami(e). \nRencontre : Opti-Centre Saint-Jean-Baptiste\, 145 Harwood\, J7V 1Y3. \nPossibilité d’aller au resto après la marche. \nPossibilité de changement de parcours mais même heure et même point de rencontre \nStationnement : Rencontre au stationnement du fond\, en face de l’Opti-Centre. \nRenseignements : Claire M. – tél. 450 218-0967\, Pauline D. – tél. 450 510-1931\, ou Viateur B. – tél. 450 455-1014 \nInformations générales : Gisèle T. 514-620-6652
URL:https://www.rsdo.org/evenements/groupes-de-marche-vaudreuil-dorion-4/2019-12-19/
LOCATION:Opti-Centre St-Jean-Baptiste\, 145\, Harwood\, Vaudreuil-Dorion\, Québec\, J7V 1Y3\, Canada
CATEGORIES:Ateliers
ATTACH;FMTTYPE=image/jpeg:https://www.rsdo.org/wp-content/uploads/2018/06/Randonnée-pédestre-2.jpg
GEO:45.3836495;-74.0116336
X-APPLE-STRUCTURED-LOCATION;VALUE=URI;X-ADDRESS=Opti-Centre St-Jean-Baptiste 145 Harwood Vaudreuil-Dorion Québec J7V 1Y3 Canada;X-APPLE-RADIUS=500;X-TITLE=145\, Harwood:geo:-74.0116336,45.3836495
END:VEVENT
BEGIN:VEVENT
DTSTART;TZID=America/New_York:20191219T193000
DTEND;TZID=America/New_York:20191219T213000
DTSTAMP:20260425T115651
CREATED:20190929T231443Z
LAST-MODIFIED:20191025T203716Z
UID:10000391-1576783800-1576791000@www.rsdo.org
SUMMARY:Les Noëls dans le monde
DESCRIPTION:Ce globe-trotter associé à nos divers médias a visité au fil des ans\, plus d’une centaine de pays. Et déjà\, il a livré au-delà de 150 conférences devant des foules friandes de voyages\, des gens de l’âge d’or de même qu’au sein des sociétés historiques et des bibliothèques municipales. \nGilles Proulx est un raconteur incomparable! \nGilles Proulx a passé une vingtaine de Noëls aux quatre coins du monde. Il raconte ses plus exceptionnels en Antarctique\, en Corée\, en Algérie chez les hommes bleus\, à Bethléem\, à Rome de même qu’à Vienne et en Bavière. Rien de comparable avec chez nous!
URL:https://www.rsdo.org/evenements/les-noels-dans-le-monde/
LOCATION:Centre communautaire Marcel Morin\, 14068\, boulevard Gouin Ouest\, Pierrefonds\, Québec\, H8Z 1Y1\, Canada
CATEGORIES:Conférences
ATTACH;FMTTYPE=image/jpeg:https://www.rsdo.org/wp-content/uploads/2019/01/Gilles-Proulx-1.jpg
GEO:45.4956281;-73.8506691
X-APPLE-STRUCTURED-LOCATION;VALUE=URI;X-ADDRESS=Centre communautaire Marcel Morin 14068 boulevard Gouin Ouest Pierrefonds Québec H8Z 1Y1 Canada;X-APPLE-RADIUS=500;X-TITLE=14068\, boulevard Gouin Ouest:geo:-73.8506691,45.4956281
END:VEVENT
BEGIN:VEVENT
DTSTART;TZID=America/New_York:20191221T110000
DTEND;TZID=America/New_York:20191221T120000
DTSTAMP:20260425T115651
CREATED:20190929T233922Z
LAST-MODIFIED:20190929T234003Z
UID:10000390-1576926000-1576929600@www.rsdo.org
SUMMARY:Groupes de marches - Lachine
DESCRIPTION:Nous avons 3 points de rencontre pour les marches régulières gratuites d’une durée de une heure pour tous les niveaux. Rendez-vous 10 minutes avant le départ. S’il y a changements de lieu de marche\, des annulations ou des informations de resto\, les personnes chargées des renseignements pour chaque groupe communiqueront avec vous ; les intéressé(e)s\, laissez-leur vos coordonnées. Les personnes ressources pour chaque lieu de départ ne garantissent pas leur présence à chaque jour indiqué ; amenez un(e) ami(e). \nRencontre : Sur le boul. Saint-Joseph à Lachine\, près de la 32 ème avenue\, devant le Dairy Queen\, sur le bord de l’eau. \nPossibilité d’aller au resto à 12 h 15 (lieux variables à proximité). Possibilité d’aller parfois marcher ailleurs\, mais même heure et même point de rencontre et possibilité de covoiturage. Informations mises sur Facebook\, site rass.lachine. \nStationnement : Sur les rues avoisinantes où le stationnement est permis \nRenseignements : Nancy S. – tél. 438 403-2919. \nInformations générales : Gisèle T. 514-620-6652 \n 
URL:https://www.rsdo.org/evenements/groupes-de-marches-lachine/2019-12-21/
LOCATION:Dairy Queen Lachine\, 3210\, boul. Saint-Joseph\, Lachine\, Québec\, H8T 1P4\, Canada
CATEGORIES:Ateliers
ATTACH;FMTTYPE=image/jpeg:https://www.rsdo.org/wp-content/uploads/2018/06/Randonnée-Lachine.jpg
GEO:45.4338847;-73.6923329
X-APPLE-STRUCTURED-LOCATION;VALUE=URI;X-ADDRESS=Dairy Queen Lachine 3210 boul. Saint-Joseph Lachine Québec H8T 1P4 Canada;X-APPLE-RADIUS=500;X-TITLE=3210\, boul. Saint-Joseph:geo:-73.6923329,45.4338847
END:VEVENT
BEGIN:VEVENT
DTSTART;TZID=America/New_York:20191222T110000
DTEND;TZID=America/New_York:20191222T130000
DTSTAMP:20260425T115651
CREATED:20190902T181106Z
LAST-MODIFIED:20190902T181106Z
UID:10000308-1577012400-1577019600@www.rsdo.org
SUMMARY:Brasserie La Résidence
DESCRIPTION:
URL:https://www.rsdo.org/evenements/brasserie-la-residence-8/
LOCATION:Brasserie le Manoir de Pointe-Claire\, 600\, boulevard Saint-Jean\, Pointe-Claire\, Québec\, H9R 3J9\, Canada
CATEGORIES:Soutien émotionnel
ATTACH;FMTTYPE=image/jpeg:https://www.rsdo.org/wp-content/uploads/2018/06/Brasserie-La-Résidence-view-from-outside-1.jpg
GEO:45.4587148;-73.8228417
X-APPLE-STRUCTURED-LOCATION;VALUE=URI;X-ADDRESS=Brasserie le Manoir de Pointe-Claire 600 boulevard Saint-Jean Pointe-Claire Québec H9R 3J9 Canada;X-APPLE-RADIUS=500;X-TITLE=600\, boulevard Saint-Jean:geo:-73.8228417,45.4587148
END:VEVENT
END:VCALENDAR