BEGIN:VCALENDAR
VERSION:2.0
PRODID:-//RSDO - ECPv6.15.20//NONSGML v1.0//EN
CALSCALE:GREGORIAN
METHOD:PUBLISH
X-ORIGINAL-URL:https://www.rsdo.org
X-WR-CALDESC:Évènements pour RSDO
REFRESH-INTERVAL;VALUE=DURATION:PT1H
X-Robots-Tag:noindex
X-PUBLISHED-TTL:PT1H
BEGIN:VTIMEZONE
TZID:America/New_York
BEGIN:DAYLIGHT
TZOFFSETFROM:-0500
TZOFFSETTO:-0400
TZNAME:EDT
DTSTART:20180311T070000
END:DAYLIGHT
BEGIN:STANDARD
TZOFFSETFROM:-0400
TZOFFSETTO:-0500
TZNAME:EST
DTSTART:20181104T060000
END:STANDARD
BEGIN:DAYLIGHT
TZOFFSETFROM:-0500
TZOFFSETTO:-0400
TZNAME:EDT
DTSTART:20190310T070000
END:DAYLIGHT
BEGIN:STANDARD
TZOFFSETFROM:-0400
TZOFFSETTO:-0500
TZNAME:EST
DTSTART:20191103T060000
END:STANDARD
BEGIN:DAYLIGHT
TZOFFSETFROM:-0500
TZOFFSETTO:-0400
TZNAME:EDT
DTSTART:20200308T070000
END:DAYLIGHT
BEGIN:STANDARD
TZOFFSETFROM:-0400
TZOFFSETTO:-0500
TZNAME:EST
DTSTART:20201101T060000
END:STANDARD
END:VTIMEZONE
BEGIN:VEVENT
DTSTART;TZID=America/New_York:20191202T093000
DTEND;TZID=America/New_York:20191202T103000
DTSTAMP:20260425T115713
CREATED:20190929T232425Z
LAST-MODIFIED:20190929T234348Z
UID:10000338-1575279000-1575282600@www.rsdo.org
SUMMARY:Groupes de marche - Parc nature de l’Île-Bizard
DESCRIPTION:Nous avons 3 points de rencontre pour les marches régulières gratuites d’une durée de une heure pour tous les niveaux. Rendez-vous 10 minutes avant le départ. S’il y a changements de lieu de marche\, des annulations ou des informations de resto\, les personnes chargées des renseignements pour chaque groupe communiqueront avec vous ; les intéressé(e)s\, laissez-leur vos coordonnées. Les personnes ressources pour chaque lieu de départ ne garantissent pas leur présence à chaque jour indiqué ; amenez un(e) ami(e). \nRencontre : dans le stationnement du Complexe sportif Saint-Raphaël\,  près de l’entrée du parc. \nStationnement : Au Complexe sportif\, places près du boulevard Jacques-Bizard. \nRenseignements : Carole L. – tél. 514 626-9306. \nInformations générales : Gisèle T. 514-620-6652
URL:https://www.rsdo.org/evenements/groupes-de-marche-parc-nature-de-lile-bizard-4/2019-12-02/
LOCATION:Complexe sportif Saint-Raphaël\, 750\, boul. Jacques-Bizard\, H9C 2Y2\, Île-Bizard\, Québec\, H9C 2Y2\, Canada
CATEGORIES:Ateliers
ATTACH;FMTTYPE=image/jpeg:https://www.rsdo.org/wp-content/uploads/2018/06/Randonnée-parc-ïle-Bizard.jpg
GEO:45.5027065;-73.8776709
X-APPLE-STRUCTURED-LOCATION;VALUE=URI;X-ADDRESS=Complexe sportif Saint-Raphaël 750 boul. Jacques-Bizard H9C 2Y2 Île-Bizard Québec H9C 2Y2 Canada;X-APPLE-RADIUS=500;X-TITLE=750\, boul. Jacques-Bizard\, H9C 2Y2:geo:-73.8776709,45.5027065
END:VEVENT
BEGIN:VEVENT
DTSTART;TZID=America/New_York:20191202T183000
DTEND;TZID=America/New_York:20191202T203000
DTSTAMP:20260425T115713
CREATED:20190902T235715Z
LAST-MODIFIED:20190929T152319Z
UID:10001529-1575311400-1575318600@www.rsdo.org
SUMMARY:L'informatique au goût de chacun - Annulé - Minimum de participants non atteint
DESCRIPTION:Pour suivre ce cours\, il faut être membre du RSDO. \nL’informatique est devenue un véritable phénomène de société touchant des personnes de tous âges et de tous les secteurs. Pour la session d’automne\, les cours d’informatique seront de niveau intermédiaire (word\,excel) etc. Programmation à venir. \n Inscription: Les personnes qui s’inscrivent pour la première fois doivent apporter: leur certificat de naissance (grand format)\, carte de citoyenneté ou résident permanent et la carte d’assurance maladie. \n Dates : Les lundis (fin du mois de septembre à décembre 2019). Dates à confirmer. \nCoût : Gratuit. \nRenseignements : Louise D. 514 542-1308 ou le RSDO 438 390-7736
URL:https://www.rsdo.org/evenements/linformatique-gout-de-chacun-3/2019-12-02/
LOCATION:Centre d’éducation des adultes Jeanne-Sauvé\, 305\, avenue Mimosa\,\, Dorval\, Québec\, H9S 3K5\, Canada
CATEGORIES:Cours
ATTACH;FMTTYPE=image/jpeg:https://www.rsdo.org/wp-content/uploads/2018/09/keyboard-621830__340.jpg
GEO:45.4443775;-73.7377077
X-APPLE-STRUCTURED-LOCATION;VALUE=URI;X-ADDRESS=Centre d’éducation des adultes Jeanne-Sauvé 305 avenue Mimosa Dorval Québec H9S 3K5 Canada;X-APPLE-RADIUS=500;X-TITLE=305\, avenue Mimosa\,:geo:-73.7377077,45.4443775
END:VEVENT
BEGIN:VEVENT
DTSTART;TZID=America/New_York:20191203T133000
DTEND;TZID=America/New_York:20191203T143000
DTSTAMP:20260425T115713
CREATED:20190929T232916Z
LAST-MODIFIED:20190929T234139Z
UID:10000369-1575379800-1575383400@www.rsdo.org
SUMMARY:Groupes de marche - Vaudreuil-Dorion
DESCRIPTION:Nous avons 3 points de rencontre pour les marches régulières gratuites d’une durée de une heure pour tous les niveaux. Rendez-vous 10 minutes avant le départ. S’il y a changements de lieu de marche\, des annulations ou des informations de resto\, les personnes chargées des renseignements pour chaque groupe communiqueront avec vous ; les intéressé(e)s\, laissez-leur vos coordonnées. Les personnes ressources pour chaque lieu de départ ne garantissent pas leur présence à chaque jour indiqué ; amenez un(e) ami(e). \nRencontre : Opti-Centre Saint-Jean-Baptiste\, 145 Harwood\, J7V 1Y3. \nPossibilité d’aller au resto après la marche. \nPossibilité de changement de parcours mais même heure et même point de rencontre \nStationnement : Rencontre au stationnement du fond\, en face de l’Opti-Centre. \nRenseignements : Claire M. – tél. 450 218-0967\, Pauline D. – tél. 450 510-1931\, ou Viateur B. – tél. 450 455-1014 \nInformations générales : Gisèle T. 514-620-6652
URL:https://www.rsdo.org/evenements/groupes-de-marche-vaudreuil-dorion-4/2019-12-03/
LOCATION:Opti-Centre St-Jean-Baptiste\, 145\, Harwood\, Vaudreuil-Dorion\, Québec\, J7V 1Y3\, Canada
CATEGORIES:Ateliers
ATTACH;FMTTYPE=image/jpeg:https://www.rsdo.org/wp-content/uploads/2018/06/Randonnée-pédestre-2.jpg
GEO:45.3836495;-74.0116336
X-APPLE-STRUCTURED-LOCATION;VALUE=URI;X-ADDRESS=Opti-Centre St-Jean-Baptiste 145 Harwood Vaudreuil-Dorion Québec J7V 1Y3 Canada;X-APPLE-RADIUS=500;X-TITLE=145\, Harwood:geo:-74.0116336,45.3836495
END:VEVENT
BEGIN:VEVENT
DTSTART;TZID=America/New_York:20191205T093000
DTEND;TZID=America/New_York:20191205T103000
DTSTAMP:20260425T115713
CREATED:20190929T232425Z
LAST-MODIFIED:20190929T234348Z
UID:10000339-1575538200-1575541800@www.rsdo.org
SUMMARY:Groupes de marche - Parc nature de l’Île-Bizard
DESCRIPTION:Nous avons 3 points de rencontre pour les marches régulières gratuites d’une durée de une heure pour tous les niveaux. Rendez-vous 10 minutes avant le départ. S’il y a changements de lieu de marche\, des annulations ou des informations de resto\, les personnes chargées des renseignements pour chaque groupe communiqueront avec vous ; les intéressé(e)s\, laissez-leur vos coordonnées. Les personnes ressources pour chaque lieu de départ ne garantissent pas leur présence à chaque jour indiqué ; amenez un(e) ami(e). \nRencontre : dans le stationnement du Complexe sportif Saint-Raphaël\,  près de l’entrée du parc. \nStationnement : Au Complexe sportif\, places près du boulevard Jacques-Bizard. \nRenseignements : Carole L. – tél. 514 626-9306. \nInformations générales : Gisèle T. 514-620-6652
URL:https://www.rsdo.org/evenements/groupes-de-marche-parc-nature-de-lile-bizard-4/2019-12-05/
LOCATION:Complexe sportif Saint-Raphaël\, 750\, boul. Jacques-Bizard\, H9C 2Y2\, Île-Bizard\, Québec\, H9C 2Y2\, Canada
CATEGORIES:Ateliers
ATTACH;FMTTYPE=image/jpeg:https://www.rsdo.org/wp-content/uploads/2018/06/Randonnée-parc-ïle-Bizard.jpg
GEO:45.5027065;-73.8776709
X-APPLE-STRUCTURED-LOCATION;VALUE=URI;X-ADDRESS=Complexe sportif Saint-Raphaël 750 boul. Jacques-Bizard H9C 2Y2 Île-Bizard Québec H9C 2Y2 Canada;X-APPLE-RADIUS=500;X-TITLE=750\, boul. Jacques-Bizard\, H9C 2Y2:geo:-73.8776709,45.5027065
END:VEVENT
BEGIN:VEVENT
DTSTART;TZID=America/New_York:20191205T133000
DTEND;TZID=America/New_York:20191205T143000
DTSTAMP:20260425T115714
CREATED:20190929T232916Z
LAST-MODIFIED:20190929T234139Z
UID:10000370-1575552600-1575556200@www.rsdo.org
SUMMARY:Groupes de marche - Vaudreuil-Dorion
DESCRIPTION:Nous avons 3 points de rencontre pour les marches régulières gratuites d’une durée de une heure pour tous les niveaux. Rendez-vous 10 minutes avant le départ. S’il y a changements de lieu de marche\, des annulations ou des informations de resto\, les personnes chargées des renseignements pour chaque groupe communiqueront avec vous ; les intéressé(e)s\, laissez-leur vos coordonnées. Les personnes ressources pour chaque lieu de départ ne garantissent pas leur présence à chaque jour indiqué ; amenez un(e) ami(e). \nRencontre : Opti-Centre Saint-Jean-Baptiste\, 145 Harwood\, J7V 1Y3. \nPossibilité d’aller au resto après la marche. \nPossibilité de changement de parcours mais même heure et même point de rencontre \nStationnement : Rencontre au stationnement du fond\, en face de l’Opti-Centre. \nRenseignements : Claire M. – tél. 450 218-0967\, Pauline D. – tél. 450 510-1931\, ou Viateur B. – tél. 450 455-1014 \nInformations générales : Gisèle T. 514-620-6652
URL:https://www.rsdo.org/evenements/groupes-de-marche-vaudreuil-dorion-4/2019-12-05/
LOCATION:Opti-Centre St-Jean-Baptiste\, 145\, Harwood\, Vaudreuil-Dorion\, Québec\, J7V 1Y3\, Canada
CATEGORIES:Ateliers
ATTACH;FMTTYPE=image/jpeg:https://www.rsdo.org/wp-content/uploads/2018/06/Randonnée-pédestre-2.jpg
GEO:45.3836495;-74.0116336
X-APPLE-STRUCTURED-LOCATION;VALUE=URI;X-ADDRESS=Opti-Centre St-Jean-Baptiste 145 Harwood Vaudreuil-Dorion Québec J7V 1Y3 Canada;X-APPLE-RADIUS=500;X-TITLE=145\, Harwood:geo:-74.0116336,45.3836495
END:VEVENT
BEGIN:VEVENT
DTSTART;TZID=America/New_York:20191205T193000
DTEND;TZID=America/New_York:20191205T213000
DTSTAMP:20260425T115714
CREATED:20190929T225855Z
LAST-MODIFIED:20190929T225855Z
UID:10000395-1575574200-1575581400@www.rsdo.org
SUMMARY:La santé du foie et la désintoxication
DESCRIPTION:Madeleine Lamarre:   »Je suis M.L. naturopathe et professeure de cuisine santé depuis 20 ans. J’aide les femmes et les hommes ayant des symptômes physiques qui briment leur plaisir de la vie\, tel que les maux de tête\, de ventre\, l’insomnie\, l’excès de poids ou des bouffées de chaleur et bien plus. Je propose des solutions naturelles\, rapides et surtout efficaces\, pour que ces personnes retrouvent leur plein niveau d’énergie et jouissent de la vie sans limites. \nLe foie\, qui effectue plus de 500 fonctions vitales\, est l’organe le plus important du corps. Il est cependant le plus souvent maltraité. Comment est votre foie ? En prenez-vous assez soin? Devriez-vous faire une cure de nettoyage? Saviez-vous que plus de 50 % des gens ne devraient pas faire de cure de nettoyage puisque le foie manque d’énergie\, mais que tout le monde doit prendre soin d’éliminer les toxines ? Avez-vous un foie faible ou en excès ? Vous aurez vos réponses en assistant à cette formation. Dans cette formation\, vous apprendrez aussi :• Les causes du déséquilibre du foie et quels en sont les symptômes. • Les étapes de la détoxication ; • Les solutions pour aider son foie ; • Des outils pour vous accompagner suite à la conférence. Tout le monde doit se nettoyer\, mais pas tous de la même façon ! »
URL:https://www.rsdo.org/evenements/sante-foie-desintoxication/
LOCATION:Centre communautaire Marcel Morin\, 14068\, boulevard Gouin Ouest\, Pierrefonds\, Québec\, H8Z 1Y1\, Canada
CATEGORIES:Conférences
ATTACH;FMTTYPE=image/jpeg:https://www.rsdo.org/wp-content/uploads/2019/09/Madeleine-Lamarre-2.jpg
GEO:45.4956281;-73.8506691
X-APPLE-STRUCTURED-LOCATION;VALUE=URI;X-ADDRESS=Centre communautaire Marcel Morin 14068 boulevard Gouin Ouest Pierrefonds Québec H8Z 1Y1 Canada;X-APPLE-RADIUS=500;X-TITLE=14068\, boulevard Gouin Ouest:geo:-73.8506691,45.4956281
END:VEVENT
BEGIN:VEVENT
DTSTART;TZID=America/New_York:20191207T100000
DTEND;TZID=America/New_York:20191207T113000
DTSTAMP:20260425T115714
CREATED:20190903T000724Z
LAST-MODIFIED:20190903T000724Z
UID:10001544-1575712800-1575718200@www.rsdo.org
SUMMARY:Cours de conditionnement physique et de yoga
DESCRIPTION:Pour suivre ce cours\, il faut être membre du RSDO sauf pour le 1er cours. \nLe RSDO vous offre gratuitement un cours de yoga d’une heure combiné avec le conditionnement physique d’une durée de 30 minutes. Vous avez le choix de faire l’un ou l’autre ou les deux. \nHoraire :  conditionnement physique de 10 h à 10 h 30;  yoga de 10 h 30 à 11 h 30. \nInstructrice : Josey Deroy \nPour votre confort au yoga\, apportez un tapis\, des blocs en mousse\, serviette et bouteille d’eau. \nPour le conditionnement physique\, des espadrilles et des poids de 2 à 5 kg. \nRenseignements : Chantal 514-696-9408 ou RSDO 438-390-7736
URL:https://www.rsdo.org/evenements/cours-de-conditionnement-physique-de-yoga-4/2019-12-07/
LOCATION:Chalet Roxboro\, 10 11 rue\, Roxboro\, Quebec\, H8Y 2P3\, Canada
CATEGORIES:Cours
ATTACH;FMTTYPE=image/jpeg:https://www.rsdo.org/wp-content/uploads/2018/09/download-1-1.jpg
GEO:45.5053201;-73.8030777
X-APPLE-STRUCTURED-LOCATION;VALUE=URI;X-ADDRESS=Chalet Roxboro 10 11 rue Roxboro Quebec H8Y 2P3 Canada;X-APPLE-RADIUS=500;X-TITLE=10 11 rue:geo:-73.8030777,45.5053201
END:VEVENT
BEGIN:VEVENT
DTSTART;TZID=America/New_York:20191207T110000
DTEND;TZID=America/New_York:20191207T120000
DTSTAMP:20260425T115714
CREATED:20190929T233922Z
LAST-MODIFIED:20190929T234003Z
UID:10000388-1575716400-1575720000@www.rsdo.org
SUMMARY:Groupes de marches - Lachine
DESCRIPTION:Nous avons 3 points de rencontre pour les marches régulières gratuites d’une durée de une heure pour tous les niveaux. Rendez-vous 10 minutes avant le départ. S’il y a changements de lieu de marche\, des annulations ou des informations de resto\, les personnes chargées des renseignements pour chaque groupe communiqueront avec vous ; les intéressé(e)s\, laissez-leur vos coordonnées. Les personnes ressources pour chaque lieu de départ ne garantissent pas leur présence à chaque jour indiqué ; amenez un(e) ami(e). \nRencontre : Sur le boul. Saint-Joseph à Lachine\, près de la 32 ème avenue\, devant le Dairy Queen\, sur le bord de l’eau. \nPossibilité d’aller au resto à 12 h 15 (lieux variables à proximité). Possibilité d’aller parfois marcher ailleurs\, mais même heure et même point de rencontre et possibilité de covoiturage. Informations mises sur Facebook\, site rass.lachine. \nStationnement : Sur les rues avoisinantes où le stationnement est permis \nRenseignements : Nancy S. – tél. 438 403-2919. \nInformations générales : Gisèle T. 514-620-6652 \n 
URL:https://www.rsdo.org/evenements/groupes-de-marches-lachine/2019-12-07/
LOCATION:Dairy Queen Lachine\, 3210\, boul. Saint-Joseph\, Lachine\, Québec\, H8T 1P4\, Canada
CATEGORIES:Ateliers
ATTACH;FMTTYPE=image/jpeg:https://www.rsdo.org/wp-content/uploads/2018/06/Randonnée-Lachine.jpg
GEO:45.4338847;-73.6923329
X-APPLE-STRUCTURED-LOCATION;VALUE=URI;X-ADDRESS=Dairy Queen Lachine 3210 boul. Saint-Joseph Lachine Québec H8T 1P4 Canada;X-APPLE-RADIUS=500;X-TITLE=3210\, boul. Saint-Joseph:geo:-73.6923329,45.4338847
END:VEVENT
BEGIN:VEVENT
DTSTART;TZID=America/New_York:20191208T110000
DTEND;TZID=America/New_York:20191208T130000
DTSTAMP:20260425T115714
CREATED:20190902T180920Z
LAST-MODIFIED:20191126T123448Z
UID:10000307-1575802800-1575810000@www.rsdo.org
SUMMARY:Brasserie Le Manoir Pointe-Claire
DESCRIPTION:
URL:https://www.rsdo.org/evenements/brasserie-manoir-pointe-claire-8/
LOCATION:Brasserie le Manoir de Pointe-Claire\, 600\, boulevard Saint-Jean\, Pointe-Claire\, Québec\, H9R 3J9\, Canada
CATEGORIES:Soutien émotionnel
ATTACH;FMTTYPE=image/jpeg:https://www.rsdo.org/wp-content/uploads/2018/01/Brasserie-le-Manoir-de-Lachine.jpg
GEO:45.4587148;-73.8228417
X-APPLE-STRUCTURED-LOCATION;VALUE=URI;X-ADDRESS=Brasserie le Manoir de Pointe-Claire 600 boulevard Saint-Jean Pointe-Claire Québec H9R 3J9 Canada;X-APPLE-RADIUS=500;X-TITLE=600\, boulevard Saint-Jean:geo:-73.8228417,45.4587148
END:VEVENT
END:VCALENDAR