BEGIN:VCALENDAR
VERSION:2.0
PRODID:-//RSDO - ECPv6.15.20//NONSGML v1.0//EN
CALSCALE:GREGORIAN
METHOD:PUBLISH
X-WR-CALNAME:RSDO
X-ORIGINAL-URL:https://www.rsdo.org
X-WR-CALDESC:Évènements pour RSDO
REFRESH-INTERVAL;VALUE=DURATION:PT1H
X-Robots-Tag:noindex
X-PUBLISHED-TTL:PT1H
BEGIN:VTIMEZONE
TZID:America/New_York
BEGIN:DAYLIGHT
TZOFFSETFROM:-0500
TZOFFSETTO:-0400
TZNAME:EDT
DTSTART:20180311T070000
END:DAYLIGHT
BEGIN:STANDARD
TZOFFSETFROM:-0400
TZOFFSETTO:-0500
TZNAME:EST
DTSTART:20181104T060000
END:STANDARD
BEGIN:DAYLIGHT
TZOFFSETFROM:-0500
TZOFFSETTO:-0400
TZNAME:EDT
DTSTART:20190310T070000
END:DAYLIGHT
BEGIN:STANDARD
TZOFFSETFROM:-0400
TZOFFSETTO:-0500
TZNAME:EST
DTSTART:20191103T060000
END:STANDARD
BEGIN:DAYLIGHT
TZOFFSETFROM:-0500
TZOFFSETTO:-0400
TZNAME:EDT
DTSTART:20200308T070000
END:DAYLIGHT
BEGIN:STANDARD
TZOFFSETFROM:-0400
TZOFFSETTO:-0500
TZNAME:EST
DTSTART:20201101T060000
END:STANDARD
END:VTIMEZONE
BEGIN:VEVENT
DTSTART;TZID=America/New_York:20191118T093000
DTEND;TZID=America/New_York:20191118T103000
DTSTAMP:20260425T115435
CREATED:20190929T232425Z
LAST-MODIFIED:20190929T234348Z
UID:10000334-1574069400-1574073000@www.rsdo.org
SUMMARY:Groupes de marche - Parc nature de l’Île-Bizard
DESCRIPTION:Nous avons 3 points de rencontre pour les marches régulières gratuites d’une durée de une heure pour tous les niveaux. Rendez-vous 10 minutes avant le départ. S’il y a changements de lieu de marche\, des annulations ou des informations de resto\, les personnes chargées des renseignements pour chaque groupe communiqueront avec vous ; les intéressé(e)s\, laissez-leur vos coordonnées. Les personnes ressources pour chaque lieu de départ ne garantissent pas leur présence à chaque jour indiqué ; amenez un(e) ami(e). \nRencontre : dans le stationnement du Complexe sportif Saint-Raphaël\,  près de l’entrée du parc. \nStationnement : Au Complexe sportif\, places près du boulevard Jacques-Bizard. \nRenseignements : Carole L. – tél. 514 626-9306. \nInformations générales : Gisèle T. 514-620-6652
URL:https://www.rsdo.org/evenements/groupes-de-marche-parc-nature-de-lile-bizard-4/2019-11-18/
LOCATION:Complexe sportif Saint-Raphaël\, 750\, boul. Jacques-Bizard\, H9C 2Y2\, Île-Bizard\, Québec\, H9C 2Y2\, Canada
CATEGORIES:Ateliers
ATTACH;FMTTYPE=image/jpeg:https://www.rsdo.org/wp-content/uploads/2018/06/Randonnée-parc-ïle-Bizard.jpg
GEO:45.5027065;-73.8776709
X-APPLE-STRUCTURED-LOCATION;VALUE=URI;X-ADDRESS=Complexe sportif Saint-Raphaël 750 boul. Jacques-Bizard H9C 2Y2 Île-Bizard Québec H9C 2Y2 Canada;X-APPLE-RADIUS=500;X-TITLE=750\, boul. Jacques-Bizard\, H9C 2Y2:geo:-73.8776709,45.5027065
END:VEVENT
BEGIN:VEVENT
DTSTART;TZID=America/New_York:20191118T183000
DTEND;TZID=America/New_York:20191118T203000
DTSTAMP:20260425T115435
CREATED:20190902T235715Z
LAST-MODIFIED:20190929T152319Z
UID:10001527-1574101800-1574109000@www.rsdo.org
SUMMARY:L'informatique au goût de chacun - Annulé - Minimum de participants non atteint
DESCRIPTION:Pour suivre ce cours\, il faut être membre du RSDO. \nL’informatique est devenue un véritable phénomène de société touchant des personnes de tous âges et de tous les secteurs. Pour la session d’automne\, les cours d’informatique seront de niveau intermédiaire (word\,excel) etc. Programmation à venir. \n Inscription: Les personnes qui s’inscrivent pour la première fois doivent apporter: leur certificat de naissance (grand format)\, carte de citoyenneté ou résident permanent et la carte d’assurance maladie. \n Dates : Les lundis (fin du mois de septembre à décembre 2019). Dates à confirmer. \nCoût : Gratuit. \nRenseignements : Louise D. 514 542-1308 ou le RSDO 438 390-7736
URL:https://www.rsdo.org/evenements/linformatique-gout-de-chacun-3/2019-11-18/
LOCATION:Centre d’éducation des adultes Jeanne-Sauvé\, 305\, avenue Mimosa\,\, Dorval\, Québec\, H9S 3K5\, Canada
CATEGORIES:Cours
ATTACH;FMTTYPE=image/jpeg:https://www.rsdo.org/wp-content/uploads/2018/09/keyboard-621830__340.jpg
GEO:45.4443775;-73.7377077
X-APPLE-STRUCTURED-LOCATION;VALUE=URI;X-ADDRESS=Centre d’éducation des adultes Jeanne-Sauvé 305 avenue Mimosa Dorval Québec H9S 3K5 Canada;X-APPLE-RADIUS=500;X-TITLE=305\, avenue Mimosa\,:geo:-73.7377077,45.4443775
END:VEVENT
BEGIN:VEVENT
DTSTART;TZID=America/New_York:20191119T133000
DTEND;TZID=America/New_York:20191119T143000
DTSTAMP:20260425T115435
CREATED:20190929T232916Z
LAST-MODIFIED:20190929T234139Z
UID:10000365-1574170200-1574173800@www.rsdo.org
SUMMARY:Groupes de marche - Vaudreuil-Dorion
DESCRIPTION:Nous avons 3 points de rencontre pour les marches régulières gratuites d’une durée de une heure pour tous les niveaux. Rendez-vous 10 minutes avant le départ. S’il y a changements de lieu de marche\, des annulations ou des informations de resto\, les personnes chargées des renseignements pour chaque groupe communiqueront avec vous ; les intéressé(e)s\, laissez-leur vos coordonnées. Les personnes ressources pour chaque lieu de départ ne garantissent pas leur présence à chaque jour indiqué ; amenez un(e) ami(e). \nRencontre : Opti-Centre Saint-Jean-Baptiste\, 145 Harwood\, J7V 1Y3. \nPossibilité d’aller au resto après la marche. \nPossibilité de changement de parcours mais même heure et même point de rencontre \nStationnement : Rencontre au stationnement du fond\, en face de l’Opti-Centre. \nRenseignements : Claire M. – tél. 450 218-0967\, Pauline D. – tél. 450 510-1931\, ou Viateur B. – tél. 450 455-1014 \nInformations générales : Gisèle T. 514-620-6652
URL:https://www.rsdo.org/evenements/groupes-de-marche-vaudreuil-dorion-4/2019-11-19/
LOCATION:Opti-Centre St-Jean-Baptiste\, 145\, Harwood\, Vaudreuil-Dorion\, Québec\, J7V 1Y3\, Canada
CATEGORIES:Ateliers
ATTACH;FMTTYPE=image/jpeg:https://www.rsdo.org/wp-content/uploads/2018/06/Randonnée-pédestre-2.jpg
GEO:45.3836495;-74.0116336
X-APPLE-STRUCTURED-LOCATION;VALUE=URI;X-ADDRESS=Opti-Centre St-Jean-Baptiste 145 Harwood Vaudreuil-Dorion Québec J7V 1Y3 Canada;X-APPLE-RADIUS=500;X-TITLE=145\, Harwood:geo:-74.0116336,45.3836495
END:VEVENT
BEGIN:VEVENT
DTSTART;TZID=America/New_York:20191119T193000
DTEND;TZID=America/New_York:20191119T213000
DTSTAMP:20260425T115435
CREATED:20190902T224729Z
LAST-MODIFIED:20190902T230719Z
UID:10000300-1574191800-1574199000@www.rsdo.org
SUMMARY:Le choeur du RSDO
DESCRIPTION:Pour faire partie de la chorale\, il faut être membre du RSDO. \nAu RSDO\, on peut briser l’isolement en participant à un réseau d’entraide et à des cours/ateliers enrichissants qui nous font sortir de notre zone de confort et nous apportent la joie et le bonheur. Chanter dans une chorale apporte des bienfaits sur les plans émotionnel\, intellectuel (acquisition de connaissances\, stimulation cognitive)\, social\, spirituel et physique. \nLes 12 pratiques auront lieu les mardis soirs du 10 septembre au 26 novembre 2019. \nTrois concerts seront présentés (endroits et dates à déterminer). \nCoût : 20 $. Première participation gratuite. Aucun remboursement après l’inscription. \nChef de chœur : Jocelyn Bigras \nRenseignements : Pauline P. au 514 465-3428 ou le RSDO au 438 390-7736.
URL:https://www.rsdo.org/evenements/le-choeur-du-rsdo-5/2019-11-19/
LOCATION:CHSLD Denis Benjamin Viger\, 3292 rue Cherrier\, L’Île-Bizard\, Québec\, H9C 2N4\, Canada
CATEGORIES:Cours
GEO:45.4904577;-73.8692953
X-APPLE-STRUCTURED-LOCATION;VALUE=URI;X-ADDRESS=CHSLD Denis Benjamin Viger 3292 rue Cherrier L’Île-Bizard Québec H9C 2N4 Canada;X-APPLE-RADIUS=500;X-TITLE=3292 rue Cherrier:geo:-73.8692953,45.4904577
END:VEVENT
BEGIN:VEVENT
DTSTART;TZID=America/New_York:20191121T093000
DTEND;TZID=America/New_York:20191121T103000
DTSTAMP:20260425T115435
CREATED:20190929T232425Z
LAST-MODIFIED:20190929T234348Z
UID:10000335-1574328600-1574332200@www.rsdo.org
SUMMARY:Groupes de marche - Parc nature de l’Île-Bizard
DESCRIPTION:Nous avons 3 points de rencontre pour les marches régulières gratuites d’une durée de une heure pour tous les niveaux. Rendez-vous 10 minutes avant le départ. S’il y a changements de lieu de marche\, des annulations ou des informations de resto\, les personnes chargées des renseignements pour chaque groupe communiqueront avec vous ; les intéressé(e)s\, laissez-leur vos coordonnées. Les personnes ressources pour chaque lieu de départ ne garantissent pas leur présence à chaque jour indiqué ; amenez un(e) ami(e). \nRencontre : dans le stationnement du Complexe sportif Saint-Raphaël\,  près de l’entrée du parc. \nStationnement : Au Complexe sportif\, places près du boulevard Jacques-Bizard. \nRenseignements : Carole L. – tél. 514 626-9306. \nInformations générales : Gisèle T. 514-620-6652
URL:https://www.rsdo.org/evenements/groupes-de-marche-parc-nature-de-lile-bizard-4/2019-11-21/
LOCATION:Complexe sportif Saint-Raphaël\, 750\, boul. Jacques-Bizard\, H9C 2Y2\, Île-Bizard\, Québec\, H9C 2Y2\, Canada
CATEGORIES:Ateliers
ATTACH;FMTTYPE=image/jpeg:https://www.rsdo.org/wp-content/uploads/2018/06/Randonnée-parc-ïle-Bizard.jpg
GEO:45.5027065;-73.8776709
X-APPLE-STRUCTURED-LOCATION;VALUE=URI;X-ADDRESS=Complexe sportif Saint-Raphaël 750 boul. Jacques-Bizard H9C 2Y2 Île-Bizard Québec H9C 2Y2 Canada;X-APPLE-RADIUS=500;X-TITLE=750\, boul. Jacques-Bizard\, H9C 2Y2:geo:-73.8776709,45.5027065
END:VEVENT
BEGIN:VEVENT
DTSTART;TZID=America/New_York:20191121T133000
DTEND;TZID=America/New_York:20191121T143000
DTSTAMP:20260425T115435
CREATED:20190929T232916Z
LAST-MODIFIED:20190929T234139Z
UID:10000366-1574343000-1574346600@www.rsdo.org
SUMMARY:Groupes de marche - Vaudreuil-Dorion
DESCRIPTION:Nous avons 3 points de rencontre pour les marches régulières gratuites d’une durée de une heure pour tous les niveaux. Rendez-vous 10 minutes avant le départ. S’il y a changements de lieu de marche\, des annulations ou des informations de resto\, les personnes chargées des renseignements pour chaque groupe communiqueront avec vous ; les intéressé(e)s\, laissez-leur vos coordonnées. Les personnes ressources pour chaque lieu de départ ne garantissent pas leur présence à chaque jour indiqué ; amenez un(e) ami(e). \nRencontre : Opti-Centre Saint-Jean-Baptiste\, 145 Harwood\, J7V 1Y3. \nPossibilité d’aller au resto après la marche. \nPossibilité de changement de parcours mais même heure et même point de rencontre \nStationnement : Rencontre au stationnement du fond\, en face de l’Opti-Centre. \nRenseignements : Claire M. – tél. 450 218-0967\, Pauline D. – tél. 450 510-1931\, ou Viateur B. – tél. 450 455-1014 \nInformations générales : Gisèle T. 514-620-6652
URL:https://www.rsdo.org/evenements/groupes-de-marche-vaudreuil-dorion-4/2019-11-21/
LOCATION:Opti-Centre St-Jean-Baptiste\, 145\, Harwood\, Vaudreuil-Dorion\, Québec\, J7V 1Y3\, Canada
CATEGORIES:Ateliers
ATTACH;FMTTYPE=image/jpeg:https://www.rsdo.org/wp-content/uploads/2018/06/Randonnée-pédestre-2.jpg
GEO:45.3836495;-74.0116336
X-APPLE-STRUCTURED-LOCATION;VALUE=URI;X-ADDRESS=Opti-Centre St-Jean-Baptiste 145 Harwood Vaudreuil-Dorion Québec J7V 1Y3 Canada;X-APPLE-RADIUS=500;X-TITLE=145\, Harwood:geo:-74.0116336,45.3836495
END:VEVENT
BEGIN:VEVENT
DTSTART;TZID=America/New_York:20191121T193000
DTEND;TZID=America/New_York:20191121T213000
DTSTAMP:20260425T115435
CREATED:20190929T225159Z
LAST-MODIFIED:20190929T225159Z
UID:10000394-1574364600-1574371800@www.rsdo.org
SUMMARY:Vous avez dit zéro déchet?
DESCRIPTION:L’Association québécoise Zéro Déchet (AQZD) a été fondée le 24 mars 2017 par un groupe de citoyennes et citoyens engagés individuellement dans une démarche de réduction des déchets et souhaitant agir à plus grande échelle. En portant au niveau collectif et en partageant avec leurs pairs leur démarche\, les ressources existantes\,    les solutions accessibles\, les membres de l’Association démontrent qu’il est possible d’avoir à la fois un discours et un impact positifs et que le changement est réalisable\, un déchet à la fois\, un geste à la fois. L’Association a pour mission de sensibiliser et d’inspirer les citoyens\, gouvernements\, entreprises et groupes régionaux aux nombreux bienfaits du mouvement zéro déchet pour l’environnement\, la santé et la société québécoise. L’Association a à cœur de les outiller et de les amener à passer à l’action afin d’initier le changement. \nLors de notre conférence intitulée Vous avez dit zéro déchet nous parlerons de la règle des 5R (refuser\, réduire\, réutiliser\, réparer et recycler) et des premiers gestes à poser pour s’initier au mode de vie zéro déchet. Nous passerons en revue les pièces principales de la maison afin d’offrir des trucs et astuces pour réduire\, chacun à notre rythme\, les déchets de manière simple et ludique.
URL:https://www.rsdo.org/evenements/avez-dit-zero-dechet/
LOCATION:Centre communautaire Marcel Morin\, 14068\, boulevard Gouin Ouest\, Pierrefonds\, Québec\, H8Z 1Y1\, Canada
CATEGORIES:Conférences
ATTACH;FMTTYPE=image/png:https://www.rsdo.org/wp-content/uploads/2019/09/Logo-Association-Zéro-Déchet.png
GEO:45.4956281;-73.8506691
X-APPLE-STRUCTURED-LOCATION;VALUE=URI;X-ADDRESS=Centre communautaire Marcel Morin 14068 boulevard Gouin Ouest Pierrefonds Québec H8Z 1Y1 Canada;X-APPLE-RADIUS=500;X-TITLE=14068\, boulevard Gouin Ouest:geo:-73.8506691,45.4956281
END:VEVENT
BEGIN:VEVENT
DTSTART;TZID=America/New_York:20191123T100000
DTEND;TZID=America/New_York:20191123T113000
DTSTAMP:20260425T115435
CREATED:20190903T000724Z
LAST-MODIFIED:20190903T000724Z
UID:10001542-1574503200-1574508600@www.rsdo.org
SUMMARY:Cours de conditionnement physique et de yoga
DESCRIPTION:Pour suivre ce cours\, il faut être membre du RSDO sauf pour le 1er cours. \nLe RSDO vous offre gratuitement un cours de yoga d’une heure combiné avec le conditionnement physique d’une durée de 30 minutes. Vous avez le choix de faire l’un ou l’autre ou les deux. \nHoraire :  conditionnement physique de 10 h à 10 h 30;  yoga de 10 h 30 à 11 h 30. \nInstructrice : Josey Deroy \nPour votre confort au yoga\, apportez un tapis\, des blocs en mousse\, serviette et bouteille d’eau. \nPour le conditionnement physique\, des espadrilles et des poids de 2 à 5 kg. \nRenseignements : Chantal 514-696-9408 ou RSDO 438-390-7736
URL:https://www.rsdo.org/evenements/cours-de-conditionnement-physique-de-yoga-4/2019-11-23/
LOCATION:Chalet Roxboro\, 10 11 rue\, Roxboro\, Quebec\, H8Y 2P3\, Canada
CATEGORIES:Cours
ATTACH;FMTTYPE=image/jpeg:https://www.rsdo.org/wp-content/uploads/2018/09/download-1-1.jpg
GEO:45.5053201;-73.8030777
X-APPLE-STRUCTURED-LOCATION;VALUE=URI;X-ADDRESS=Chalet Roxboro 10 11 rue Roxboro Quebec H8Y 2P3 Canada;X-APPLE-RADIUS=500;X-TITLE=10 11 rue:geo:-73.8030777,45.5053201
END:VEVENT
BEGIN:VEVENT
DTSTART;TZID=America/New_York:20191123T110000
DTEND;TZID=America/New_York:20191123T120000
DTSTAMP:20260425T115435
CREATED:20190929T233922Z
LAST-MODIFIED:20190929T234003Z
UID:10000386-1574506800-1574510400@www.rsdo.org
SUMMARY:Groupes de marches - Lachine
DESCRIPTION:Nous avons 3 points de rencontre pour les marches régulières gratuites d’une durée de une heure pour tous les niveaux. Rendez-vous 10 minutes avant le départ. S’il y a changements de lieu de marche\, des annulations ou des informations de resto\, les personnes chargées des renseignements pour chaque groupe communiqueront avec vous ; les intéressé(e)s\, laissez-leur vos coordonnées. Les personnes ressources pour chaque lieu de départ ne garantissent pas leur présence à chaque jour indiqué ; amenez un(e) ami(e). \nRencontre : Sur le boul. Saint-Joseph à Lachine\, près de la 32 ème avenue\, devant le Dairy Queen\, sur le bord de l’eau. \nPossibilité d’aller au resto à 12 h 15 (lieux variables à proximité). Possibilité d’aller parfois marcher ailleurs\, mais même heure et même point de rencontre et possibilité de covoiturage. Informations mises sur Facebook\, site rass.lachine. \nStationnement : Sur les rues avoisinantes où le stationnement est permis \nRenseignements : Nancy S. – tél. 438 403-2919. \nInformations générales : Gisèle T. 514-620-6652 \n 
URL:https://www.rsdo.org/evenements/groupes-de-marches-lachine/2019-11-23/
LOCATION:Dairy Queen Lachine\, 3210\, boul. Saint-Joseph\, Lachine\, Québec\, H8T 1P4\, Canada
CATEGORIES:Ateliers
ATTACH;FMTTYPE=image/jpeg:https://www.rsdo.org/wp-content/uploads/2018/06/Randonnée-Lachine.jpg
GEO:45.4338847;-73.6923329
X-APPLE-STRUCTURED-LOCATION;VALUE=URI;X-ADDRESS=Dairy Queen Lachine 3210 boul. Saint-Joseph Lachine Québec H8T 1P4 Canada;X-APPLE-RADIUS=500;X-TITLE=3210\, boul. Saint-Joseph:geo:-73.6923329,45.4338847
END:VEVENT
BEGIN:VEVENT
DTSTART;TZID=America/New_York:20191123T150000
DTEND;TZID=America/New_York:20191123T210000
DTSTAMP:20260425T115436
CREATED:20190929T235532Z
LAST-MODIFIED:20190929T235532Z
UID:10001617-1574521200-1574542800@www.rsdo.org
SUMMARY:Venez jouer aux quilles et souper entre amis
DESCRIPTION:C’est toujours un plaisir de jouer aux quilles entre amis et de terminer l’activité par un bon souper. \nSalon de quilles Pincourt: \nCoût : 14$  pour 3 parties\,   incluant la location des souliers si plus de 20 personnes\, sinon\, le coût sera de 15\,25$ \nHeure du souper :  18 h 15 \nRestaurant Mama Bravo  \n475\, Grand Boulevard\, Île-Perrot\, J7V 4X4. \nRéservations: Manon Rousseau au 514 425-6439 avant le 11 novembre 2019
URL:https://www.rsdo.org/evenements/venez-jouer-aux-quilles-souper-entre-amis/
LOCATION:Salon de quilles Pincourt\, 111\, boulevard de l'Ïle\, Pincourt\, Québec\, J7V 4X4\, Canada
CATEGORIES:Ateliers
ATTACH;FMTTYPE=image/png:https://www.rsdo.org/wp-content/uploads/2019/09/Quilles.png
GEO:45.3979447;-73.9670843
X-APPLE-STRUCTURED-LOCATION;VALUE=URI;X-ADDRESS=Salon de quilles Pincourt 111 boulevard de l'Ïle Pincourt Québec J7V 4X4 Canada;X-APPLE-RADIUS=500;X-TITLE=111\, boulevard de l'Ïle:geo:-73.9670843,45.3979447
END:VEVENT
BEGIN:VEVENT
DTSTART;TZID=America/New_York:20191124T110000
DTEND;TZID=America/New_York:20191124T130000
DTSTAMP:20260425T115436
CREATED:20190902T180723Z
LAST-MODIFIED:20190902T180723Z
UID:10000306-1574593200-1574600400@www.rsdo.org
SUMMARY:Station des Sports
DESCRIPTION:
URL:https://www.rsdo.org/evenements/station-des-sports-7/
LOCATION:Station des Sports\, 336 Grand Boulevard\, L'Île-Perrot\, Quebec\, J7V 4X2\, Canada
CATEGORIES:Soutien émotionnel
ATTACH;FMTTYPE=image/jpeg:https://www.rsdo.org/wp-content/uploads/2018/01/Station-des-Sports.jpg
GEO:45.3918913;-73.9613968
X-APPLE-STRUCTURED-LOCATION;VALUE=URI;X-ADDRESS=Station des Sports 336 Grand Boulevard L'Île-Perrot Quebec J7V 4X2 Canada;X-APPLE-RADIUS=500;X-TITLE=336 Grand Boulevard:geo:-73.9613968,45.3918913
END:VEVENT
END:VCALENDAR