BEGIN:VCALENDAR
VERSION:2.0
PRODID:-//RSDO - ECPv6.15.20//NONSGML v1.0//EN
CALSCALE:GREGORIAN
METHOD:PUBLISH
X-WR-CALNAME:RSDO
X-ORIGINAL-URL:https://www.rsdo.org
X-WR-CALDESC:Évènements pour RSDO
REFRESH-INTERVAL;VALUE=DURATION:PT1H
X-Robots-Tag:noindex
X-PUBLISHED-TTL:PT1H
BEGIN:VTIMEZONE
TZID:America/New_York
BEGIN:DAYLIGHT
TZOFFSETFROM:-0500
TZOFFSETTO:-0400
TZNAME:EDT
DTSTART:20180311T070000
END:DAYLIGHT
BEGIN:STANDARD
TZOFFSETFROM:-0400
TZOFFSETTO:-0500
TZNAME:EST
DTSTART:20181104T060000
END:STANDARD
BEGIN:DAYLIGHT
TZOFFSETFROM:-0500
TZOFFSETTO:-0400
TZNAME:EDT
DTSTART:20190310T070000
END:DAYLIGHT
BEGIN:STANDARD
TZOFFSETFROM:-0400
TZOFFSETTO:-0500
TZNAME:EST
DTSTART:20191103T060000
END:STANDARD
BEGIN:DAYLIGHT
TZOFFSETFROM:-0500
TZOFFSETTO:-0400
TZNAME:EDT
DTSTART:20200308T070000
END:DAYLIGHT
BEGIN:STANDARD
TZOFFSETFROM:-0400
TZOFFSETTO:-0500
TZNAME:EST
DTSTART:20201101T060000
END:STANDARD
END:VTIMEZONE
BEGIN:VEVENT
DTSTART;TZID=America/New_York:20190525T100000
DTEND;TZID=America/New_York:20191005T103000
DTSTAMP:20260425T194619
CREATED:20190105T202858Z
LAST-MODIFIED:20190105T202858Z
UID:10001315-1558778400-1570271400@www.rsdo.org
SUMMARY:Cours de conditionnement physique et de yoga
DESCRIPTION:Pour suivre ce cours\, il faut être membre du RSDO. Première participation gratuite. \nLe RSDO offre à ses membres le cours de conditionnement physique d’une durée de 30 minutes combiné avec le cours de yoga d’une durée d’une heure. Vous avez le choix de faire l’un ou l’autre ou les deux. \nHeure :                        10 h à 10 h 30\, conditionnement physique. \n10 h 30 à 11 h 30\, yoga. \nInstructrice :                Josey Deroy \nVeuillez apporter pour le conditionnement physique\, des espadrilles et des poids de 2 à 5 kg et pour votre confort au yoga un tapis\, des blocs en mousse\, une serviette et une bouteille d’eau. \nRenseignements : Chantal au 514 696-9408 ou le RSDO au 438 390-7736.
URL:https://www.rsdo.org/evenements/cours-de-conditionnement-physique-de-yoga-3/2019-05-25/
LOCATION:Chalet Roxboro\, 10 11 rue\, Roxboro\, Quebec\, H8Y 2P3\, Canada
CATEGORIES:Cours
ATTACH;FMTTYPE=image/jpeg:https://www.rsdo.org/wp-content/uploads/2018/09/download-1-1.jpg
ORGANIZER;CN="Josey Deroy":MAILTO:josey.yoga.fitness@gmail.com
GEO:45.5053201;-73.8030777
X-APPLE-STRUCTURED-LOCATION;VALUE=URI;X-ADDRESS=Chalet Roxboro 10 11 rue Roxboro Quebec H8Y 2P3 Canada;X-APPLE-RADIUS=500;X-TITLE=10 11 rue:geo:-73.8030777,45.5053201
END:VEVENT
BEGIN:VEVENT
DTSTART;TZID=America/New_York:20190930T093000
DTEND;TZID=America/New_York:20190930T103000
DTSTAMP:20260425T194619
CREATED:20190929T232425Z
LAST-MODIFIED:20190929T234348Z
UID:10000320-1569835800-1569839400@www.rsdo.org
SUMMARY:Groupes de marche - Parc nature de l’Île-Bizard
DESCRIPTION:Nous avons 3 points de rencontre pour les marches régulières gratuites d’une durée de une heure pour tous les niveaux. Rendez-vous 10 minutes avant le départ. S’il y a changements de lieu de marche\, des annulations ou des informations de resto\, les personnes chargées des renseignements pour chaque groupe communiqueront avec vous ; les intéressé(e)s\, laissez-leur vos coordonnées. Les personnes ressources pour chaque lieu de départ ne garantissent pas leur présence à chaque jour indiqué ; amenez un(e) ami(e). \nRencontre : dans le stationnement du Complexe sportif Saint-Raphaël\,  près de l’entrée du parc. \nStationnement : Au Complexe sportif\, places près du boulevard Jacques-Bizard. \nRenseignements : Carole L. – tél. 514 626-9306. \nInformations générales : Gisèle T. 514-620-6652
URL:https://www.rsdo.org/evenements/groupes-de-marche-parc-nature-de-lile-bizard-4/2019-09-30/
LOCATION:Complexe sportif Saint-Raphaël\, 750\, boul. Jacques-Bizard\, H9C 2Y2\, Île-Bizard\, Québec\, H9C 2Y2\, Canada
CATEGORIES:Ateliers
ATTACH;FMTTYPE=image/jpeg:https://www.rsdo.org/wp-content/uploads/2018/06/Randonnée-parc-ïle-Bizard.jpg
GEO:45.5027065;-73.8776709
X-APPLE-STRUCTURED-LOCATION;VALUE=URI;X-ADDRESS=Complexe sportif Saint-Raphaël 750 boul. Jacques-Bizard H9C 2Y2 Île-Bizard Québec H9C 2Y2 Canada;X-APPLE-RADIUS=500;X-TITLE=750\, boul. Jacques-Bizard\, H9C 2Y2:geo:-73.8776709,45.5027065
END:VEVENT
BEGIN:VEVENT
DTSTART;TZID=America/New_York:20190930T183000
DTEND;TZID=America/New_York:20190930T203000
DTSTAMP:20260425T194619
CREATED:20190902T235715Z
LAST-MODIFIED:20190929T152319Z
UID:10001520-1569868200-1569875400@www.rsdo.org
SUMMARY:L'informatique au goût de chacun - Annulé - Minimum de participants non atteint
DESCRIPTION:Pour suivre ce cours\, il faut être membre du RSDO. \nL’informatique est devenue un véritable phénomène de société touchant des personnes de tous âges et de tous les secteurs. Pour la session d’automne\, les cours d’informatique seront de niveau intermédiaire (word\,excel) etc. Programmation à venir. \n Inscription: Les personnes qui s’inscrivent pour la première fois doivent apporter: leur certificat de naissance (grand format)\, carte de citoyenneté ou résident permanent et la carte d’assurance maladie. \n Dates : Les lundis (fin du mois de septembre à décembre 2019). Dates à confirmer. \nCoût : Gratuit. \nRenseignements : Louise D. 514 542-1308 ou le RSDO 438 390-7736
URL:https://www.rsdo.org/evenements/linformatique-gout-de-chacun-3/2019-09-30/
LOCATION:Centre d’éducation des adultes Jeanne-Sauvé\, 305\, avenue Mimosa\,\, Dorval\, Québec\, H9S 3K5\, Canada
CATEGORIES:Cours
ATTACH;FMTTYPE=image/jpeg:https://www.rsdo.org/wp-content/uploads/2018/09/keyboard-621830__340.jpg
GEO:45.4443775;-73.7377077
X-APPLE-STRUCTURED-LOCATION;VALUE=URI;X-ADDRESS=Centre d’éducation des adultes Jeanne-Sauvé 305 avenue Mimosa Dorval Québec H9S 3K5 Canada;X-APPLE-RADIUS=500;X-TITLE=305\, avenue Mimosa\,:geo:-73.7377077,45.4443775
END:VEVENT
BEGIN:VEVENT
DTSTART;TZID=America/New_York:20191001T133000
DTEND;TZID=America/New_York:20191001T143000
DTSTAMP:20260425T194619
CREATED:20190929T232916Z
LAST-MODIFIED:20190929T234139Z
UID:10000351-1569936600-1569940200@www.rsdo.org
SUMMARY:Groupes de marche - Vaudreuil-Dorion
DESCRIPTION:Nous avons 3 points de rencontre pour les marches régulières gratuites d’une durée de une heure pour tous les niveaux. Rendez-vous 10 minutes avant le départ. S’il y a changements de lieu de marche\, des annulations ou des informations de resto\, les personnes chargées des renseignements pour chaque groupe communiqueront avec vous ; les intéressé(e)s\, laissez-leur vos coordonnées. Les personnes ressources pour chaque lieu de départ ne garantissent pas leur présence à chaque jour indiqué ; amenez un(e) ami(e). \nRencontre : Opti-Centre Saint-Jean-Baptiste\, 145 Harwood\, J7V 1Y3. \nPossibilité d’aller au resto après la marche. \nPossibilité de changement de parcours mais même heure et même point de rencontre \nStationnement : Rencontre au stationnement du fond\, en face de l’Opti-Centre. \nRenseignements : Claire M. – tél. 450 218-0967\, Pauline D. – tél. 450 510-1931\, ou Viateur B. – tél. 450 455-1014 \nInformations générales : Gisèle T. 514-620-6652
URL:https://www.rsdo.org/evenements/groupes-de-marche-vaudreuil-dorion-4/2019-10-01/
LOCATION:Opti-Centre St-Jean-Baptiste\, 145\, Harwood\, Vaudreuil-Dorion\, Québec\, J7V 1Y3\, Canada
CATEGORIES:Ateliers
ATTACH;FMTTYPE=image/jpeg:https://www.rsdo.org/wp-content/uploads/2018/06/Randonnée-pédestre-2.jpg
GEO:45.3836495;-74.0116336
X-APPLE-STRUCTURED-LOCATION;VALUE=URI;X-ADDRESS=Opti-Centre St-Jean-Baptiste 145 Harwood Vaudreuil-Dorion Québec J7V 1Y3 Canada;X-APPLE-RADIUS=500;X-TITLE=145\, Harwood:geo:-74.0116336,45.3836495
END:VEVENT
BEGIN:VEVENT
DTSTART;TZID=America/New_York:20191001T193000
DTEND;TZID=America/New_York:20191001T213000
DTSTAMP:20260425T194619
CREATED:20190902T224729Z
LAST-MODIFIED:20190902T230719Z
UID:10000293-1569958200-1569965400@www.rsdo.org
SUMMARY:Le choeur du RSDO
DESCRIPTION:Pour faire partie de la chorale\, il faut être membre du RSDO. \nAu RSDO\, on peut briser l’isolement en participant à un réseau d’entraide et à des cours/ateliers enrichissants qui nous font sortir de notre zone de confort et nous apportent la joie et le bonheur. Chanter dans une chorale apporte des bienfaits sur les plans émotionnel\, intellectuel (acquisition de connaissances\, stimulation cognitive)\, social\, spirituel et physique. \nLes 12 pratiques auront lieu les mardis soirs du 10 septembre au 26 novembre 2019. \nTrois concerts seront présentés (endroits et dates à déterminer). \nCoût : 20 $. Première participation gratuite. Aucun remboursement après l’inscription. \nChef de chœur : Jocelyn Bigras \nRenseignements : Pauline P. au 514 465-3428 ou le RSDO au 438 390-7736.
URL:https://www.rsdo.org/evenements/le-choeur-du-rsdo-5/2019-10-01/
LOCATION:CHSLD Denis Benjamin Viger\, 3292 rue Cherrier\, L’Île-Bizard\, Québec\, H9C 2N4\, Canada
CATEGORIES:Cours
GEO:45.4904577;-73.8692953
X-APPLE-STRUCTURED-LOCATION;VALUE=URI;X-ADDRESS=CHSLD Denis Benjamin Viger 3292 rue Cherrier L’Île-Bizard Québec H9C 2N4 Canada;X-APPLE-RADIUS=500;X-TITLE=3292 rue Cherrier:geo:-73.8692953,45.4904577
END:VEVENT
BEGIN:VEVENT
DTSTART;TZID=America/New_York:20191003T093000
DTEND;TZID=America/New_York:20191003T103000
DTSTAMP:20260425T194619
CREATED:20190929T232425Z
LAST-MODIFIED:20190929T234348Z
UID:10000321-1570095000-1570098600@www.rsdo.org
SUMMARY:Groupes de marche - Parc nature de l’Île-Bizard
DESCRIPTION:Nous avons 3 points de rencontre pour les marches régulières gratuites d’une durée de une heure pour tous les niveaux. Rendez-vous 10 minutes avant le départ. S’il y a changements de lieu de marche\, des annulations ou des informations de resto\, les personnes chargées des renseignements pour chaque groupe communiqueront avec vous ; les intéressé(e)s\, laissez-leur vos coordonnées. Les personnes ressources pour chaque lieu de départ ne garantissent pas leur présence à chaque jour indiqué ; amenez un(e) ami(e). \nRencontre : dans le stationnement du Complexe sportif Saint-Raphaël\,  près de l’entrée du parc. \nStationnement : Au Complexe sportif\, places près du boulevard Jacques-Bizard. \nRenseignements : Carole L. – tél. 514 626-9306. \nInformations générales : Gisèle T. 514-620-6652
URL:https://www.rsdo.org/evenements/groupes-de-marche-parc-nature-de-lile-bizard-4/2019-10-03/
LOCATION:Complexe sportif Saint-Raphaël\, 750\, boul. Jacques-Bizard\, H9C 2Y2\, Île-Bizard\, Québec\, H9C 2Y2\, Canada
CATEGORIES:Ateliers
ATTACH;FMTTYPE=image/jpeg:https://www.rsdo.org/wp-content/uploads/2018/06/Randonnée-parc-ïle-Bizard.jpg
GEO:45.5027065;-73.8776709
X-APPLE-STRUCTURED-LOCATION;VALUE=URI;X-ADDRESS=Complexe sportif Saint-Raphaël 750 boul. Jacques-Bizard H9C 2Y2 Île-Bizard Québec H9C 2Y2 Canada;X-APPLE-RADIUS=500;X-TITLE=750\, boul. Jacques-Bizard\, H9C 2Y2:geo:-73.8776709,45.5027065
END:VEVENT
BEGIN:VEVENT
DTSTART;TZID=America/New_York:20191003T133000
DTEND;TZID=America/New_York:20191003T143000
DTSTAMP:20260425T194620
CREATED:20190929T232916Z
LAST-MODIFIED:20190929T234139Z
UID:10000352-1570109400-1570113000@www.rsdo.org
SUMMARY:Groupes de marche - Vaudreuil-Dorion
DESCRIPTION:Nous avons 3 points de rencontre pour les marches régulières gratuites d’une durée de une heure pour tous les niveaux. Rendez-vous 10 minutes avant le départ. S’il y a changements de lieu de marche\, des annulations ou des informations de resto\, les personnes chargées des renseignements pour chaque groupe communiqueront avec vous ; les intéressé(e)s\, laissez-leur vos coordonnées. Les personnes ressources pour chaque lieu de départ ne garantissent pas leur présence à chaque jour indiqué ; amenez un(e) ami(e). \nRencontre : Opti-Centre Saint-Jean-Baptiste\, 145 Harwood\, J7V 1Y3. \nPossibilité d’aller au resto après la marche. \nPossibilité de changement de parcours mais même heure et même point de rencontre \nStationnement : Rencontre au stationnement du fond\, en face de l’Opti-Centre. \nRenseignements : Claire M. – tél. 450 218-0967\, Pauline D. – tél. 450 510-1931\, ou Viateur B. – tél. 450 455-1014 \nInformations générales : Gisèle T. 514-620-6652
URL:https://www.rsdo.org/evenements/groupes-de-marche-vaudreuil-dorion-4/2019-10-03/
LOCATION:Opti-Centre St-Jean-Baptiste\, 145\, Harwood\, Vaudreuil-Dorion\, Québec\, J7V 1Y3\, Canada
CATEGORIES:Ateliers
ATTACH;FMTTYPE=image/jpeg:https://www.rsdo.org/wp-content/uploads/2018/06/Randonnée-pédestre-2.jpg
GEO:45.3836495;-74.0116336
X-APPLE-STRUCTURED-LOCATION;VALUE=URI;X-ADDRESS=Opti-Centre St-Jean-Baptiste 145 Harwood Vaudreuil-Dorion Québec J7V 1Y3 Canada;X-APPLE-RADIUS=500;X-TITLE=145\, Harwood:geo:-74.0116336,45.3836495
END:VEVENT
BEGIN:VEVENT
DTSTART;TZID=America/New_York:20191003T193000
DTEND;TZID=America/New_York:20191003T213000
DTSTAMP:20260425T194620
CREATED:20190925T000138Z
LAST-MODIFIED:20190925T000138Z
UID:10001546-1570131000-1570138200@www.rsdo.org
SUMMARY:Le stress relationnel
DESCRIPTION:Conférencière et animatrice socio-culturelle\, Jacinthe Chaussé est l’auteure  du  livre Besoin d’amour. Depuis 20 ans\, elle présente des conférences  sur   les   divers   aspects   de l’être humain et ses potentialités. Elle anime également des ateliers d’art-thérapie. \nThérapeute en gestion émotionnelle\, elle reçoit des clients en consultation individuelle. \nL’humain entretient des rapports avec autrui selon ses expériences passées\, parfois difficiles. Chaque  personne  ayant développé  des  dynamiques  relationnelles  particulières\, il arrive que certaines interactions créent des malaises\,  voire des conflits. Il importe donc de connaître et de comprendre ses propres mécanismes ainsi que ceux des autres\, afin de gérer ses relations\, quelles qu’elles soient.
URL:https://www.rsdo.org/evenements/le-stress-relationnel/
LOCATION:Centre communautaire Marcel Morin\, 14068\, boulevard Gouin Ouest\, Pierrefonds\, Québec\, H8Z 1Y1\, Canada
CATEGORIES:Conférences
ATTACH;FMTTYPE=image/png:https://www.rsdo.org/wp-content/uploads/2018/09/Jacinthe-Chaussé-1.png
GEO:45.4956281;-73.8506691
X-APPLE-STRUCTURED-LOCATION;VALUE=URI;X-ADDRESS=Centre communautaire Marcel Morin 14068 boulevard Gouin Ouest Pierrefonds Québec H8Z 1Y1 Canada;X-APPLE-RADIUS=500;X-TITLE=14068\, boulevard Gouin Ouest:geo:-73.8506691,45.4956281
END:VEVENT
BEGIN:VEVENT
DTSTART;TZID=America/New_York:20191005T100000
DTEND;TZID=America/New_York:20191005T113000
DTSTAMP:20260425T194620
CREATED:20190903T000724Z
LAST-MODIFIED:20190903T000724Z
UID:10001535-1570269600-1570275000@www.rsdo.org
SUMMARY:Cours de conditionnement physique et de yoga
DESCRIPTION:Pour suivre ce cours\, il faut être membre du RSDO sauf pour le 1er cours. \nLe RSDO vous offre gratuitement un cours de yoga d’une heure combiné avec le conditionnement physique d’une durée de 30 minutes. Vous avez le choix de faire l’un ou l’autre ou les deux. \nHoraire :  conditionnement physique de 10 h à 10 h 30;  yoga de 10 h 30 à 11 h 30. \nInstructrice : Josey Deroy \nPour votre confort au yoga\, apportez un tapis\, des blocs en mousse\, serviette et bouteille d’eau. \nPour le conditionnement physique\, des espadrilles et des poids de 2 à 5 kg. \nRenseignements : Chantal 514-696-9408 ou RSDO 438-390-7736
URL:https://www.rsdo.org/evenements/cours-de-conditionnement-physique-de-yoga-4/2019-10-05/
LOCATION:Chalet Roxboro\, 10 11 rue\, Roxboro\, Quebec\, H8Y 2P3\, Canada
CATEGORIES:Cours
ATTACH;FMTTYPE=image/jpeg:https://www.rsdo.org/wp-content/uploads/2018/09/download-1-1.jpg
GEO:45.5053201;-73.8030777
X-APPLE-STRUCTURED-LOCATION;VALUE=URI;X-ADDRESS=Chalet Roxboro 10 11 rue Roxboro Quebec H8Y 2P3 Canada;X-APPLE-RADIUS=500;X-TITLE=10 11 rue:geo:-73.8030777,45.5053201
END:VEVENT
BEGIN:VEVENT
DTSTART;TZID=America/New_York:20191005T110000
DTEND;TZID=America/New_York:20191005T120000
DTSTAMP:20260425T194620
CREATED:20190929T233922Z
LAST-MODIFIED:20190929T234003Z
UID:10000379-1570273200-1570276800@www.rsdo.org
SUMMARY:Groupes de marches - Lachine
DESCRIPTION:Nous avons 3 points de rencontre pour les marches régulières gratuites d’une durée de une heure pour tous les niveaux. Rendez-vous 10 minutes avant le départ. S’il y a changements de lieu de marche\, des annulations ou des informations de resto\, les personnes chargées des renseignements pour chaque groupe communiqueront avec vous ; les intéressé(e)s\, laissez-leur vos coordonnées. Les personnes ressources pour chaque lieu de départ ne garantissent pas leur présence à chaque jour indiqué ; amenez un(e) ami(e). \nRencontre : Sur le boul. Saint-Joseph à Lachine\, près de la 32 ème avenue\, devant le Dairy Queen\, sur le bord de l’eau. \nPossibilité d’aller au resto à 12 h 15 (lieux variables à proximité). Possibilité d’aller parfois marcher ailleurs\, mais même heure et même point de rencontre et possibilité de covoiturage. Informations mises sur Facebook\, site rass.lachine. \nStationnement : Sur les rues avoisinantes où le stationnement est permis \nRenseignements : Nancy S. – tél. 438 403-2919. \nInformations générales : Gisèle T. 514-620-6652 \n 
URL:https://www.rsdo.org/evenements/groupes-de-marches-lachine/2019-10-05/
LOCATION:Dairy Queen Lachine\, 3210\, boul. Saint-Joseph\, Lachine\, Québec\, H8T 1P4\, Canada
CATEGORIES:Ateliers
ATTACH;FMTTYPE=image/jpeg:https://www.rsdo.org/wp-content/uploads/2018/06/Randonnée-Lachine.jpg
GEO:45.4338847;-73.6923329
X-APPLE-STRUCTURED-LOCATION;VALUE=URI;X-ADDRESS=Dairy Queen Lachine 3210 boul. Saint-Joseph Lachine Québec H8T 1P4 Canada;X-APPLE-RADIUS=500;X-TITLE=3210\, boul. Saint-Joseph:geo:-73.6923329,45.4338847
END:VEVENT
BEGIN:VEVENT
DTSTART;TZID=America/New_York:20191006T090000
DTEND;TZID=America/New_York:20191006T160000
DTSTAMP:20260425T194620
CREATED:20190902T224111Z
LAST-MODIFIED:20190902T224111Z
UID:10000310-1570352400-1570377600@www.rsdo.org
SUMMARY:Canneberges en fête
DESCRIPTION:De la fin septembre à la mi-octobre\, le Centre d’interprétation de la canneberge (CIC) déroule son tapis de fruits rouges pour le plus grand plaisir des visiteurs provenant des quatre coins du Québec. En groupe\, seul ou en famille\, venez apprendre le fonctionnement d’une récolte de canneberges et en savoir plus   sur ce petit fruit. Accompagné d’un guide\, vous aurez le privilège de visiter une cannebergière pour voir l’immensité des champs. Complétez votre visite en parcourant notre salle d’interprétation. Boutique et dégustations couronneront cette fête de la canneberge ! \nTransport: Départ à 9 h du stationnement de l’hôtel Holiday Inn \nRetour : Départ de St-Louis de Blandford à 16 H \nCoût : Transport par autobus de luxe\, visite et dîner 74 $ taxes et service inclus (minimum 35 personnes) \nDate limite  pour  réservation  et   paiement  avant   le   20   septembre   2019.   Aucun   remboursement ne sera effectué après le 20 septembre 2019. Renseignements\, réservation et  paiement  auprès  de Pauline D. 450 510-1931.
URL:https://www.rsdo.org/evenements/canneberges-en-fete/
LOCATION:Centre d’interprétation de canneberge
CATEGORIES:Ateliers
ATTACH;FMTTYPE=image/jpeg:https://www.rsdo.org/wp-content/uploads/2019/09/Canneberges-en-fête.jpg
ORGANIZER;CN="Pauline Debonville":MAILTO:sociale@rsdo.org
END:VEVENT
END:VCALENDAR