BEGIN:VCALENDAR
VERSION:2.0
PRODID:-//RSDO - ECPv6.15.20//NONSGML v1.0//EN
CALSCALE:GREGORIAN
METHOD:PUBLISH
X-WR-CALNAME:RSDO
X-ORIGINAL-URL:https://www.rsdo.org
X-WR-CALDESC:Évènements pour RSDO
REFRESH-INTERVAL;VALUE=DURATION:PT1H
X-Robots-Tag:noindex
X-PUBLISHED-TTL:PT1H
BEGIN:VTIMEZONE
TZID:America/New_York
BEGIN:DAYLIGHT
TZOFFSETFROM:-0500
TZOFFSETTO:-0400
TZNAME:EDT
DTSTART:20180311T070000
END:DAYLIGHT
BEGIN:STANDARD
TZOFFSETFROM:-0400
TZOFFSETTO:-0500
TZNAME:EST
DTSTART:20181104T060000
END:STANDARD
BEGIN:DAYLIGHT
TZOFFSETFROM:-0500
TZOFFSETTO:-0400
TZNAME:EDT
DTSTART:20190310T070000
END:DAYLIGHT
BEGIN:STANDARD
TZOFFSETFROM:-0400
TZOFFSETTO:-0500
TZNAME:EST
DTSTART:20191103T060000
END:STANDARD
BEGIN:DAYLIGHT
TZOFFSETFROM:-0500
TZOFFSETTO:-0400
TZNAME:EDT
DTSTART:20200308T070000
END:DAYLIGHT
BEGIN:STANDARD
TZOFFSETFROM:-0400
TZOFFSETTO:-0500
TZNAME:EST
DTSTART:20201101T060000
END:STANDARD
END:VTIMEZONE
BEGIN:VEVENT
DTSTART;TZID=America/New_York:20190420T100000
DTEND;TZID=America/New_York:20190831T103000
DTSTAMP:20260425T194507
CREATED:20190105T202858Z
LAST-MODIFIED:20190105T202858Z
UID:10001310-1555754400-1567247400@www.rsdo.org
SUMMARY:Cours de conditionnement physique et de yoga
DESCRIPTION:Pour suivre ce cours\, il faut être membre du RSDO. Première participation gratuite. \nLe RSDO offre à ses membres le cours de conditionnement physique d’une durée de 30 minutes combiné avec le cours de yoga d’une durée d’une heure. Vous avez le choix de faire l’un ou l’autre ou les deux. \nHeure :                        10 h à 10 h 30\, conditionnement physique. \n10 h 30 à 11 h 30\, yoga. \nInstructrice :                Josey Deroy \nVeuillez apporter pour le conditionnement physique\, des espadrilles et des poids de 2 à 5 kg et pour votre confort au yoga un tapis\, des blocs en mousse\, une serviette et une bouteille d’eau. \nRenseignements : Chantal au 514 696-9408 ou le RSDO au 438 390-7736.
URL:https://www.rsdo.org/evenements/cours-de-conditionnement-physique-de-yoga-3/2019-04-20/
LOCATION:Chalet Roxboro\, 10 11 rue\, Roxboro\, Quebec\, H8Y 2P3\, Canada
CATEGORIES:Cours
ATTACH;FMTTYPE=image/jpeg:https://www.rsdo.org/wp-content/uploads/2018/09/download-1-1.jpg
ORGANIZER;CN="Josey Deroy":MAILTO:josey.yoga.fitness@gmail.com
GEO:45.5053201;-73.8030777
X-APPLE-STRUCTURED-LOCATION;VALUE=URI;X-ADDRESS=Chalet Roxboro 10 11 rue Roxboro Quebec H8Y 2P3 Canada;X-APPLE-RADIUS=500;X-TITLE=10 11 rue:geo:-73.8030777,45.5053201
END:VEVENT
BEGIN:VEVENT
DTSTART;TZID=America/New_York:20190427T100000
DTEND;TZID=America/New_York:20190907T103000
DTSTAMP:20260425T194507
CREATED:20190105T202858Z
LAST-MODIFIED:20190105T202858Z
UID:10001311-1556359200-1567852200@www.rsdo.org
SUMMARY:Cours de conditionnement physique et de yoga
DESCRIPTION:Pour suivre ce cours\, il faut être membre du RSDO. Première participation gratuite. \nLe RSDO offre à ses membres le cours de conditionnement physique d’une durée de 30 minutes combiné avec le cours de yoga d’une durée d’une heure. Vous avez le choix de faire l’un ou l’autre ou les deux. \nHeure :                        10 h à 10 h 30\, conditionnement physique. \n10 h 30 à 11 h 30\, yoga. \nInstructrice :                Josey Deroy \nVeuillez apporter pour le conditionnement physique\, des espadrilles et des poids de 2 à 5 kg et pour votre confort au yoga un tapis\, des blocs en mousse\, une serviette et une bouteille d’eau. \nRenseignements : Chantal au 514 696-9408 ou le RSDO au 438 390-7736.
URL:https://www.rsdo.org/evenements/cours-de-conditionnement-physique-de-yoga-3/2019-04-27/
LOCATION:Chalet Roxboro\, 10 11 rue\, Roxboro\, Quebec\, H8Y 2P3\, Canada
CATEGORIES:Cours
ATTACH;FMTTYPE=image/jpeg:https://www.rsdo.org/wp-content/uploads/2018/09/download-1-1.jpg
ORGANIZER;CN="Josey Deroy":MAILTO:josey.yoga.fitness@gmail.com
GEO:45.5053201;-73.8030777
X-APPLE-STRUCTURED-LOCATION;VALUE=URI;X-ADDRESS=Chalet Roxboro 10 11 rue Roxboro Quebec H8Y 2P3 Canada;X-APPLE-RADIUS=500;X-TITLE=10 11 rue:geo:-73.8030777,45.5053201
END:VEVENT
BEGIN:VEVENT
DTSTART;TZID=America/New_York:20190501T191500
DTEND;TZID=America/New_York:20190828T203000
DTSTAMP:20260425T194507
CREATED:20190105T202135Z
LAST-MODIFIED:20190105T202959Z
UID:10001294-1556738100-1567024200@www.rsdo.org
SUMMARY:Le chœur du RSDO
DESCRIPTION:LE CHŒUR DU RSDO\nPour faire partie de la chorale\, il faut être membre du RSDO.  \nAu RSDO\, on peut briser l’isolement en participant à un réseau d’entraide et à des cours/ateliers enrichissants qui nous font sortir de notre zone de confort et nous apportent la joie et le bonheur. Chanter dans une chorale apporte des bienfaits sur les plans émotionnel\, intellectuel (acquisition de connaissances\, stimulation cognitive)\, social\, spirituel et physique. \nDates : Les 18 pratiques auront lieu les mercredis soirs du 9 janvier au 8 mai 2019. \nCinq concerts seront présentés dont celui pour le RSDO jeudi le 23 mai 2019 à 19 h 30. \nCoût :   20 $. Première participation gratuite. Aucun remboursement après l’inscription. \nChef de chœur : Louis Babin \nRenseignements :  Pauline P. au 514 465-3428 ou le RSDO au 438 390-7736.
URL:https://www.rsdo.org/evenements/le-choeur-du-rsdo-4/2019-05-01/
LOCATION:Centre d’hébergement Denis-Benjamin-Viger\, 3292 Rue Cherrier\, L'Île-Bizard\, Quebec\, H9C 2N4\, Canada
CATEGORIES:Cours
ATTACH;FMTTYPE=image/jpeg:https://www.rsdo.org/wp-content/uploads/2018/01/Chorale-1.jpg
GEO:45.4909937;-73.870607
X-APPLE-STRUCTURED-LOCATION;VALUE=URI;X-ADDRESS=Centre d’hébergement Denis-Benjamin-Viger 3292 Rue Cherrier L'Île-Bizard Quebec H9C 2N4 Canada;X-APPLE-RADIUS=500;X-TITLE=3292 Rue Cherrier:geo:-73.870607,45.4909937
END:VEVENT
BEGIN:VEVENT
DTSTART;TZID=America/New_York:20190504T100000
DTEND;TZID=America/New_York:20190914T103000
DTSTAMP:20260425T194507
CREATED:20190105T202858Z
LAST-MODIFIED:20190105T202858Z
UID:10001312-1556964000-1568457000@www.rsdo.org
SUMMARY:Cours de conditionnement physique et de yoga
DESCRIPTION:Pour suivre ce cours\, il faut être membre du RSDO. Première participation gratuite. \nLe RSDO offre à ses membres le cours de conditionnement physique d’une durée de 30 minutes combiné avec le cours de yoga d’une durée d’une heure. Vous avez le choix de faire l’un ou l’autre ou les deux. \nHeure :                        10 h à 10 h 30\, conditionnement physique. \n10 h 30 à 11 h 30\, yoga. \nInstructrice :                Josey Deroy \nVeuillez apporter pour le conditionnement physique\, des espadrilles et des poids de 2 à 5 kg et pour votre confort au yoga un tapis\, des blocs en mousse\, une serviette et une bouteille d’eau. \nRenseignements : Chantal au 514 696-9408 ou le RSDO au 438 390-7736.
URL:https://www.rsdo.org/evenements/cours-de-conditionnement-physique-de-yoga-3/2019-05-04/
LOCATION:Chalet Roxboro\, 10 11 rue\, Roxboro\, Quebec\, H8Y 2P3\, Canada
CATEGORIES:Cours
ATTACH;FMTTYPE=image/jpeg:https://www.rsdo.org/wp-content/uploads/2018/09/download-1-1.jpg
ORGANIZER;CN="Josey Deroy":MAILTO:josey.yoga.fitness@gmail.com
GEO:45.5053201;-73.8030777
X-APPLE-STRUCTURED-LOCATION;VALUE=URI;X-ADDRESS=Chalet Roxboro 10 11 rue Roxboro Quebec H8Y 2P3 Canada;X-APPLE-RADIUS=500;X-TITLE=10 11 rue:geo:-73.8030777,45.5053201
END:VEVENT
BEGIN:VEVENT
DTSTART;TZID=America/New_York:20190508T191500
DTEND;TZID=America/New_York:20190904T203000
DTSTAMP:20260425T194507
CREATED:20190105T202135Z
LAST-MODIFIED:20190105T202959Z
UID:10001295-1557342900-1567629000@www.rsdo.org
SUMMARY:Le chœur du RSDO
DESCRIPTION:LE CHŒUR DU RSDO\nPour faire partie de la chorale\, il faut être membre du RSDO.  \nAu RSDO\, on peut briser l’isolement en participant à un réseau d’entraide et à des cours/ateliers enrichissants qui nous font sortir de notre zone de confort et nous apportent la joie et le bonheur. Chanter dans une chorale apporte des bienfaits sur les plans émotionnel\, intellectuel (acquisition de connaissances\, stimulation cognitive)\, social\, spirituel et physique. \nDates : Les 18 pratiques auront lieu les mercredis soirs du 9 janvier au 8 mai 2019. \nCinq concerts seront présentés dont celui pour le RSDO jeudi le 23 mai 2019 à 19 h 30. \nCoût :   20 $. Première participation gratuite. Aucun remboursement après l’inscription. \nChef de chœur : Louis Babin \nRenseignements :  Pauline P. au 514 465-3428 ou le RSDO au 438 390-7736.
URL:https://www.rsdo.org/evenements/le-choeur-du-rsdo-4/2019-05-08/
LOCATION:Centre d’hébergement Denis-Benjamin-Viger\, 3292 Rue Cherrier\, L'Île-Bizard\, Quebec\, H9C 2N4\, Canada
CATEGORIES:Cours
ATTACH;FMTTYPE=image/jpeg:https://www.rsdo.org/wp-content/uploads/2018/01/Chorale-1.jpg
GEO:45.4909937;-73.870607
X-APPLE-STRUCTURED-LOCATION;VALUE=URI;X-ADDRESS=Centre d’hébergement Denis-Benjamin-Viger 3292 Rue Cherrier L'Île-Bizard Quebec H9C 2N4 Canada;X-APPLE-RADIUS=500;X-TITLE=3292 Rue Cherrier:geo:-73.870607,45.4909937
END:VEVENT
BEGIN:VEVENT
DTSTART;TZID=America/New_York:20190511T100000
DTEND;TZID=America/New_York:20190921T103000
DTSTAMP:20260425T194507
CREATED:20190105T202858Z
LAST-MODIFIED:20190105T202858Z
UID:10001313-1557568800-1569061800@www.rsdo.org
SUMMARY:Cours de conditionnement physique et de yoga
DESCRIPTION:Pour suivre ce cours\, il faut être membre du RSDO. Première participation gratuite. \nLe RSDO offre à ses membres le cours de conditionnement physique d’une durée de 30 minutes combiné avec le cours de yoga d’une durée d’une heure. Vous avez le choix de faire l’un ou l’autre ou les deux. \nHeure :                        10 h à 10 h 30\, conditionnement physique. \n10 h 30 à 11 h 30\, yoga. \nInstructrice :                Josey Deroy \nVeuillez apporter pour le conditionnement physique\, des espadrilles et des poids de 2 à 5 kg et pour votre confort au yoga un tapis\, des blocs en mousse\, une serviette et une bouteille d’eau. \nRenseignements : Chantal au 514 696-9408 ou le RSDO au 438 390-7736.
URL:https://www.rsdo.org/evenements/cours-de-conditionnement-physique-de-yoga-3/2019-05-11/
LOCATION:Chalet Roxboro\, 10 11 rue\, Roxboro\, Quebec\, H8Y 2P3\, Canada
CATEGORIES:Cours
ATTACH;FMTTYPE=image/jpeg:https://www.rsdo.org/wp-content/uploads/2018/09/download-1-1.jpg
ORGANIZER;CN="Josey Deroy":MAILTO:josey.yoga.fitness@gmail.com
GEO:45.5053201;-73.8030777
X-APPLE-STRUCTURED-LOCATION;VALUE=URI;X-ADDRESS=Chalet Roxboro 10 11 rue Roxboro Quebec H8Y 2P3 Canada;X-APPLE-RADIUS=500;X-TITLE=10 11 rue:geo:-73.8030777,45.5053201
END:VEVENT
BEGIN:VEVENT
DTSTART;TZID=America/New_York:20190518T100000
DTEND;TZID=America/New_York:20190928T103000
DTSTAMP:20260425T194507
CREATED:20190105T202858Z
LAST-MODIFIED:20190105T202858Z
UID:10001314-1558173600-1569666600@www.rsdo.org
SUMMARY:Cours de conditionnement physique et de yoga
DESCRIPTION:Pour suivre ce cours\, il faut être membre du RSDO. Première participation gratuite. \nLe RSDO offre à ses membres le cours de conditionnement physique d’une durée de 30 minutes combiné avec le cours de yoga d’une durée d’une heure. Vous avez le choix de faire l’un ou l’autre ou les deux. \nHeure :                        10 h à 10 h 30\, conditionnement physique. \n10 h 30 à 11 h 30\, yoga. \nInstructrice :                Josey Deroy \nVeuillez apporter pour le conditionnement physique\, des espadrilles et des poids de 2 à 5 kg et pour votre confort au yoga un tapis\, des blocs en mousse\, une serviette et une bouteille d’eau. \nRenseignements : Chantal au 514 696-9408 ou le RSDO au 438 390-7736.
URL:https://www.rsdo.org/evenements/cours-de-conditionnement-physique-de-yoga-3/2019-05-18/
LOCATION:Chalet Roxboro\, 10 11 rue\, Roxboro\, Quebec\, H8Y 2P3\, Canada
CATEGORIES:Cours
ATTACH;FMTTYPE=image/jpeg:https://www.rsdo.org/wp-content/uploads/2018/09/download-1-1.jpg
ORGANIZER;CN="Josey Deroy":MAILTO:josey.yoga.fitness@gmail.com
GEO:45.5053201;-73.8030777
X-APPLE-STRUCTURED-LOCATION;VALUE=URI;X-ADDRESS=Chalet Roxboro 10 11 rue Roxboro Quebec H8Y 2P3 Canada;X-APPLE-RADIUS=500;X-TITLE=10 11 rue:geo:-73.8030777,45.5053201
END:VEVENT
BEGIN:VEVENT
DTSTART;TZID=America/New_York:20190525T100000
DTEND;TZID=America/New_York:20191005T103000
DTSTAMP:20260425T194507
CREATED:20190105T202858Z
LAST-MODIFIED:20190105T202858Z
UID:10001315-1558778400-1570271400@www.rsdo.org
SUMMARY:Cours de conditionnement physique et de yoga
DESCRIPTION:Pour suivre ce cours\, il faut être membre du RSDO. Première participation gratuite. \nLe RSDO offre à ses membres le cours de conditionnement physique d’une durée de 30 minutes combiné avec le cours de yoga d’une durée d’une heure. Vous avez le choix de faire l’un ou l’autre ou les deux. \nHeure :                        10 h à 10 h 30\, conditionnement physique. \n10 h 30 à 11 h 30\, yoga. \nInstructrice :                Josey Deroy \nVeuillez apporter pour le conditionnement physique\, des espadrilles et des poids de 2 à 5 kg et pour votre confort au yoga un tapis\, des blocs en mousse\, une serviette et une bouteille d’eau. \nRenseignements : Chantal au 514 696-9408 ou le RSDO au 438 390-7736.
URL:https://www.rsdo.org/evenements/cours-de-conditionnement-physique-de-yoga-3/2019-05-25/
LOCATION:Chalet Roxboro\, 10 11 rue\, Roxboro\, Quebec\, H8Y 2P3\, Canada
CATEGORIES:Cours
ATTACH;FMTTYPE=image/jpeg:https://www.rsdo.org/wp-content/uploads/2018/09/download-1-1.jpg
ORGANIZER;CN="Josey Deroy":MAILTO:josey.yoga.fitness@gmail.com
GEO:45.5053201;-73.8030777
X-APPLE-STRUCTURED-LOCATION;VALUE=URI;X-ADDRESS=Chalet Roxboro 10 11 rue Roxboro Quebec H8Y 2P3 Canada;X-APPLE-RADIUS=500;X-TITLE=10 11 rue:geo:-73.8030777,45.5053201
END:VEVENT
BEGIN:VEVENT
DTSTART;TZID=America/New_York:20190827T093000
DTEND;TZID=America/New_York:20190827T100000
DTSTAMP:20260425T194507
CREATED:20190605T001130Z
LAST-MODIFIED:20190605T001130Z
UID:10001468-1566898200-1566900000@www.rsdo.org
SUMMARY:Groupes de marche - Parc-Nature de l'Île-Bizard
DESCRIPTION:Nous avons 3 points de rencontre pour les marches régulières gratuites d’une durée de une heure à une heure et demie pour tous les niveaux. Les personnes ressources pour chaque lieu de départ ne garantissent pas leur présence à chaque jour indiqué ; amenez un(e) ami(e). Il se peut que par grosse canicule\, les marches soient annulées ou déplacées plus tôt ; appelez la personne mentionnée pour les renseignements selon le lieu de marche. \n  \nParc-Nature de l’Île-Bizard —  lundi et jeudi à 9 h 30. \nRencontre :    Complexe sportif Saint-Raphaël \nStationnement :   Au Complexe sportif\, places près du boulevard Jacques-Bizard. \nRenseignements :   Carole L. – tél. 514 626-9306.
URL:https://www.rsdo.org/evenements/groupes-de-marche-parc-nature-de-lile-bizard-3/2019-08-27/
LOCATION:Complexe sportif Saint-Raphaël\, 750\, boul. Jacques-Bizard\, H9C 2Y2\, Île-Bizard\, Québec\, H9C 2Y2\, Canada
CATEGORIES:Ateliers
ATTACH;FMTTYPE=image/jpeg:https://www.rsdo.org/wp-content/uploads/2018/06/Randonnée-parc-ïle-Bizard.jpg
GEO:45.5027065;-73.8776709
X-APPLE-STRUCTURED-LOCATION;VALUE=URI;X-ADDRESS=Complexe sportif Saint-Raphaël 750 boul. Jacques-Bizard H9C 2Y2 Île-Bizard Québec H9C 2Y2 Canada;X-APPLE-RADIUS=500;X-TITLE=750\, boul. Jacques-Bizard\, H9C 2Y2:geo:-73.8776709,45.5027065
END:VEVENT
BEGIN:VEVENT
DTSTART;TZID=America/New_York:20190827T103000
DTEND;TZID=America/New_York:20190827T120000
DTSTAMP:20260425T194507
CREATED:20190605T001734Z
LAST-MODIFIED:20190605T001734Z
UID:10001494-1566901800-1566907200@www.rsdo.org
SUMMARY:Groupes de marche - Vaudreuil-Dorion
DESCRIPTION:Nous avons 3 points de rencontre pour les marches régulières gratuites d’une durée de une heure à une heure et demie pour tous les niveaux. Les personnes ressources pour chaque lieu de départ ne garantissent pas leur présence à chaque jour indiqué ; amenez un(e) ami(e). Il se peut que par grosse canicule\, les marches soient annulées ou déplacées plus tôt ; appelez la personne mentionnée pour les renseignements selon le lieu de marche. \n  \nVaudreuil-Dorion — mardi et jeudi à 10 h 30. \nRencontre :   Opti-Centre Saint-Jean-Baptiste \nStationnement :  Rencontre au stationnement du fond\, en face de l’Opti-Centre. \nPossibilité d’aller au resto après la marche. \nRenseignements :        Pauline D. – tél. 450 510-1931\, Claire M. – tél. 450 218-0967 ou\nViateur B. – tél. 450 455-1014.
URL:https://www.rsdo.org/evenements/groupes-de-marche-vaudreuil-dorion-3/2019-08-27/
LOCATION:Opti-Centre St-Jean-Baptiste\, 145\, Harwood\, Vaudreuil-Dorion\, Québec\, J7V 1Y3\, Canada
CATEGORIES:Ateliers
ATTACH;FMTTYPE=image/jpeg:https://www.rsdo.org/wp-content/uploads/2018/06/Randonnée-pédestre-2.jpg
ORGANIZER;CN="Pauline Debonville":MAILTO:sociale@rsdo.org
GEO:45.3836495;-74.0116336
X-APPLE-STRUCTURED-LOCATION;VALUE=URI;X-ADDRESS=Opti-Centre St-Jean-Baptiste 145 Harwood Vaudreuil-Dorion Québec J7V 1Y3 Canada;X-APPLE-RADIUS=500;X-TITLE=145\, Harwood:geo:-74.0116336,45.3836495
END:VEVENT
BEGIN:VEVENT
DTSTART;TZID=America/New_York:20190829T093000
DTEND;TZID=America/New_York:20190829T100000
DTSTAMP:20260425T194507
CREATED:20190605T001130Z
LAST-MODIFIED:20190605T001130Z
UID:10001469-1567071000-1567072800@www.rsdo.org
SUMMARY:Groupes de marche - Parc-Nature de l'Île-Bizard
DESCRIPTION:Nous avons 3 points de rencontre pour les marches régulières gratuites d’une durée de une heure à une heure et demie pour tous les niveaux. Les personnes ressources pour chaque lieu de départ ne garantissent pas leur présence à chaque jour indiqué ; amenez un(e) ami(e). Il se peut que par grosse canicule\, les marches soient annulées ou déplacées plus tôt ; appelez la personne mentionnée pour les renseignements selon le lieu de marche. \n  \nParc-Nature de l’Île-Bizard —  lundi et jeudi à 9 h 30. \nRencontre :    Complexe sportif Saint-Raphaël \nStationnement :   Au Complexe sportif\, places près du boulevard Jacques-Bizard. \nRenseignements :   Carole L. – tél. 514 626-9306.
URL:https://www.rsdo.org/evenements/groupes-de-marche-parc-nature-de-lile-bizard-3/2019-08-29/
LOCATION:Complexe sportif Saint-Raphaël\, 750\, boul. Jacques-Bizard\, H9C 2Y2\, Île-Bizard\, Québec\, H9C 2Y2\, Canada
CATEGORIES:Ateliers
ATTACH;FMTTYPE=image/jpeg:https://www.rsdo.org/wp-content/uploads/2018/06/Randonnée-parc-ïle-Bizard.jpg
GEO:45.5027065;-73.8776709
X-APPLE-STRUCTURED-LOCATION;VALUE=URI;X-ADDRESS=Complexe sportif Saint-Raphaël 750 boul. Jacques-Bizard H9C 2Y2 Île-Bizard Québec H9C 2Y2 Canada;X-APPLE-RADIUS=500;X-TITLE=750\, boul. Jacques-Bizard\, H9C 2Y2:geo:-73.8776709,45.5027065
END:VEVENT
BEGIN:VEVENT
DTSTART;TZID=America/New_York:20190829T103000
DTEND;TZID=America/New_York:20190829T120000
DTSTAMP:20260425T194508
CREATED:20190605T001734Z
LAST-MODIFIED:20190605T001734Z
UID:10001495-1567074600-1567080000@www.rsdo.org
SUMMARY:Groupes de marche - Vaudreuil-Dorion
DESCRIPTION:Nous avons 3 points de rencontre pour les marches régulières gratuites d’une durée de une heure à une heure et demie pour tous les niveaux. Les personnes ressources pour chaque lieu de départ ne garantissent pas leur présence à chaque jour indiqué ; amenez un(e) ami(e). Il se peut que par grosse canicule\, les marches soient annulées ou déplacées plus tôt ; appelez la personne mentionnée pour les renseignements selon le lieu de marche. \n  \nVaudreuil-Dorion — mardi et jeudi à 10 h 30. \nRencontre :   Opti-Centre Saint-Jean-Baptiste \nStationnement :  Rencontre au stationnement du fond\, en face de l’Opti-Centre. \nPossibilité d’aller au resto après la marche. \nRenseignements :        Pauline D. – tél. 450 510-1931\, Claire M. – tél. 450 218-0967 ou\nViateur B. – tél. 450 455-1014.
URL:https://www.rsdo.org/evenements/groupes-de-marche-vaudreuil-dorion-3/2019-08-29/
LOCATION:Opti-Centre St-Jean-Baptiste\, 145\, Harwood\, Vaudreuil-Dorion\, Québec\, J7V 1Y3\, Canada
CATEGORIES:Ateliers
ATTACH;FMTTYPE=image/jpeg:https://www.rsdo.org/wp-content/uploads/2018/06/Randonnée-pédestre-2.jpg
ORGANIZER;CN="Pauline Debonville":MAILTO:sociale@rsdo.org
GEO:45.3836495;-74.0116336
X-APPLE-STRUCTURED-LOCATION;VALUE=URI;X-ADDRESS=Opti-Centre St-Jean-Baptiste 145 Harwood Vaudreuil-Dorion Québec J7V 1Y3 Canada;X-APPLE-RADIUS=500;X-TITLE=145\, Harwood:geo:-74.0116336,45.3836495
END:VEVENT
BEGIN:VEVENT
DTSTART;TZID=America/New_York:20190831T104500
DTEND;TZID=America/New_York:20190831T131500
DTSTAMP:20260425T194508
CREATED:20190605T002147Z
LAST-MODIFIED:20190605T002147Z
UID:10001509-1567248300-1567257300@www.rsdo.org
SUMMARY:Groupes de marche - Lachine
DESCRIPTION:GROUPES DE MARCHE\nNous avons 3 points de rencontre pour les marches régulières gratuites d’une durée de une heure à une heure et demie pour tous les niveaux. Les personnes ressources pour chaque lieu de départ ne garantissent pas leur présence à chaque jour indiqué ; amenez un(e) ami(e). Il se peut que par grosse canicule\, les marches soient annulées ou déplacées plus tôt ; appelez la personne mentionnée pour les renseignements selon le lieu de marche. \n  \nLachine — samedi à 10 h 45. \nRencontre :    Sur le boul. Saint-Joseph à Lachine\, près de la 31e avenue\, devant le Dairy Queen\, sur le bord de l’eau. \nStationnement :   Sur les rues avoisinantes où le stationnement est permis. \nPossibilité d’aller au resto à 1 h 15 (lieux variables à proximité). \nRenseignements :    Nancy S. – tél. 514 403-2919. \n 
URL:https://www.rsdo.org/evenements/groupes-de-marche-lachine-2/2019-08-31/
LOCATION:Dairy Queen Lachine\, 3210\, boul. Saint-Joseph\, Lachine\, Québec\, H8T 1P4\, Canada
CATEGORIES:Ateliers
ATTACH;FMTTYPE=image/jpeg:https://www.rsdo.org/wp-content/uploads/2018/06/Randonnée-Lachine.jpg
GEO:45.4338847;-73.6923329
X-APPLE-STRUCTURED-LOCATION;VALUE=URI;X-ADDRESS=Dairy Queen Lachine 3210 boul. Saint-Joseph Lachine Québec H8T 1P4 Canada;X-APPLE-RADIUS=500;X-TITLE=3210\, boul. Saint-Joseph:geo:-73.6923329,45.4338847
END:VEVENT
BEGIN:VEVENT
DTSTART;TZID=America/New_York:20190901T110000
DTEND;TZID=America/New_York:20190901T130000
DTSTAMP:20260425T194508
CREATED:20190604T012559Z
LAST-MODIFIED:20190604T012559Z
UID:10000289-1567335600-1567342800@www.rsdo.org
SUMMARY:Cora Vaudreuil-Dorion
DESCRIPTION:
URL:https://www.rsdo.org/evenements/cora-vaudreuil-dorion/
LOCATION:Cora – Vaudreuil\, 84\, boulevard Harwood\, Vaudreuil-Dorion\, Québec\, J7V 1X8\, Canada
CATEGORIES:Soutien émotionnel
ATTACH;FMTTYPE=image/jpeg:https://www.rsdo.org/wp-content/uploads/2018/06/cora-dejeuner-oeufs-benedictines.jpg
GEO:45.3844389;-74.0083772
X-APPLE-STRUCTURED-LOCATION;VALUE=URI;X-ADDRESS=Cora – Vaudreuil 84 boulevard Harwood Vaudreuil-Dorion Québec J7V 1X8 Canada;X-APPLE-RADIUS=500;X-TITLE=84\, boulevard Harwood:geo:-74.0083772,45.3844389
END:VEVENT
BEGIN:VEVENT
DTSTART;TZID=America/New_York:20190901T170000
DTEND;TZID=America/New_York:20190901T200000
DTSTAMP:20260425T194508
CREATED:20190604T013029Z
LAST-MODIFIED:20190604T013029Z
UID:10001443-1567357200-1567368000@www.rsdo.org
SUMMARY:Pique-niques du dimanche
DESCRIPTION:Pourquoi ne pas terminer la fin de semaine en beauté… Venez nous rencontrer au parc le dimanche à l’heure du souper. Apportez votre pique-nique. Quoi de plus agréable que de passer une soirée tranquille en compagnie de quelques bons amis\, admirer le coucher du soleil et repartir pour la maison\, détendus et prêts à commencer une nouvelle semaine. \nRenseignements :        Georgianne L. au 514 626-6176.
URL:https://www.rsdo.org/evenements/pique-niques-dimanche-2/2019-09-01/
LOCATION:Parc Jacques-Cardinal\, 16037\, boulevard Gouin Ouest\,\, Pierrefonds\, Québec\, H9H 2X3\, Canada
CATEGORIES:Ateliers
ATTACH;FMTTYPE=image/jpeg:https://www.rsdo.org/wp-content/uploads/2018/06/Pique-nique-1.jpg
GEO:45.4805517;-73.8725251
X-APPLE-STRUCTURED-LOCATION;VALUE=URI;X-ADDRESS=Parc Jacques-Cardinal 16037 boulevard Gouin Ouest Pierrefonds Québec H9H 2X3 Canada;X-APPLE-RADIUS=500;X-TITLE=16037\, boulevard Gouin Ouest\,:geo:-73.8725251,45.4805517
END:VEVENT
END:VCALENDAR