BEGIN:VCALENDAR
VERSION:2.0
PRODID:-//RSDO - ECPv6.15.20//NONSGML v1.0//EN
CALSCALE:GREGORIAN
METHOD:PUBLISH
X-WR-CALNAME:RSDO
X-ORIGINAL-URL:https://www.rsdo.org
X-WR-CALDESC:Évènements pour RSDO
REFRESH-INTERVAL;VALUE=DURATION:PT1H
X-Robots-Tag:noindex
X-PUBLISHED-TTL:PT1H
BEGIN:VTIMEZONE
TZID:America/New_York
BEGIN:DAYLIGHT
TZOFFSETFROM:-0500
TZOFFSETTO:-0400
TZNAME:EDT
DTSTART:20170312T070000
END:DAYLIGHT
BEGIN:STANDARD
TZOFFSETFROM:-0400
TZOFFSETTO:-0500
TZNAME:EST
DTSTART:20171105T060000
END:STANDARD
BEGIN:DAYLIGHT
TZOFFSETFROM:-0500
TZOFFSETTO:-0400
TZNAME:EDT
DTSTART:20180311T070000
END:DAYLIGHT
BEGIN:STANDARD
TZOFFSETFROM:-0400
TZOFFSETTO:-0500
TZNAME:EST
DTSTART:20181104T060000
END:STANDARD
BEGIN:DAYLIGHT
TZOFFSETFROM:-0500
TZOFFSETTO:-0400
TZNAME:EDT
DTSTART:20190310T070000
END:DAYLIGHT
BEGIN:STANDARD
TZOFFSETFROM:-0400
TZOFFSETTO:-0500
TZNAME:EST
DTSTART:20191103T060000
END:STANDARD
END:VTIMEZONE
BEGIN:VEVENT
DTSTART;TZID=America/New_York:20181210T093000
DTEND;TZID=America/New_York:20181210T110000
DTSTAMP:20260426T000241
CREATED:20180907T220647Z
LAST-MODIFIED:20180907T220647Z
UID:10001190-1544434200-1544439600@www.rsdo.org
SUMMARY:Groupes de marche - Parc-Nature de l'Île-Bizard
DESCRIPTION:Nous avons 3 points de rencontre pour les marches régulières gratuites d’une durée maximale d’une heure et demie. Les personnes ressources pour chaque lieu de départ ne garantissent pas leur présence à chaque jour indiqué ; amenez un(e) ami(e). S’il y a des volontaires pour organiser des marches régulières dans une région qui leur conviendrait davantage\, n’hésitez pas à m’en informer. Pour les marches spéciales qui s’ajouteront à celles-ci\, un courriel vous sera envoyé avec les informations pertinentes. Toutes les suggestions sont les bienvenues. Gisèle Talbot\, responsable – tél. 514 620-665 \nLieu de rencontre dans le stationnement de l’arèna Vincent-Lecavalier près de l’entrée du parc. \nRenseignements :   Carole L. – tél. 514 626-9306. \n  \n  \n  \n 
URL:https://www.rsdo.org/evenements/groupes-de-marche-parc-nature-de-lile-bizard/2018-12-10/
LOCATION:Aréna Vincent-Lecavalier\, 750 Jacques Bizard Blvd\, L'Île-Bizard\, Quebec\, H9C 2Y2\, Canada
CATEGORIES:Ateliers
ATTACH;FMTTYPE=image/jpeg:https://www.rsdo.org/wp-content/uploads/2018/06/Randonnée-parc-ïle-Bizard.jpg
GEO:45.5025181;-73.8771367
X-APPLE-STRUCTURED-LOCATION;VALUE=URI;X-ADDRESS=Aréna Vincent-Lecavalier 750 Jacques Bizard Blvd L'Île-Bizard Quebec H9C 2Y2 Canada;X-APPLE-RADIUS=500;X-TITLE=750 Jacques Bizard Blvd:geo:-73.8771367,45.5025181
END:VEVENT
BEGIN:VEVENT
DTSTART;TZID=America/New_York:20181210T190000
DTEND;TZID=America/New_York:20181210T210000
DTSTAMP:20260426T000241
CREATED:20180907T230007Z
LAST-MODIFIED:20180907T230007Z
UID:10001261-1544468400-1544475600@www.rsdo.org
SUMMARY:Apprivoiser sa solitude et développer son réseau
DESCRIPTION:Pour faire partie de cet atelier il faut être membre du RSDO.  \nCe programme vise des changements d’attitude\, de se sentir mieux outillés pour faire face à la solitude ; de développer des stratégies concrètes pour briser l’isolement et consolider leur réseau social ; d’avoir une meilleure connaissance des ressources disponibles dans leur milieu (groupes de loisirs\, lieux possibles de participation sociale\, organismes d’aide et de soutien\, etc.). \nIl s’agit d’ateliers interactifs\, ce qui signifie que la participation et l’autonomie du groupe sont au centre de chaque rencontre. Les ateliers sont ponctués de : \n brèves présentations (exposés magistraux) ; \n échanges en sous-groupe ; \n plénières ; \n animation d’activités. \nÀ cet effet\, des outils originaux et ludiques ont été créés afin de soutenir l’animation des ateliers. Des exercices individuels à faire à la maison sont aussi proposés pour approfondir les apprentissages et entretenir l’engagement des participants dans leur cheminement. \nAnimatrice :    Lise Labonté\, ergothérapeute \nCoût :    Gratuit pour les membres \nParticipants :     Maximum de 18 personnes et plus de 55 ans \nRenseignements :      Sylvie G. 514 850-1243. \n 
URL:https://www.rsdo.org/evenements/apprivoiser-solitude-developper-reseau-2/
LOCATION:Centre communautaire Marcel Morin\, 14068\, boulevard Gouin Ouest\, Pierrefonds\, Québec\, H8Z 1Y1\, Canada
CATEGORIES:Cours
ATTACH;FMTTYPE=image/jpeg:https://www.rsdo.org/wp-content/uploads/2018/09/baby-623417__340.jpg
GEO:45.4956281;-73.8506691
X-APPLE-STRUCTURED-LOCATION;VALUE=URI;X-ADDRESS=Centre communautaire Marcel Morin 14068 boulevard Gouin Ouest Pierrefonds Québec H8Z 1Y1 Canada;X-APPLE-RADIUS=500;X-TITLE=14068\, boulevard Gouin Ouest:geo:-73.8506691,45.4956281
END:VEVENT
BEGIN:VEVENT
DTSTART;TZID=America/New_York:20181211T133000
DTEND;TZID=America/New_York:20181211T150000
DTSTAMP:20260426T000241
CREATED:20180907T222541Z
LAST-MODIFIED:20181024T192107Z
UID:10001221-1544535000-1544540400@www.rsdo.org
SUMMARY:Groupes de marche - Vaudreuil-Dorion
DESCRIPTION:Nous avons 3 points de rencontre pour les marches régulières gratuites d’une durée maximale d’une heure et demie. Les personnes ressources pour chaque lieu de départ ne garantissent pas leur présence à chaque jour indiqué ; amenez un(e) ami(e). S’il y a des volontaires pour organiser des marches régulières dans une région qui leur conviendrait davantage\, n’hésitez pas à m’en informer. Pour les marches spéciales qui s’ajouteront à celles-ci\, un courriel vous sera envoyé avec les informations pertinentes. Toutes les suggestions sont les bienvenues. Gisèle Talbot\, responsable – tél. 514 620-665 \n  \nLieu de rencontre :  stationnement du fond\, en face de l’Opti-Centre \nPossibilité d’aller au resto après la marche. \nRenseignements :    Viateur B. – tél. 450 455-1014 ou Claire M. – tél. 450 218-0967 ou Pauline D. – tél. 450 510-1931
URL:https://www.rsdo.org/evenements/groupes-de-marche-vaudreuil-dorion-2018-10-30/2018-12-11/
LOCATION:Opti-Centre St-Jean-Baptiste\, 145\, Harwood\, Vaudreuil-Dorion\, Québec\, J7V 1Y3\, Canada
CATEGORIES:Ateliers
ATTACH;FMTTYPE=image/jpeg:https://www.rsdo.org/wp-content/uploads/2018/06/Randonnée-pédestre-2.jpg
GEO:45.3836495;-74.0116336
X-APPLE-STRUCTURED-LOCATION;VALUE=URI;X-ADDRESS=Opti-Centre St-Jean-Baptiste 145 Harwood Vaudreuil-Dorion Québec J7V 1Y3 Canada;X-APPLE-RADIUS=500;X-TITLE=145\, Harwood:geo:-74.0116336,45.3836495
END:VEVENT
BEGIN:VEVENT
DTSTART;TZID=America/New_York:20181211T183000
DTEND;TZID=America/New_York:20181211T203000
DTSTAMP:20260426T000241
CREATED:20180907T200310Z
LAST-MODIFIED:20181123T194054Z
UID:10000068-1544553000-1544560200@www.rsdo.org
SUMMARY:L’INFORMATIQUE AU GOÛT DE CHACUN
DESCRIPTION:Pour suivre ces cours\, il faut être membre du RSDO. \nL’informatique est devenue un véritable phénomène de société touchant des personnes de tous âges et de tous les secteurs. De la théorie à la pratique\, cette formation vous permettra\, à vous aussi\, d’entrer dans le monde fascinant de l’informatique : notions de base d’un ordinateur\, traitement de texte\, courriel\, navigation sur l’internet\, etc. \nInscription :     Mardi 11 septembre à 19 h. Apporter : certificat de naissance\, carte de citoyenneté ou résident permanent\, carte d’assurance maladie. \nCoût :    Gratuit. \nRenseignements :   Louise D. au 514 542-1308 ou le RSDO au 438 390-7736.
URL:https://www.rsdo.org/evenements/linformatique-gout-de-chacun-2018-11-27/2018-12-11/
LOCATION:Centre d’éducation des adultes Jeanne-Sauvé\, 305\, avenue Mimosa\,\, Dorval\, Québec\, H9S 3K5\, Canada
CATEGORIES:Cours
ATTACH;FMTTYPE=image/jpeg:https://www.rsdo.org/wp-content/uploads/2018/09/keyboard-621830__340.jpg
GEO:45.4443775;-73.7377077
X-APPLE-STRUCTURED-LOCATION;VALUE=URI;X-ADDRESS=Centre d’éducation des adultes Jeanne-Sauvé 305 avenue Mimosa Dorval Québec H9S 3K5 Canada;X-APPLE-RADIUS=500;X-TITLE=305\, avenue Mimosa\,:geo:-73.7377077,45.4443775
END:VEVENT
BEGIN:VEVENT
DTSTART;TZID=America/New_York:20181213T093000
DTEND;TZID=America/New_York:20181213T110000
DTSTAMP:20260426T000241
CREATED:20180907T221005Z
LAST-MODIFIED:20180907T221005Z
UID:10001213-1544693400-1544698800@www.rsdo.org
SUMMARY:Groupes de marche - Parc-nature de l'Ïle-Bizard
DESCRIPTION:Nous avons 3 points de rencontre pour les marches régulières gratuites d’une durée maximale d’une heure et demie. Les personnes ressources pour chaque lieu de départ ne garantissent pas leur présence à chaque jour indiqué ; amenez un(e) ami(e). S’il y a des volontaires pour organiser des marches régulières dans une région qui leur conviendrait davantage\, n’hésitez pas à m’en informer. Pour les marches spéciales qui s’ajouteront à celles-ci\, un courriel vous sera envoyé avec les informations pertinentes. Toutes les suggestions sont les bienvenues. Gisèle Talbot\, responsable – tél. 514 620-665 \nLieu de rencontre dans le stationnement de l’arèna Vincent-Lecavalier près de l’entrée du parc. \nRenseignements :   Carole L. – tél. 514 626-9306.
URL:https://www.rsdo.org/evenements/groupes-de-marche-parc-nature-de-lile-bizard-2/2018-12-13/
LOCATION:Québec
CATEGORIES:Ateliers
ATTACH;FMTTYPE=image/jpeg:https://www.rsdo.org/wp-content/uploads/2018/06/Randonnée-parc-ïle-Bizard.jpg
END:VEVENT
BEGIN:VEVENT
DTSTART;TZID=America/New_York:20181213T133000
DTEND;TZID=America/New_York:20181213T150000
DTSTAMP:20260426T000241
CREATED:20180907T222829Z
LAST-MODIFIED:20181024T192009Z
UID:10001237-1544707800-1544713200@www.rsdo.org
SUMMARY:Groupes de marche - Vaudreuil-Dorion
DESCRIPTION:Nous avons 3 points de rencontre pour les marches régulières gratuites d’une durée maximale d’une heure et demie. Les personnes ressources pour chaque lieu de départ ne garantissent pas leur présence à chaque jour indiqué ; amenez un(e) ami(e). S’il y a des volontaires pour organiser des marches régulières dans une région qui leur conviendrait davantage\, n’hésitez pas à m’en informer. Pour les marches spéciales qui s’ajouteront à celles-ci\, un courriel vous sera envoyé avec les informations pertinentes. Toutes les suggestions sont les bienvenues. Gisèle Talbot\, responsable – tél. 514 620-665 \nLieu de rencontre :  stationnement du fond\, en face de l’Opti-Centre \nPossibilité d’aller au resto après la marche. \nRenseignements :    Viateur B. – tél. 450 455-1014 ou Claire M. – tél. 450 218-0967 ou Pauline D. – tél. 450 510-1931
URL:https://www.rsdo.org/evenements/groupes-de-marche-vaudreuil-dorion-2-2018-10-25/2018-12-13/
LOCATION:Opti-Centre St-Jean-Baptiste\, 145\, Harwood\, Vaudreuil-Dorion\, Québec\, J7V 1Y3\, Canada
CATEGORIES:Ateliers
ATTACH;FMTTYPE=image/jpeg:https://www.rsdo.org/wp-content/uploads/2018/06/Randonnée-pédestre-2.jpg
GEO:45.3836495;-74.0116336
X-APPLE-STRUCTURED-LOCATION;VALUE=URI;X-ADDRESS=Opti-Centre St-Jean-Baptiste 145 Harwood Vaudreuil-Dorion Québec J7V 1Y3 Canada;X-APPLE-RADIUS=500;X-TITLE=145\, Harwood:geo:-74.0116336,45.3836495
END:VEVENT
BEGIN:VEVENT
DTSTART;TZID=America/New_York:20181213T193000
DTEND;TZID=America/New_York:20181213T213000
DTSTAMP:20260426T000241
CREATED:20181016T141440Z
LAST-MODIFIED:20181016T141440Z
UID:10001274-1544729400-1544736600@www.rsdo.org
SUMMARY:Apprendre à parler en toute confiance et surmonter sa nervosité
DESCRIPTION:Avec Alain Droulers et son groupe de Toastmasters – De réputation mondiale\, Toastmasters International est un organisme à but lucratif qui offre à tous la possibilité de maîtriser l’art de parler\, d’écouter et de penser. La mission d’un club est d’offrir un milieu d’apprentissage positif et aidant dans lequel les membres peuvent développer en toute confiance leurs compétences de communicateur et de leader. \nLors de cette présentation\, vous aurez l’occasion de voir le déroulement d’une rencontre régulière d’un club Toastmasters comme elles se déroulent habituellement dans des milliers de clubs à travers le monde. Il y aura la présentation de 2 discours préparés de 5 à 7 minutes sur des thèmes variés au goût des orateurs. Après la pause\, il y aura une session des improvisations. Ce sont des impros d’une durée de 1 à 2 minutes au cours desquelles il vous sera offert la possibilité d’y participer. \nCes rencontres Toastmasters permettent de voir le potentiel humain à l’œuvre. La créativité\, la communication\, la spontanéité et le leadership y sont stimulés et encouragés.
URL:https://www.rsdo.org/evenements/apprendre-a-parler-toute-confiance-surmonter-nervosite/
LOCATION:Québec
CATEGORIES:Conférences
ATTACH;FMTTYPE=image/jpeg:https://www.rsdo.org/wp-content/uploads/2018/10/Parler-en-public-1a.jpg
END:VEVENT
BEGIN:VEVENT
DTSTART;TZID=America/New_York:20181215T100000
DTEND;TZID=America/New_York:20181215T113000
DTSTAMP:20260426T000241
CREATED:20180907T203900Z
LAST-MODIFIED:20180907T204933Z
UID:10000084-1544868000-1544873400@www.rsdo.org
SUMMARY:COURS DE CONDITIONNEMENT PHYSIQUE ET DE YOGA
DESCRIPTION:Pour suivre ce cours\, il faut être membre du RSDO. Première participation gratuite. \nLe RSDO offre à ses membres le cours de yoga d’une durée d’une heure combiné avec le conditionnement physique d’une durée de 30 minutes. Vous avez le choix de faire l’un ou l’autre ou les deux. \nConditionnement physique:   10 h à 10 h 30 \nYoga:  10 h 30 à 11 h 30 \nInstructrice :  Josey Deroy \nPour votre confort au yoga\, apportez un tapis\, des blocs en mousse\, une serviette et une bouteille d’eau. \nPour le conditionnement physique\, des espadrilles et des poids de 2 à 5 kg. \n 
URL:https://www.rsdo.org/evenements/cours-de-conditionnement-physique-de-yoga-2/2018-12-15/
LOCATION:Chalet Roxboro\, 10 11 rue\, Roxboro\, Quebec\, H8Y 2P3\, Canada
CATEGORIES:Cours
ATTACH;FMTTYPE=image/jpeg:https://www.rsdo.org/wp-content/uploads/2018/09/Équipement-no-1.jpg
ORGANIZER;CN="Josey Deroy":MAILTO:josey.yoga.fitness@gmail.com
GEO:45.5053201;-73.8030777
X-APPLE-STRUCTURED-LOCATION;VALUE=URI;X-ADDRESS=Chalet Roxboro 10 11 rue Roxboro Quebec H8Y 2P3 Canada;X-APPLE-RADIUS=500;X-TITLE=10 11 rue:geo:-73.8030777,45.5053201
END:VEVENT
BEGIN:VEVENT
DTSTART;TZID=America/New_York:20181215T104500
DTEND;TZID=America/New_York:20181215T130000
DTSTAMP:20260426T000241
CREATED:20180907T223417Z
LAST-MODIFIED:20180907T223417Z
UID:10001253-1544870700-1544878800@www.rsdo.org
SUMMARY:Groupes de marche - Lachine
DESCRIPTION:Nous avons 3 points de rencontre pour les marches régulières gratuites d’une durée maximale d’une heure et demie. Les personnes ressources pour chaque lieu de départ ne garantissent pas leur présence à chaque jour indiqué ; amenez un(e) ami(e). S’il y a des volontaires pour organiser des marches régulières dans une région qui leur conviendrait davantage\, n’hésitez pas à m’en informer. Pour les marches spéciales qui s’ajouteront à celles-ci\, un courriel vous sera envoyé avec les informations pertinentes. Toutes les suggestions sont les bienvenues. Gisèle Talbot\, responsable – tél. 514 620-6652 \n  \nLieu de rencontre :     Parc Saint-Louis en face du Dairy Queen. \nStationnement :      Sur la rue Notre-Dame parallèle au boul. Saint-Joseph. \nPossibilité d’aller au resto à 1 h 15 (lieux variables à proximité). \nRenseignements :    Nancy S. – tél. 438 403-2919. \n  \n  \n  \n 
URL:https://www.rsdo.org/evenements/groupes-de-marche-lachine/2018-12-15/
LOCATION:Dairy Queen Lachine\, 3210\, boul. Saint-Joseph\, Lachine\, Québec\, H8T 1P4\, Canada
CATEGORIES:Ateliers
ATTACH;FMTTYPE=image/jpeg:https://www.rsdo.org/wp-content/uploads/2018/06/Randonnée-Lachine.jpg
GEO:45.4338847;-73.6923329
X-APPLE-STRUCTURED-LOCATION;VALUE=URI;X-ADDRESS=Dairy Queen Lachine 3210 boul. Saint-Joseph Lachine Québec H8T 1P4 Canada;X-APPLE-RADIUS=500;X-TITLE=3210\, boul. Saint-Joseph:geo:-73.6923329,45.4338847
END:VEVENT
END:VCALENDAR