BEGIN:VCALENDAR
VERSION:2.0
PRODID:-//RSDO - ECPv6.15.20//NONSGML v1.0//EN
CALSCALE:GREGORIAN
METHOD:PUBLISH
X-WR-CALNAME:RSDO
X-ORIGINAL-URL:https://www.rsdo.org
X-WR-CALDESC:Évènements pour RSDO
REFRESH-INTERVAL;VALUE=DURATION:PT1H
X-Robots-Tag:noindex
X-PUBLISHED-TTL:PT1H
BEGIN:VTIMEZONE
TZID:America/New_York
BEGIN:DAYLIGHT
TZOFFSETFROM:-0500
TZOFFSETTO:-0400
TZNAME:EDT
DTSTART:20200308T070000
END:DAYLIGHT
BEGIN:STANDARD
TZOFFSETFROM:-0400
TZOFFSETTO:-0500
TZNAME:EST
DTSTART:20201101T060000
END:STANDARD
BEGIN:DAYLIGHT
TZOFFSETFROM:-0500
TZOFFSETTO:-0400
TZNAME:EDT
DTSTART:20210314T070000
END:DAYLIGHT
BEGIN:STANDARD
TZOFFSETFROM:-0400
TZOFFSETTO:-0500
TZNAME:EST
DTSTART:20211107T060000
END:STANDARD
BEGIN:DAYLIGHT
TZOFFSETFROM:-0500
TZOFFSETTO:-0400
TZNAME:EDT
DTSTART:20220313T070000
END:DAYLIGHT
BEGIN:STANDARD
TZOFFSETFROM:-0400
TZOFFSETTO:-0500
TZNAME:EST
DTSTART:20221106T060000
END:STANDARD
END:VTIMEZONE
BEGIN:VEVENT
DTSTART;TZID=America/New_York:20210218T190000
DTEND;TZID=America/New_York:20210218T210000
DTSTAMP:20260423T040035
CREATED:20201228T180506Z
LAST-MODIFIED:20201228T181841Z
UID:10001823-1613674800-1613682000@www.rsdo.org
SUMMARY:Parler c'est bien\, communiquer c'est mieux
DESCRIPTION:Cette conférence sera transmise par ZOOM et le lien sera envoyé par courriel aux membres la veille de l’évènement. \nGratuit pour les membres | 5 $ pour les non-membres – pour informations\, veuillez communiquer avec conference@rsdo.org \nPsychologue\, auteure\, conférencière\, formatrice et superviseure clinique\, Nathalie Parent a développé une expertise dans les domaines du stress\, de l’anxiété\, de la communication\, des relations\, des alliances thérapeutiques\, de la psychosomatique\, de la périnatalité et des émotions. \nLa communication constructive n’est pas innée et se développe tout au long de notre vie. Certains réflexes nuisibles à la relation peuvent se présenter lors d’une situation chargée d’émotions. Cette conférence vise à développer des stratégies de communication qui favorisent l’alliance entre deux personnes et permet ainsi le mieux-être. Les participants pourront identifier certaines caractéristiques de leur propre communication et développer des outils concrets afin de favoriser et maintenir l’alliance avec les autres. \nLes objectifs sont : \n\nConnaître quelques obstacles à la communication;\nDistinguer des stratégies favorisant l’alliance et le lien de confiance et la distance professionnelle avec les médias sociaux;\nReconnaître l’impact de l’intersubjectivité dans la communication et voir ce qui appartient à chacun (moi – l’autre – la relation);\nS’initier à l’approche systémique : réfléchir au système de communication.\n\nPhoto courtoisie de © Anaïs Gouffé \n  \n 
URL:https://www.rsdo.org/evenements/parler-cest-bien-communiquer-cest-mieux/
LOCATION:ZOOM
CATEGORIES:Conférences
ATTACH;FMTTYPE=image/jpeg:https://www.rsdo.org/wp-content/uploads/2020/12/Nathalie-Parent-1.jpg
END:VEVENT
END:VCALENDAR