BEGIN:VCALENDAR
VERSION:2.0
PRODID:-//RSDO - ECPv6.15.20//NONSGML v1.0//EN
CALSCALE:GREGORIAN
METHOD:PUBLISH
X-WR-CALNAME:RSDO
X-ORIGINAL-URL:https://www.rsdo.org
X-WR-CALDESC:Évènements pour RSDO
REFRESH-INTERVAL;VALUE=DURATION:PT1H
X-Robots-Tag:noindex
X-PUBLISHED-TTL:PT1H
BEGIN:VTIMEZONE
TZID:America/New_York
BEGIN:DAYLIGHT
TZOFFSETFROM:-0500
TZOFFSETTO:-0400
TZNAME:EDT
DTSTART:20200308T070000
END:DAYLIGHT
BEGIN:STANDARD
TZOFFSETFROM:-0400
TZOFFSETTO:-0500
TZNAME:EST
DTSTART:20201101T060000
END:STANDARD
BEGIN:DAYLIGHT
TZOFFSETFROM:-0500
TZOFFSETTO:-0400
TZNAME:EDT
DTSTART:20210314T070000
END:DAYLIGHT
BEGIN:STANDARD
TZOFFSETFROM:-0400
TZOFFSETTO:-0500
TZNAME:EST
DTSTART:20211107T060000
END:STANDARD
BEGIN:DAYLIGHT
TZOFFSETFROM:-0500
TZOFFSETTO:-0400
TZNAME:EDT
DTSTART:20220313T070000
END:DAYLIGHT
BEGIN:STANDARD
TZOFFSETFROM:-0400
TZOFFSETTO:-0500
TZNAME:EST
DTSTART:20221106T060000
END:STANDARD
END:VTIMEZONE
BEGIN:VEVENT
DTSTART;TZID=America/New_York:20210202T190000
DTEND;TZID=America/New_York:20210202T210000
DTSTAMP:20260423T130554
CREATED:20210114T215423Z
LAST-MODIFIED:20210114T215538Z
UID:10000648-1612292400-1612299600@www.rsdo.org
SUMMARY:Une nouvelle façon de vivre
DESCRIPTION:Cette conférence sera transmise par ZOOM et le lien sera envoyé par courriel aux membres la veille de l’évènement. \nGratuit pour les membres | 5 $ pour les non-membres – pour informations\, veuillez communiquer avec conference@rsdo.org \nConférencière et animatrice socio-culturelle\, Jacinthe Chaussé est l’auteure du livre Besoin d’amour. Depuis 20 ans\, elle présente des conférences sur une trentaine de sujets concernant l’être humain et ses potentialités. Également thérapeute en gestion émotionnelle\, elle reçoit des clients en consultation individuelle. \nMadame Chaussé nous entretiendra de santé mentale\, de créativité\, de lâcher prise\, de nouveaux choix de vie et de vivre au présent. Elle nous conseillera des étapes à suivre pour faire face aux changements\, quels qu’ils soient. Dans l’optique de stimuler les individus à profiter de ce « vent de changement » pour revoir leurs priorités et revenir à l’essentiel\, elle propose de partager ses réflexions. \n  \n 
URL:https://www.rsdo.org/evenements/nouvelle-facon-de-vivre/
LOCATION:ZOOM
CATEGORIES:Conférences
ATTACH;FMTTYPE=image/png:https://www.rsdo.org/wp-content/uploads/2018/09/Jacinthe-Chaussé-1.png
END:VEVENT
END:VCALENDAR