BEGIN:VCALENDAR
VERSION:2.0
PRODID:-//RSDO - ECPv6.15.20//NONSGML v1.0//EN
CALSCALE:GREGORIAN
METHOD:PUBLISH
X-WR-CALNAME:RSDO
X-ORIGINAL-URL:https://www.rsdo.org
X-WR-CALDESC:Évènements pour RSDO
REFRESH-INTERVAL;VALUE=DURATION:PT1H
X-Robots-Tag:noindex
X-PUBLISHED-TTL:PT1H
BEGIN:VTIMEZONE
TZID:America/New_York
BEGIN:DAYLIGHT
TZOFFSETFROM:-0500
TZOFFSETTO:-0400
TZNAME:EDT
DTSTART:20190310T070000
END:DAYLIGHT
BEGIN:STANDARD
TZOFFSETFROM:-0400
TZOFFSETTO:-0500
TZNAME:EST
DTSTART:20191103T060000
END:STANDARD
BEGIN:DAYLIGHT
TZOFFSETFROM:-0500
TZOFFSETTO:-0400
TZNAME:EDT
DTSTART:20200308T070000
END:DAYLIGHT
BEGIN:STANDARD
TZOFFSETFROM:-0400
TZOFFSETTO:-0500
TZNAME:EST
DTSTART:20201101T060000
END:STANDARD
BEGIN:DAYLIGHT
TZOFFSETFROM:-0500
TZOFFSETTO:-0400
TZNAME:EDT
DTSTART:20210314T070000
END:DAYLIGHT
BEGIN:STANDARD
TZOFFSETFROM:-0400
TZOFFSETTO:-0500
TZNAME:EST
DTSTART:20211107T060000
END:STANDARD
END:VTIMEZONE
BEGIN:VEVENT
DTSTART;TZID=America/New_York:20200423T193000
DTEND;TZID=America/New_York:20200423T213000
DTSTAMP:20260424T053335
CREATED:20200107T231252Z
LAST-MODIFIED:20200921T233625Z
UID:10001761-1587670200-1587677400@www.rsdo.org
SUMMARY:La solitude\, un fardeau ou une amie?
DESCRIPTION:Dû à la pandémie\, cette conférence a été annulée. \nLe coût de cette conférence est de 20 $ pour les non-membres. \nMme Rose-Marie Charest a été présidente de l’Ordre des psychologues du Québec de 1998 à 2015. Lorsqu’elle a quitté ses fonctions\, c’était pour se consacrer à ses conférences et à ses animations. Pendant toute sa carrière\, elle s’est intéressée aux traitements des troubles psychologiques mais\, de plus en plus\, elle aborde les facteurs qui favorisent la santé psychologique et le bonheur. Ses sujets sont variés et adaptés aux besoins et réalités des gens à qui elle s’adresse. Madame Charest prononce plus de 50 conférences par année et\, partout\, elle est perçue comme une grande communicatrice. \nLa solitude\, un fardeau ou une amie? \nLa solitude peut être une source de souffrance mais elle peut aussi être nécessaire pour se connaître. \nQuand est-elle destructive et quand est-elle constructive?· \nDifférencier isolement\, vide et solitude. \n 
URL:https://www.rsdo.org/evenements/solitude-fardeau-amie/
LOCATION:Centre communautaire Marcel Morin\, 14068\, boulevard Gouin Ouest\, Pierrefonds\, Québec\, H8Z 1Y1\, Canada
CATEGORIES:Conférences
ATTACH;FMTTYPE=image/jpeg:https://www.rsdo.org/wp-content/uploads/2020/01/Rose-Marie-Charest-2.jpg
GEO:45.4956281;-73.8506691
X-APPLE-STRUCTURED-LOCATION;VALUE=URI;X-ADDRESS=Centre communautaire Marcel Morin 14068 boulevard Gouin Ouest Pierrefonds Québec H8Z 1Y1 Canada;X-APPLE-RADIUS=500;X-TITLE=14068\, boulevard Gouin Ouest:geo:-73.8506691,45.4956281
END:VEVENT
END:VCALENDAR