BEGIN:VCALENDAR
VERSION:2.0
PRODID:-//RSDO - ECPv6.15.20//NONSGML v1.0//EN
CALSCALE:GREGORIAN
METHOD:PUBLISH
X-WR-CALNAME:RSDO
X-ORIGINAL-URL:https://www.rsdo.org
X-WR-CALDESC:Évènements pour RSDO
REFRESH-INTERVAL;VALUE=DURATION:PT1H
X-Robots-Tag:noindex
X-PUBLISHED-TTL:PT1H
BEGIN:VTIMEZONE
TZID:America/New_York
BEGIN:DAYLIGHT
TZOFFSETFROM:-0500
TZOFFSETTO:-0400
TZNAME:EDT
DTSTART:20200308T070000
END:DAYLIGHT
BEGIN:STANDARD
TZOFFSETFROM:-0400
TZOFFSETTO:-0500
TZNAME:EST
DTSTART:20201101T060000
END:STANDARD
BEGIN:DAYLIGHT
TZOFFSETFROM:-0500
TZOFFSETTO:-0400
TZNAME:EDT
DTSTART:20210314T070000
END:DAYLIGHT
BEGIN:STANDARD
TZOFFSETFROM:-0400
TZOFFSETTO:-0500
TZNAME:EST
DTSTART:20211107T060000
END:STANDARD
BEGIN:DAYLIGHT
TZOFFSETFROM:-0500
TZOFFSETTO:-0400
TZNAME:EDT
DTSTART:20220313T070000
END:DAYLIGHT
BEGIN:STANDARD
TZOFFSETFROM:-0400
TZOFFSETTO:-0500
TZNAME:EST
DTSTART:20221106T060000
END:STANDARD
END:VTIMEZONE
BEGIN:VEVENT
DTSTART;TZID=America/New_York:20210923T140000
DTEND;TZID=America/New_York:20210923T160000
DTSTAMP:20260423T173710
CREATED:20210911T180359Z
LAST-MODIFIED:20210911T183733Z
UID:10002016-1632405600-1632412800@www.rsdo.org
SUMMARY:Bâtir sa confiance en soi
DESCRIPTION:Activité gratuite exclusive aux membres – Inscription obligatoire \nAnimatrice :  Brigitte Portelance\, TRA\, Thérapeute en Relation d’aide® \nChaque personne possède en elle des zones où la confiance siège de façon plus ou moins fragile. Une confiance absolue en soi apparaît assurément utopique à atteindre\, alors qu’une conscience accrue de sa valeur personnelle ne peut que devenir un gain pour faire face aux différents aléas de la vie quotidienne que chacun partage avec d’autres individus. \nDans cette conférence-atelier\, les participants auront l’occasion d’apprendre à s’entraîner\, tout comme le sportif exerce ses différents muscles\, à se faire davantage confiance et ce\, en expérimentant que le passage à l’action avec la conscience de leur monde intérieur permet de combler leurs besoins fondamentaux dans la relation et conséquemment d’édifier une confiance en soi de plus en plus solide. \nInscription au plus tard le 21 septembre \nCette année\, nous vous proposons de nombreuses conférences-ateliers offertes par le Centre de Relation d’Aide de Montréal (CRAM) qui préconise l’approche non directive créatrice : une approche relationnelle\, professionnelle et de nature affective. \nToutes les conférences-ateliers proposées sont données en ligne avec la plateforme Zoom. \nPour vous inscrire\, vous devez envoyer un courriel à Sylvie Beaupré à\nsbeaupre01@hotmail.com et lui fournir :\n• Vos nom et prénom\n• Votre adresse courriel\n• Un numéro de téléphone\n• Votre municipalité \nPar la suite\, pour chacune des conférences-ateliers\, vous recevrez un courriel qui contiendra l’hyperlien pour vous y joindre.
URL:https://www.rsdo.org/evenements/batir-confiance-soi/
LOCATION:ZOOM
CATEGORIES:Conférences
ATTACH;FMTTYPE=image/jpeg:https://www.rsdo.org/wp-content/uploads/2021/09/Brigitte-Portelance-2.jpg
END:VEVENT
END:VCALENDAR