BEGIN:VCALENDAR
VERSION:2.0
PRODID:-//RSDO - ECPv6.15.20//NONSGML v1.0//EN
CALSCALE:GREGORIAN
METHOD:PUBLISH
X-ORIGINAL-URL:https://www.rsdo.org
X-WR-CALDESC:Évènements pour RSDO
REFRESH-INTERVAL;VALUE=DURATION:PT1H
X-Robots-Tag:noindex
X-PUBLISHED-TTL:PT1H
BEGIN:VTIMEZONE
TZID:America/New_York
BEGIN:DAYLIGHT
TZOFFSETFROM:-0500
TZOFFSETTO:-0400
TZNAME:EDT
DTSTART:20180311T070000
END:DAYLIGHT
BEGIN:STANDARD
TZOFFSETFROM:-0400
TZOFFSETTO:-0500
TZNAME:EST
DTSTART:20181104T060000
END:STANDARD
BEGIN:DAYLIGHT
TZOFFSETFROM:-0500
TZOFFSETTO:-0400
TZNAME:EDT
DTSTART:20190310T070000
END:DAYLIGHT
BEGIN:STANDARD
TZOFFSETFROM:-0400
TZOFFSETTO:-0500
TZNAME:EST
DTSTART:20191103T060000
END:STANDARD
BEGIN:DAYLIGHT
TZOFFSETFROM:-0500
TZOFFSETTO:-0400
TZNAME:EDT
DTSTART:20200308T070000
END:DAYLIGHT
BEGIN:STANDARD
TZOFFSETFROM:-0400
TZOFFSETTO:-0500
TZNAME:EST
DTSTART:20201101T060000
END:STANDARD
END:VTIMEZONE
BEGIN:VEVENT
DTSTART;TZID=America/New_York:20191003T193000
DTEND;TZID=America/New_York:20191003T213000
DTSTAMP:20260425T230731
CREATED:20190925T000138Z
LAST-MODIFIED:20190925T000138Z
UID:10001546-1570131000-1570138200@www.rsdo.org
SUMMARY:Le stress relationnel
DESCRIPTION:Conférencière et animatrice socio-culturelle\, Jacinthe Chaussé est l’auteure  du  livre Besoin d’amour. Depuis 20 ans\, elle présente des conférences  sur   les   divers   aspects   de l’être humain et ses potentialités. Elle anime également des ateliers d’art-thérapie. \nThérapeute en gestion émotionnelle\, elle reçoit des clients en consultation individuelle. \nL’humain entretient des rapports avec autrui selon ses expériences passées\, parfois difficiles. Chaque  personne  ayant développé  des  dynamiques  relationnelles  particulières\, il arrive que certaines interactions créent des malaises\,  voire des conflits. Il importe donc de connaître et de comprendre ses propres mécanismes ainsi que ceux des autres\, afin de gérer ses relations\, quelles qu’elles soient.
URL:https://www.rsdo.org/evenements/le-stress-relationnel/
LOCATION:Centre communautaire Marcel Morin\, 14068\, boulevard Gouin Ouest\, Pierrefonds\, Québec\, H8Z 1Y1\, Canada
CATEGORIES:Conférences
ATTACH;FMTTYPE=image/png:https://www.rsdo.org/wp-content/uploads/2018/09/Jacinthe-Chaussé-1.png
GEO:45.4956281;-73.8506691
X-APPLE-STRUCTURED-LOCATION;VALUE=URI;X-ADDRESS=Centre communautaire Marcel Morin 14068 boulevard Gouin Ouest Pierrefonds Québec H8Z 1Y1 Canada;X-APPLE-RADIUS=500;X-TITLE=14068\, boulevard Gouin Ouest:geo:-73.8506691,45.4956281
END:VEVENT
END:VCALENDAR