BEGIN:VCALENDAR
VERSION:2.0
PRODID:-//RSDO - ECPv6.15.20//NONSGML v1.0//EN
CALSCALE:GREGORIAN
METHOD:PUBLISH
X-ORIGINAL-URL:https://www.rsdo.org
X-WR-CALDESC:Évènements pour RSDO
REFRESH-INTERVAL;VALUE=DURATION:PT1H
X-Robots-Tag:noindex
X-PUBLISHED-TTL:PT1H
BEGIN:VTIMEZONE
TZID:America/New_York
BEGIN:DAYLIGHT
TZOFFSETFROM:-0500
TZOFFSETTO:-0400
TZNAME:EDT
DTSTART:20190310T070000
END:DAYLIGHT
BEGIN:STANDARD
TZOFFSETFROM:-0400
TZOFFSETTO:-0500
TZNAME:EST
DTSTART:20191103T060000
END:STANDARD
BEGIN:DAYLIGHT
TZOFFSETFROM:-0500
TZOFFSETTO:-0400
TZNAME:EDT
DTSTART:20200308T070000
END:DAYLIGHT
BEGIN:STANDARD
TZOFFSETFROM:-0400
TZOFFSETTO:-0500
TZNAME:EST
DTSTART:20201101T060000
END:STANDARD
BEGIN:DAYLIGHT
TZOFFSETFROM:-0500
TZOFFSETTO:-0400
TZNAME:EDT
DTSTART:20210314T070000
END:DAYLIGHT
BEGIN:STANDARD
TZOFFSETFROM:-0400
TZOFFSETTO:-0500
TZNAME:EST
DTSTART:20211107T060000
END:STANDARD
END:VTIMEZONE
BEGIN:VEVENT
DTSTART;TZID=America/New_York:20200903T190000
DTEND;TZID=America/New_York:20200903T210000
DTSTAMP:20260426T000813
CREATED:20200717T164026Z
LAST-MODIFIED:20200717T164026Z
UID:10001774-1599159600-1599166800@www.rsdo.org
SUMMARY:Assemblée générale annuelle
DESCRIPTION:À l’assemblée générale annuelle\, les membres du conseil d’administration présentent un rapport des activités et des décisions importantes prises pendant l’année. Une attention particulière porte sur l’orientation de l’organisme\, l’état des finances et les prévisions pour l’année à venir. La présence des membres et des non-membres* est très importante à cette assemblée car il y a aussi l’élection des trois ou quatre administrateurs (selon l’année) requis pour compléter le nombre de sept membres du conseil tel que prévu par nos Statuts et règlements. \nVotre présence\, en plus d’être un gage de reconnaissance pour le travail de bénévolat des membres du conseil d’administration et de l’équipe des bénévoles\, est la plateforme désignée pour exercer vos privilèges de membres. \n*Pour avoir droit de vote\, il faut être membre actif en règle du RSDO ou le devenir le soir même. L’abonnement acquis le soir même est valable jusqu’au 31 août 2021.
URL:https://www.rsdo.org/evenements/assemblee-generale-annuelle-3/
LOCATION:Église Sainte-Geneviève\, 16037\, boul. Gouin\, Ste-Geneviève\, Québec\, H9H 1C7\, Canada
CATEGORIES:Réunions
ATTACH;FMTTYPE=image/jpeg:https://www.rsdo.org/wp-content/uploads/2018/01/Assemblée-générale-annuelle.jpg
GEO:45.4802657;-73.8719786
X-APPLE-STRUCTURED-LOCATION;VALUE=URI;X-ADDRESS=Église Sainte-Geneviève 16037 boul. Gouin Ste-Geneviève Québec H9H 1C7 Canada;X-APPLE-RADIUS=500;X-TITLE=16037\, boul. Gouin:geo:-73.8719786,45.4802657
END:VEVENT
END:VCALENDAR