BEGIN:VCALENDAR
VERSION:2.0
PRODID:-//RSDO - ECPv6.15.20//NONSGML v1.0//EN
CALSCALE:GREGORIAN
METHOD:PUBLISH
X-ORIGINAL-URL:https://www.rsdo.org
X-WR-CALDESC:Évènements pour RSDO
REFRESH-INTERVAL;VALUE=DURATION:PT1H
X-Robots-Tag:noindex
X-PUBLISHED-TTL:PT1H
BEGIN:VTIMEZONE
TZID:America/New_York
BEGIN:DAYLIGHT
TZOFFSETFROM:-0500
TZOFFSETTO:-0400
TZNAME:EDT
DTSTART:20230312T070000
END:DAYLIGHT
BEGIN:STANDARD
TZOFFSETFROM:-0400
TZOFFSETTO:-0500
TZNAME:EST
DTSTART:20231105T060000
END:STANDARD
BEGIN:DAYLIGHT
TZOFFSETFROM:-0500
TZOFFSETTO:-0400
TZNAME:EDT
DTSTART:20240310T070000
END:DAYLIGHT
BEGIN:STANDARD
TZOFFSETFROM:-0400
TZOFFSETTO:-0500
TZNAME:EST
DTSTART:20241103T060000
END:STANDARD
BEGIN:DAYLIGHT
TZOFFSETFROM:-0500
TZOFFSETTO:-0400
TZNAME:EDT
DTSTART:20250309T070000
END:DAYLIGHT
BEGIN:STANDARD
TZOFFSETFROM:-0400
TZOFFSETTO:-0500
TZNAME:EST
DTSTART:20251102T060000
END:STANDARD
END:VTIMEZONE
BEGIN:VEVENT
DTSTART;TZID=America/New_York:20240323T100000
DTEND;TZID=America/New_York:20240323T170000
DTSTAMP:20260421T163549
CREATED:20231208T215644Z
LAST-MODIFIED:20240315T204742Z
UID:10002398-1711188000-1711213200@www.rsdo.org
SUMMARY:Amour de soi et de l’autre
DESCRIPTION:Activité gratuite exclusive aux membres – Inscription requise avant le mardi 19 mars. – Maximum de 25 participants \nL’amour véritable est une énergie puissante et inconditionnelle qui suscite le respect de soi et d’autrui. L’amour de soi nécessite un engagement à découvrir sa valeur réelle\, à s’apprécier\, se choisir et prendre soin de soi avec bienveillance. \nAimer l’autre\, c’est l’accompagner dans son évolution\, l’apprécier pour ce qu’il est et non pour ce qu’il fait et souhaiter son bien-être. \nAnimé par Jacinthe Chaussé\, thérapeute en gestion émotionnelle\, cet atelier vous permettra de prendre conscience de qui vous êtes réellement; vos forces et vos qualités innées\, votre potentiel personnel ainsi que votre pouvoir à créer des relations empreintes d’amour véritable. \nPour informations et inscription\, veuillez communiquer avec info@rsdo.org ou par téléphone à Sylvie Gagnon au 514 850-1234 avant le mardi 19 mars. \n\n. \n  \n 
URL:https://www.rsdo.org/evenements/amour-de-soi-de-lautre/2024-03-23/
LOCATION:Salle paroissiale de l’église Sainte-Geneviève\, 16037 Boul Gouin O\, Sainte-Geneviève\, Québec\, H9H 1C7\, Canada
CATEGORIES:Ateliers
ATTACH;FMTTYPE=image/jpeg:https://www.rsdo.org/wp-content/uploads/2023/12/Atelier-amour-de-soi-lautre.jpg
GEO:45.4802657;-73.8719786
X-APPLE-STRUCTURED-LOCATION;VALUE=URI;X-ADDRESS=Salle paroissiale de l’église Sainte-Geneviève 16037 Boul Gouin O Sainte-Geneviève Québec H9H 1C7 Canada;X-APPLE-RADIUS=500;X-TITLE=16037 Boul Gouin O:geo:-73.8719786,45.4802657
END:VEVENT
END:VCALENDAR