BEGIN:VCALENDAR
VERSION:2.0
PRODID:-//RSDO - ECPv6.15.20//NONSGML v1.0//EN
CALSCALE:GREGORIAN
METHOD:PUBLISH
X-WR-CALNAME:RSDO
X-ORIGINAL-URL:https://www.rsdo.org
X-WR-CALDESC:Évènements pour RSDO
REFRESH-INTERVAL;VALUE=DURATION:PT1H
X-Robots-Tag:noindex
X-PUBLISHED-TTL:PT1H
BEGIN:VTIMEZONE
TZID:America/New_York
BEGIN:DAYLIGHT
TZOFFSETFROM:-0500
TZOFFSETTO:-0400
TZNAME:EDT
DTSTART:20210314T070000
END:DAYLIGHT
BEGIN:STANDARD
TZOFFSETFROM:-0400
TZOFFSETTO:-0500
TZNAME:EST
DTSTART:20211107T060000
END:STANDARD
BEGIN:DAYLIGHT
TZOFFSETFROM:-0500
TZOFFSETTO:-0400
TZNAME:EDT
DTSTART:20220313T070000
END:DAYLIGHT
BEGIN:STANDARD
TZOFFSETFROM:-0400
TZOFFSETTO:-0500
TZNAME:EST
DTSTART:20221106T060000
END:STANDARD
BEGIN:DAYLIGHT
TZOFFSETFROM:-0500
TZOFFSETTO:-0400
TZNAME:EDT
DTSTART:20230312T070000
END:DAYLIGHT
BEGIN:STANDARD
TZOFFSETFROM:-0400
TZOFFSETTO:-0500
TZNAME:EST
DTSTART:20231105T060000
END:STANDARD
END:VTIMEZONE
BEGIN:VEVENT
DTSTART;TZID=America/New_York:20221024T103000
DTEND;TZID=America/New_York:20221024T114500
DTSTAMP:20260421T180718
CREATED:20220906T211625Z
LAST-MODIFIED:20220906T222547Z
UID:10002277-1666607400-1666611900@www.rsdo.org
SUMMARY:Étirement et alignement postural avec chaise
DESCRIPTION:Activité gratuite exclusive aux membres \nEssai gratuit d’une séance pour les non-membres \nRespirez tout simplement et soyez Zen !  \nLe RSDO est heureux de vous offrir cette nouvelle activité virtuelle animée par Chantal Bardier qui possède plus de 21 ans d’expérience en conditionnement physique avec la clientèle des 50 ans et plus. \nVous pouvez en apprendre plus sur le cheminement et les expériences professionnelles de Chantal en consultant : \n\n            son site web :  https://chantalbardier.weebly.com\n            sa chaîne YouTube : http://www.youtube.com/user/SingingTrainer\n            ses groupes Facebook : https://chantalbardier.weebly.com/groupes-facebook.html\n\nLes séances consisteront en exercices d’étirement et d’alignement postural avec chaise combinant étirements posturaux et de détente\, en position assise et debout\, le tout dans le respect des limites de chacun. \nLes exercices pratiqués améliorent la souplesse générale et la mobilité\, dénouent les tensions\, aident à prévenir les blessures\, apprennent à mieux respirer et à réduire l’anxiété.  Pour profiter au maximum des bénéfices qu’ils apportent\, nous vous recommandons d’éviter les repas lourds avant les séances\, de vous vêtir de vêtements confortables et d’espadrilles ou chaussettes antidérapantes et de vous munir d’une bouteille d’eau. \nDates                        Du 12 septembre au 19 décembre (15 semaines) \nComment                 Virtuellement avec la plateforme Zoom \n                                  Un hyperlien sera envoyé à tous les membres \nMatériel requis         \n\nChaise sans accoudoirs\nSangle\, ceinture ou cravate\n\nPour informations veuillez communiquer avec Sylvie Beaupré à sbeaupre01@hotmail.com ou directement auprès de Chantal Bardier à cbardier@sympatico.ca
URL:https://www.rsdo.org/evenements/etirement-alignement-postural-chaise/2022-10-24/
LOCATION:Québec
CATEGORIES:Cours
ATTACH;FMTTYPE=image/png:https://www.rsdo.org/wp-content/uploads/2022/08/Étirement-et-Alignment-Postural-avec-Chaise-Automne-2022-e1662506710785.png
END:VEVENT
BEGIN:VEVENT
DTSTART;TZID=America/New_York:20221027T183000
DTEND;TZID=America/New_York:20221027T200000
DTSTAMP:20260421T180719
CREATED:20220906T223442Z
LAST-MODIFIED:20220906T223512Z
UID:10000845-1666895400-1666900800@www.rsdo.org
SUMMARY:Atelier CRAM: Soirées Réconfort pour Endeuillés
DESCRIPTION:Activité gratuite ouverte à tous (non-membres bienvenus) \nInscription requise \nLes jeudis en p.m. ou en soirée \nLe Centre de Relation d’Aide de Montréal (CRAM) a développé une expertise pour soutenir les endeuillés et leurs proches dans leur processus de deuil ou de perte\, et pour former des aidants du deuil compétents. \nAnimées par Louise Racine\, TRA\, Thérapeute en Relation d’aide®\, ces soirées réconfort sont \nexclusivement offertes pour les deuils par décès\, à savoir : \n\nTout endeuillé par décès (récent ou pas)\nTout proche\, aidant naturel\, bénévole ou personnel qui écoute ou entoure l’endeuillé.\n\nDates \n22 septembre                    27 octobre                                          17 novembre                                          15 décembre \nde 14 h 30 à 16 h                   de 18 h 30 à 20 h                                               de 14 h 30 à 16 h                                               de 18 h 30 à 20 h \nVous pouvez participer à une ou plusieurs rencontres qui vous permettront de : \n\nBriser l’isolement\nÉchangez avec d’autres endeuillés\nComprendre le processus du deuil\nRecevoir du réconfort\n\nCes rencontres sont virtuelles via la plateforme Zoom et il est nécessaire de vous inscrire pour chacune des rencontres directement sur le site du CRAM à :  https://www.cramformation.com/activites-gratuites/soirees-reconfort-pour-endeuilles \nVous recevrez par la suite un courriel vous fournissant l’hyperlien qui vous permettra de participer aux rencontres. \nPour informations\, veuillez communiquer avec Sylvie Beaupré à sbeaupre01@hotmail.com ou par téléphone au 514-865-4377. \n  \n 
URL:https://www.rsdo.org/evenements/atelier-cram-soirees-reconfort-endeuilles/2022-10-27/
LOCATION:ZOOM
CATEGORIES:Cours
ATTACH;FMTTYPE=image/jpeg:https://www.rsdo.org/wp-content/uploads/2022/08/CRAM-Image-1-Automne-2022.jpg
END:VEVENT
BEGIN:VEVENT
DTSTART;TZID=America/New_York:20221029T100000
DTEND;TZID=America/New_York:20221029T113000
DTSTAMP:20260421T180719
CREATED:20220906T204825Z
LAST-MODIFIED:20220906T210114Z
UID:10002263-1667037600-1667043000@www.rsdo.org
SUMMARY:Conditionnement Physique et Yoga
DESCRIPTION:Activité gratuite exclusive aux membres \nEssai gratuit d’un cours pour les non-membres \nInscription sur place \nLa forme physique nécessite la pratique assidue de l’exercice. Vous ressentirez les bienfaits de vos efforts dans tout votre corps\, autant au niveau de sa force\, de sa résilience et de son pouvoir d’améliorer sa flexibilité. Ces résultats vous garderont en forme et vous donneront l’envie de persévérer. \nLe yoga associe force\, tonus\, exercices de posture\, étirements\, équilibre et détente et il s’adresse à tous les types de clientèle. \nAnimés par Josey Deroy\, instructeur de yoga certifiée depuis 2002\, les cours de conditionnement physique sont d’une durée de 30 minutes et sont combinés avec des sessions de yoga d’une heure. Vous avez le choix de participer à l’un ou l’autre ou les deux. \n10 h 00 à 10 h 30      Conditionnement physique \n10 h 30 à 11 h 30      Yoga \nPour votre confort\, nous vous suggérons de prévoir\, une serviette et une bouteille d’eau ainsi que : \nPour le conditionnement physique \n\ndes espadrilles\ndes poids de 2 à 5 kg\nun élastique\n\nPour le yoga \n\nun tapis\ndes blocs de mousse\n\nDates       Du 10 septembre au 17 décembre (15 semaines) \nEndroit    Centre communautaire Gerry Robertson (NOUVEAU LOCAL) \n                9665 Boul Gouin Ouest \n                Pierrefonds\, QC    H8Y 1R4 \nPour informations\, veuillez communiquer avec Lise Martin au 514-620-2740 ou Chantal Mark au 514-696-9408
URL:https://www.rsdo.org/evenements/6026/2022-10-29/
LOCATION:Centre communautaire Gerry-Robertson\, 9665\, boulevard Gouin Ouest\, Pierrefonds\, Québec\, QH8Y 1R4\, Canada
CATEGORIES:Cours
ATTACH;FMTTYPE=image/jpeg:https://www.rsdo.org/wp-content/uploads/2022/08/Conditionnement-et-Yoga-Automne-2022.jpg
GEO:45.5048919;-73.7843098
X-APPLE-STRUCTURED-LOCATION;VALUE=URI;X-ADDRESS=Centre communautaire Gerry-Robertson 9665 boulevard Gouin Ouest Pierrefonds Québec QH8Y 1R4 Canada;X-APPLE-RADIUS=500;X-TITLE=9665\, boulevard Gouin Ouest:geo:-73.7843098,45.5048919
END:VEVENT
END:VCALENDAR