BEGIN:VCALENDAR
VERSION:2.0
PRODID:-//RSDO - ECPv6.15.20//NONSGML v1.0//EN
CALSCALE:GREGORIAN
METHOD:PUBLISH
X-WR-CALNAME:RSDO
X-ORIGINAL-URL:https://www.rsdo.org
X-WR-CALDESC:Évènements pour RSDO
REFRESH-INTERVAL;VALUE=DURATION:PT1H
X-Robots-Tag:noindex
X-PUBLISHED-TTL:PT1H
BEGIN:VTIMEZONE
TZID:America/New_York
BEGIN:DAYLIGHT
TZOFFSETFROM:-0500
TZOFFSETTO:-0400
TZNAME:EDT
DTSTART:20200308T070000
END:DAYLIGHT
BEGIN:STANDARD
TZOFFSETFROM:-0400
TZOFFSETTO:-0500
TZNAME:EST
DTSTART:20201101T060000
END:STANDARD
BEGIN:DAYLIGHT
TZOFFSETFROM:-0500
TZOFFSETTO:-0400
TZNAME:EDT
DTSTART:20210314T070000
END:DAYLIGHT
BEGIN:STANDARD
TZOFFSETFROM:-0400
TZOFFSETTO:-0500
TZNAME:EST
DTSTART:20211107T060000
END:STANDARD
BEGIN:DAYLIGHT
TZOFFSETFROM:-0500
TZOFFSETTO:-0400
TZNAME:EDT
DTSTART:20220313T070000
END:DAYLIGHT
BEGIN:STANDARD
TZOFFSETFROM:-0400
TZOFFSETTO:-0500
TZNAME:EST
DTSTART:20221106T060000
END:STANDARD
END:VTIMEZONE
BEGIN:VEVENT
DTSTART;TZID=America/New_York:20211207T190000
DTEND;TZID=America/New_York:20211207T200000
DTSTAMP:20260423T162950
CREATED:20210904T195618Z
LAST-MODIFIED:20210904T195618Z
UID:10002009-1638903600-1638907200@www.rsdo.org
SUMMARY:Le Choeur du RSDO - Rencontres virtuelles
DESCRIPTION:Au RSDO\, on continue de briser l’isolement en chantant virtuellement !  Notre directeur de chorale\, Jocelyn Bigras\, poursuit les rencontres de chant afin de pratiquer avec lui sur nos écrans de la maison.  À partir de chansons connues du répertoire qu’il nous propose\, Jocelyn s’exécute et nous accompagne au piano ou à l’accordéon. \nNous sommes invités à chanter avec lui\, ensemble\, chacun de notre côté.  L’expérience\, bien que très différente de ce que nous connaissons\, nous apporte la sensation d’être entouré et d’être dans une action de groupe. \nDes montages vidéo seront aussi créés afin de partager notre enthousiasme ! \nCoût : Gratuit pour les membres du RSDO. \nRenseignements : Sylvie Beaupré 514 865-4377 ou sbeaupre01@hotmail.com \nN’hésitez pas si vous avez des questions et au plaisir de chanter ensemble !
URL:https://www.rsdo.org/evenements/choeur-rsdo-rencontres-virtuelles/2021-12-07/
LOCATION:ZOOM
CATEGORIES:Cours
ATTACH;FMTTYPE=image/jpeg:https://www.rsdo.org/wp-content/uploads/2018/01/Chorale-1.jpg
END:VEVENT
BEGIN:VEVENT
DTSTART;TZID=America/New_York:20211208T103000
DTEND;TZID=America/New_York:20211208T113000
DTSTAMP:20260423T162950
CREATED:20210830T130316Z
LAST-MODIFIED:20210830T130625Z
UID:10001993-1638959400-1638963000@www.rsdo.org
SUMMARY:Cours virtuel de zumba
DESCRIPTION:Cette activité gratuite est réservée aux membres et sera transmise virtuellement. \nEssai gratuit d’un cours pour les non-membres; par la suite\, il faut payer la cotisation annuelle de 15$. \nLa Zumba est un programme d’entraînement physique complet\, alliant tous les éléments de la remise en forme : cardio et préparation musculaire\, équilibre et flexibilité. \nLes chorégraphies s’inspirent principalement des danses latines\, mais aussi de styles variés comme la danse du ventre ou la Quebradita. \nLes sessions virtuelles seront animées par la dynamique Jiana Saad. \nAvant le premier cours nous enverrons le lien Zoom à tous les membres du RSDO et vous pourrez utiliser ce même lien pour chaque cours\, durant toute la session.
URL:https://www.rsdo.org/evenements/cours-virtuel-de-zumba/2021-12-08/
LOCATION:ZOOM
CATEGORIES:Cours
ATTACH;FMTTYPE=image/jpeg:https://www.rsdo.org/wp-content/uploads/2020/12/Image-zumba.jpg
END:VEVENT
BEGIN:VEVENT
DTSTART;TZID=America/New_York:20211211T101500
DTEND;TZID=America/New_York:20211211T111500
DTSTAMP:20260423T162950
CREATED:20211003T183235Z
LAST-MODIFIED:20211003T184946Z
UID:10000679-1639217700-1639221300@www.rsdo.org
SUMMARY:Musculation et Yoga
DESCRIPTION:Activité gratuite exclusive aux membres \nEssai gratuit d’un cours pour les non-membres \nInscription obligatoire \nMaximum de 20 participants \nLes samedis de 10 h 15 à 11 h 15 \nÀ partir du mois d’octobre\, nous offrirons des sessions de musculation et yoga qui seront animées par Josey Deroy. \n\n\n\nPour votre confort\, nous vous suggérons de prévoir : \n·       Un tapis \n·       Des blocs de mousse \n·       Une serviette \n·       Une bouteille d’eau \n·       Des espadrilles \n·       Des poids de 2 à 5 kg\n\n\n\n\n\n\nDates : Du 2 octobre au 11 décembre 2021 (11 semaines) \nLieu : Chalet Roxboro à partir du 9 octobre \nInscription : Vous devez vous inscrire au plus tard le 26 septembre. \nPour informations et inscription\, veuillez communiquer avec Chantal Mark au 514-696-9408 ou auprès du RSDO au 438-390-7736.
URL:https://www.rsdo.org/evenements/musculation-et-yoga/2021-12-11/
LOCATION:Chalet Roxboro\, 10 11 rue\, Roxboro\, Quebec\, H8Y 2P3\, Canada
CATEGORIES:Cours
ATTACH;FMTTYPE=image/jpeg:https://www.rsdo.org/wp-content/uploads/2020/01/Yoga.jpg
GEO:45.5053201;-73.8030777
X-APPLE-STRUCTURED-LOCATION;VALUE=URI;X-ADDRESS=Chalet Roxboro 10 11 rue Roxboro Quebec H8Y 2P3 Canada;X-APPLE-RADIUS=500;X-TITLE=10 11 rue:geo:-73.8030777,45.5053201
END:VEVENT
END:VCALENDAR