BEGIN:VCALENDAR
VERSION:2.0
PRODID:-//RSDO - ECPv6.15.20//NONSGML v1.0//EN
CALSCALE:GREGORIAN
METHOD:PUBLISH
X-ORIGINAL-URL:https://www.rsdo.org
X-WR-CALDESC:Évènements pour RSDO
REFRESH-INTERVAL;VALUE=DURATION:PT1H
X-Robots-Tag:noindex
X-PUBLISHED-TTL:PT1H
BEGIN:VTIMEZONE
TZID:America/New_York
BEGIN:DAYLIGHT
TZOFFSETFROM:-0500
TZOFFSETTO:-0400
TZNAME:EDT
DTSTART:20200308T070000
END:DAYLIGHT
BEGIN:STANDARD
TZOFFSETFROM:-0400
TZOFFSETTO:-0500
TZNAME:EST
DTSTART:20201101T060000
END:STANDARD
BEGIN:DAYLIGHT
TZOFFSETFROM:-0500
TZOFFSETTO:-0400
TZNAME:EDT
DTSTART:20210314T070000
END:DAYLIGHT
BEGIN:STANDARD
TZOFFSETFROM:-0400
TZOFFSETTO:-0500
TZNAME:EST
DTSTART:20211107T060000
END:STANDARD
BEGIN:DAYLIGHT
TZOFFSETFROM:-0500
TZOFFSETTO:-0400
TZNAME:EDT
DTSTART:20220313T070000
END:DAYLIGHT
BEGIN:STANDARD
TZOFFSETFROM:-0400
TZOFFSETTO:-0500
TZNAME:EST
DTSTART:20221106T060000
END:STANDARD
END:VTIMEZONE
BEGIN:VEVENT
DTSTART;TZID=America/New_York:20210807T090000
DTEND;TZID=America/New_York:20210807T100000
DTSTAMP:20260424T021347
CREATED:20210606T000052Z
LAST-MODIFIED:20210911T184133Z
UID:10001844-1628326800-1628330400@www.rsdo.org
SUMMARY:Cours de yoga extérieur
DESCRIPTION:Le RSDO vous offre gratuitement à ses membres un cours de yoga d’une durée d’une heure par semaine\, pour la période estivale.\n\nLes inscriptions et les présences se font sur place. (Maximum de 25 personnes)\n\nPour votre confort\, apportez un tapis\, des blocs de mousse\, serviette et bouteille d’eau\, (facultatif: plastique ou toile de protection à mettre sous le tapis).\n\nEn cas de pluie\, le cours est transmis virtuellement.\n\nDistanciation sociale selon la santé publique.\n\nRenseignements: Chantal 514-696-9408 ou RSDO: 438-390-7736
URL:https://www.rsdo.org/evenements/cours-de-yoga-exterieur/2021-08-07/
LOCATION:Parc Jacques-Cardinal\, 16037\, boulevard Gouin Ouest\,\, Pierrefonds\, Québec\, H9H 2X3\, Canada
CATEGORIES:Cours
ATTACH;FMTTYPE=image/png:https://www.rsdo.org/wp-content/uploads/2021/06/Yoga.png
ORGANIZER;CN="Josey Deroy":MAILTO:josey.yoga.fitness@gmail.com
GEO:45.4805517;-73.8725251
X-APPLE-STRUCTURED-LOCATION;VALUE=URI;X-ADDRESS=Parc Jacques-Cardinal 16037 boulevard Gouin Ouest Pierrefonds Québec H9H 2X3 Canada;X-APPLE-RADIUS=500;X-TITLE=16037\, boulevard Gouin Ouest\,:geo:-73.8725251,45.4805517
END:VEVENT
BEGIN:VEVENT
DTSTART;TZID=America/New_York:20210808T100000
DTEND;TZID=America/New_York:20210808T110000
DTSTAMP:20260424T021348
CREATED:20210609T223425Z
LAST-MODIFIED:20210609T223425Z
UID:10000659-1628416800-1628420400@www.rsdo.org
SUMMARY:Qi Gong en plein air
DESCRIPTION:Pour suivre cet atelier\, il faut être membre du RSDO (un essai gratuit pour les non-membres)\n\nLe Qi Gong (prononcez tchi gong est un ensemble d’exercices énergétiques issus de la médecine traditionnelle chinoise et de la philosophie Taoïste.  Cette pratique rétablit la libre circulation de l’énergie dans les méridiens\, stimulant ainsi le potentiel naturel de guérison et la capacité de faire face au stress.  Les mouvements peuvent se faire debout ou assis ou si vous avez un tapis\, au sol. .  Ils sont doux\, fluides\, souples et faciles d’exécution\, ils améliorent la flexibilité\, la posture\, l’équilibre\, harmonisent les émotions\, apaisent l’esprit\, stimulent et fortifient tout le corps.  Cette pratique s’adresse à tout le monde et s’adapte à toutes les conditions.\nEmmenez votre chaise ou cousin.\nLe rendez-vous sera près d’un très grand saule pleurer à côté du stationnement.\n\nAnimatrice : Luce Desgagné\, enseignante Qi Gong depuis 1998
URL:https://www.rsdo.org/evenements/qi-gong-plein-air-4/
LOCATION:Parc Edgewater\, Pointe-Claire\, Québec\, H9S 4K6\, Canada
CATEGORIES:Cours
ATTACH;FMTTYPE=image/jpeg:https://www.rsdo.org/wp-content/uploads/2019/09/Luce-Desgagnés.jpg
END:VEVENT
END:VCALENDAR