BEGIN:VCALENDAR
VERSION:2.0
PRODID:-//RSDO - ECPv6.15.20//NONSGML v1.0//EN
CALSCALE:GREGORIAN
METHOD:PUBLISH
X-WR-CALNAME:RSDO
X-ORIGINAL-URL:https://www.rsdo.org
X-WR-CALDESC:Évènements pour RSDO
REFRESH-INTERVAL;VALUE=DURATION:PT1H
X-Robots-Tag:noindex
X-PUBLISHED-TTL:PT1H
BEGIN:VTIMEZONE
TZID:America/New_York
BEGIN:DAYLIGHT
TZOFFSETFROM:-0500
TZOFFSETTO:-0400
TZNAME:EDT
DTSTART:20190310T070000
END:DAYLIGHT
BEGIN:STANDARD
TZOFFSETFROM:-0400
TZOFFSETTO:-0500
TZNAME:EST
DTSTART:20191103T060000
END:STANDARD
BEGIN:DAYLIGHT
TZOFFSETFROM:-0500
TZOFFSETTO:-0400
TZNAME:EDT
DTSTART:20200308T070000
END:DAYLIGHT
BEGIN:STANDARD
TZOFFSETFROM:-0400
TZOFFSETTO:-0500
TZNAME:EST
DTSTART:20201101T060000
END:STANDARD
BEGIN:DAYLIGHT
TZOFFSETFROM:-0500
TZOFFSETTO:-0400
TZNAME:EDT
DTSTART:20210314T070000
END:DAYLIGHT
BEGIN:STANDARD
TZOFFSETFROM:-0400
TZOFFSETTO:-0500
TZNAME:EST
DTSTART:20211107T060000
END:STANDARD
END:VTIMEZONE
BEGIN:VEVENT
DTSTART;TZID=America/New_York:20200715T190000
DTEND;TZID=America/New_York:20200715T203000
DTSTAMP:20260425T124411
CREATED:20200703T205810Z
LAST-MODIFIED:20200716T174911Z
UID:10000437-1594839600-1594845000@www.rsdo.org
SUMMARY:Chorale virtuelle estivale
DESCRIPTION:Pour les membres seulement.\nLe RSDO offre des ateliers de chorale virtuels tous les mercredi soirs avec l’application gratuite ZOOM pour les mois de juillet et août 2020 avec le directeur/accompagnateur Jocelyn Bigras.\nÀ noter qu’il n’y aura pas de chorale les 5 et 12 août.\nRenseignements: Pauline Primeau au 514-465-3428 
URL:https://www.rsdo.org/evenements/chorale-virtuelle-estivale/2020-07-15/
LOCATION:Québec
CATEGORIES:Cours
END:VEVENT
BEGIN:VEVENT
DTSTART;TZID=America/New_York:20200718T100000
DTEND;TZID=America/New_York:20200718T110000
DTSTAMP:20260425T124411
CREATED:20200909T002626Z
LAST-MODIFIED:20200928T222839Z
UID:10001799-1595066400-1595070000@www.rsdo.org
SUMMARY:Cours de yoga à l'extérieur pendant l'été 2020
DESCRIPTION:Pour les membres seulement\nLe RSDO vous offre gratuitement un cours de yoga d’une durée d’une heure pour la période estivale\, soit les samedis du 4 Juillet au 29 août\, avec votre intructrice habituelle\, Josey Deroy.\nLes inscriptions et les présences se feront sur place.\nPour votre confort\, apporter un tapis\, des blocs de mousse\, serviette et bouteille d’eau\, (facultatif: plastique ou toile de protection à mettre sous le tapis).\nVeuillez noter que les règles de distanciation sociale seront respectées.\n\nEn cas de pluie\, le cours sera automatiquement annulé.\nRenseignements: Chantal 514-696-9408 ou RSDO: 438-390-7736
URL:https://www.rsdo.org/evenements/cours-de-yoga-a-lexterieur-pendant-lete-2020-2/2020-07-18/
LOCATION:Parc Jacques-Cardinal\, 16037\, boulevard Gouin Ouest\,\, Pierrefonds\, Québec\, H9H 2X3\, Canada
CATEGORIES:Cours
ATTACH;FMTTYPE=image/jpeg:https://www.rsdo.org/wp-content/uploads/2020/07/Yoga-extérieur-3-b.jpg
ORGANIZER;CN="Josey Deroy":MAILTO:josey.yoga.fitness@gmail.com
GEO:45.4805517;-73.8725251
X-APPLE-STRUCTURED-LOCATION;VALUE=URI;X-ADDRESS=Parc Jacques-Cardinal 16037 boulevard Gouin Ouest Pierrefonds Québec H9H 2X3 Canada;X-APPLE-RADIUS=500;X-TITLE=16037\, boulevard Gouin Ouest\,:geo:-73.8725251,45.4805517
END:VEVENT
END:VCALENDAR