BEGIN:VCALENDAR
VERSION:2.0
PRODID:-//RSDO - ECPv6.15.20//NONSGML v1.0//EN
CALSCALE:GREGORIAN
METHOD:PUBLISH
X-ORIGINAL-URL:https://www.rsdo.org
X-WR-CALDESC:Évènements pour RSDO
REFRESH-INTERVAL;VALUE=DURATION:PT1H
X-Robots-Tag:noindex
X-PUBLISHED-TTL:PT1H
BEGIN:VTIMEZONE
TZID:America/New_York
BEGIN:DAYLIGHT
TZOFFSETFROM:-0500
TZOFFSETTO:-0400
TZNAME:EDT
DTSTART:20210314T070000
END:DAYLIGHT
BEGIN:STANDARD
TZOFFSETFROM:-0400
TZOFFSETTO:-0500
TZNAME:EST
DTSTART:20211107T060000
END:STANDARD
BEGIN:DAYLIGHT
TZOFFSETFROM:-0500
TZOFFSETTO:-0400
TZNAME:EDT
DTSTART:20220313T070000
END:DAYLIGHT
BEGIN:STANDARD
TZOFFSETFROM:-0400
TZOFFSETTO:-0500
TZNAME:EST
DTSTART:20221106T060000
END:STANDARD
BEGIN:DAYLIGHT
TZOFFSETFROM:-0500
TZOFFSETTO:-0400
TZNAME:EDT
DTSTART:20230312T070000
END:DAYLIGHT
BEGIN:STANDARD
TZOFFSETFROM:-0400
TZOFFSETTO:-0500
TZNAME:EST
DTSTART:20231105T060000
END:STANDARD
END:VTIMEZONE
BEGIN:VEVENT
DTSTART;TZID=America/New_York:20220306T100000
DTEND;TZID=America/New_York:20220306T111500
DTSTAMP:20260422T183757
CREATED:20220302T220407Z
LAST-MODIFIED:20220302T221701Z
UID:10002093-1646560800-1646565300@www.rsdo.org
SUMMARY:QI GONG
DESCRIPTION:Activité gratuite exclusive aux membres \nEssai gratuit d’un cours pour les non-membres \n                                       \nLe Qi Gong\, est une gymnastique traditionnelle chinoise et une science de la respiration fondée sur la connaissance et la maîtrise du souffle et qui associe mouvements lents\, exercices respiratoires et concentration. \nCes sessions\, animées par Luce Desgagné\, vous permettront de maintenir un équilibre physique et émotionnel\, de la souplesse\, de la mobilité\, une circulation sanguine et énergétique dans les tissus et les organes\, en plus de favoriser une meilleure gestion du stress et des émotions. \nLes dimanches suivants de 10 h à 11 h 15 avec la plateforme Zoom. Le lien pour y participer vous sera transmis par le RSDO et pourrait être différent d’une session à l’autre. \nDates :              9 et 23 janvier 2022                                                  6 et 20 février 2022 \n                         6\, 13 et 27 mars 2022                                               10 et 24 avril 2022 \nComment :       Virtuellement \nPour information\, veuillez communiquer avec Pauline Debonville à sociale@rsdo.org ou par téléphone au 450-510-1931\, ou auprès du RSDO au 438‑390‑7736.
URL:https://www.rsdo.org/evenements/qi-gong/2022-03-06/
LOCATION:Québec
CATEGORIES:Cours
ATTACH;FMTTYPE=image/png:https://www.rsdo.org/wp-content/uploads/2022/03/GI-Qong-Hiver-2022.png
END:VEVENT
END:VCALENDAR