BEGIN:VCALENDAR
VERSION:2.0
PRODID:-//RSDO - ECPv6.15.20//NONSGML v1.0//EN
CALSCALE:GREGORIAN
METHOD:PUBLISH
X-WR-CALNAME:RSDO
X-ORIGINAL-URL:https://www.rsdo.org
X-WR-CALDESC:Évènements pour RSDO
REFRESH-INTERVAL;VALUE=DURATION:PT1H
X-Robots-Tag:noindex
X-PUBLISHED-TTL:PT1H
BEGIN:VTIMEZONE
TZID:America/New_York
BEGIN:DAYLIGHT
TZOFFSETFROM:-0500
TZOFFSETTO:-0400
TZNAME:EDT
DTSTART:20200308T070000
END:DAYLIGHT
BEGIN:STANDARD
TZOFFSETFROM:-0400
TZOFFSETTO:-0500
TZNAME:EST
DTSTART:20201101T060000
END:STANDARD
BEGIN:DAYLIGHT
TZOFFSETFROM:-0500
TZOFFSETTO:-0400
TZNAME:EDT
DTSTART:20210314T070000
END:DAYLIGHT
BEGIN:STANDARD
TZOFFSETFROM:-0400
TZOFFSETTO:-0500
TZNAME:EST
DTSTART:20211107T060000
END:STANDARD
BEGIN:DAYLIGHT
TZOFFSETFROM:-0500
TZOFFSETTO:-0400
TZNAME:EDT
DTSTART:20220313T070000
END:DAYLIGHT
BEGIN:STANDARD
TZOFFSETFROM:-0400
TZOFFSETTO:-0500
TZNAME:EST
DTSTART:20221106T060000
END:STANDARD
END:VTIMEZONE
BEGIN:VEVENT
DTSTART;TZID=America/New_York:20211119T190000
DTEND;TZID=America/New_York:20211119T210000
DTSTAMP:20260423T162810
CREATED:20211003T172437Z
LAST-MODIFIED:20211003T172437Z
UID:10000667-1637348400-1637355600@www.rsdo.org
SUMMARY:Atelier Peinture sur Céramique
DESCRIPTION:Activité gratuite exclusive aux membres \nInscription obligatoire \nMaximum de 20 participants \nLe vendredi 19 novembre 2021 de 19 h à 21 h \nJoignez-vous à nous pour une soirée de créativité et de détente au cours de laquelle vous pourrez peindre et personnaliser des céramiques originales parmi la grande sélection qu’offre le Céramic Café-Studio. Qui sait\, vous découvrirez peut-être une nouvelle passion ? \nLe RSDO vous offre un objet à peindre de 12 $ ou moins. Si votre choix se porte sur un autre objet plus coûteux\, vous aurez à débourser la différence.
URL:https://www.rsdo.org/evenements/atelier-peinture-ceramique/
LOCATION:Le Céramic Café-Studio\, 3591\, boulevard Saint-Jean\, Dollard-des-Ormeaux\, Québec\, H9G 1W9\, Canada
CATEGORIES:Cours
ATTACH;FMTTYPE=image/png:https://www.rsdo.org/wp-content/uploads/2020/09/Céramic-Café-1.png
ORGANIZER;CN="Pauline Debonville":MAILTO:sociale@rsdo.org
GEO:45.4705278;-73.831544
X-APPLE-STRUCTURED-LOCATION;VALUE=URI;X-ADDRESS=Le Céramic Café-Studio 3591 boulevard Saint-Jean Dollard-des-Ormeaux Québec H9G 1W9 Canada;X-APPLE-RADIUS=500;X-TITLE=3591\, boulevard Saint-Jean:geo:-73.831544,45.4705278
END:VEVENT
END:VCALENDAR