BEGIN:VCALENDAR
VERSION:2.0
PRODID:-//RSDO - ECPv6.15.20//NONSGML v1.0//EN
CALSCALE:GREGORIAN
METHOD:PUBLISH
X-ORIGINAL-URL:https://www.rsdo.org
X-WR-CALDESC:Évènements pour RSDO
REFRESH-INTERVAL;VALUE=DURATION:PT1H
X-Robots-Tag:noindex
X-PUBLISHED-TTL:PT1H
BEGIN:VTIMEZONE
TZID:America/New_York
BEGIN:DAYLIGHT
TZOFFSETFROM:-0500
TZOFFSETTO:-0400
TZNAME:EDT
DTSTART:20200308T070000
END:DAYLIGHT
BEGIN:STANDARD
TZOFFSETFROM:-0400
TZOFFSETTO:-0500
TZNAME:EST
DTSTART:20201101T060000
END:STANDARD
BEGIN:DAYLIGHT
TZOFFSETFROM:-0500
TZOFFSETTO:-0400
TZNAME:EDT
DTSTART:20210314T070000
END:DAYLIGHT
BEGIN:STANDARD
TZOFFSETFROM:-0400
TZOFFSETTO:-0500
TZNAME:EST
DTSTART:20211107T060000
END:STANDARD
BEGIN:DAYLIGHT
TZOFFSETFROM:-0500
TZOFFSETTO:-0400
TZNAME:EDT
DTSTART:20220313T070000
END:DAYLIGHT
BEGIN:STANDARD
TZOFFSETFROM:-0400
TZOFFSETTO:-0500
TZNAME:EST
DTSTART:20221106T060000
END:STANDARD
END:VTIMEZONE
BEGIN:VEVENT
DTSTART;TZID=America/New_York:20211012T190000
DTEND;TZID=America/New_York:20211012T200000
DTSTAMP:20260423T194814
CREATED:20210904T195618Z
LAST-MODIFIED:20210904T195618Z
UID:10002001-1634065200-1634068800@www.rsdo.org
SUMMARY:Le Choeur du RSDO - Rencontres virtuelles
DESCRIPTION:Au RSDO\, on continue de briser l’isolement en chantant virtuellement !  Notre directeur de chorale\, Jocelyn Bigras\, poursuit les rencontres de chant afin de pratiquer avec lui sur nos écrans de la maison.  À partir de chansons connues du répertoire qu’il nous propose\, Jocelyn s’exécute et nous accompagne au piano ou à l’accordéon. \nNous sommes invités à chanter avec lui\, ensemble\, chacun de notre côté.  L’expérience\, bien que très différente de ce que nous connaissons\, nous apporte la sensation d’être entouré et d’être dans une action de groupe. \nDes montages vidéo seront aussi créés afin de partager notre enthousiasme ! \nCoût : Gratuit pour les membres du RSDO. \nRenseignements : Sylvie Beaupré 514 865-4377 ou sbeaupre01@hotmail.com \nN’hésitez pas si vous avez des questions et au plaisir de chanter ensemble !
URL:https://www.rsdo.org/evenements/choeur-rsdo-rencontres-virtuelles/2021-10-12/
LOCATION:ZOOM
CATEGORIES:Cours
ATTACH;FMTTYPE=image/jpeg:https://www.rsdo.org/wp-content/uploads/2018/01/Chorale-1.jpg
END:VEVENT
END:VCALENDAR