BEGIN:VCALENDAR
VERSION:2.0
PRODID:-//RSDO - ECPv6.15.20//NONSGML v1.0//EN
CALSCALE:GREGORIAN
METHOD:PUBLISH
X-ORIGINAL-URL:https://www.rsdo.org
X-WR-CALDESC:Évènements pour RSDO
REFRESH-INTERVAL;VALUE=DURATION:PT1H
X-Robots-Tag:noindex
X-PUBLISHED-TTL:PT1H
BEGIN:VTIMEZONE
TZID:America/New_York
BEGIN:DAYLIGHT
TZOFFSETFROM:-0500
TZOFFSETTO:-0400
TZNAME:EDT
DTSTART:20200308T070000
END:DAYLIGHT
BEGIN:STANDARD
TZOFFSETFROM:-0400
TZOFFSETTO:-0500
TZNAME:EST
DTSTART:20201101T060000
END:STANDARD
BEGIN:DAYLIGHT
TZOFFSETFROM:-0500
TZOFFSETTO:-0400
TZNAME:EDT
DTSTART:20210314T070000
END:DAYLIGHT
BEGIN:STANDARD
TZOFFSETFROM:-0400
TZOFFSETTO:-0500
TZNAME:EST
DTSTART:20211107T060000
END:STANDARD
BEGIN:DAYLIGHT
TZOFFSETFROM:-0500
TZOFFSETTO:-0400
TZNAME:EDT
DTSTART:20220313T070000
END:DAYLIGHT
BEGIN:STANDARD
TZOFFSETFROM:-0400
TZOFFSETTO:-0500
TZNAME:EST
DTSTART:20221106T060000
END:STANDARD
END:VTIMEZONE
BEGIN:VEVENT
DTSTART;TZID=America/New_York:20210209T110000
DTEND;TZID=America/New_York:20210209T120000
DTSTAMP:20260424T095404
CREATED:20201227T014725Z
LAST-MODIFIED:20201227T014725Z
UID:10000620-1612868400-1612872000@www.rsdo.org
SUMMARY:Cours de zumba virtuel
DESCRIPTION:Cette activité gratuite est réservée aux membres et sera transmise virtuellement. \nEssai gratuit d’un cours pour les non-membres \nLa Zumba est un programme d’entraînement physique complet\, alliant tous les éléments de la remise en forme : cardio et préparation musculaire\, équilibre et flexibilité. \nLes chorégraphies s’inspirent principalement des danses latines\, mais aussi de styles variés comme la danse du ventre ou la Quebradita. \nLes sessions virtuelles seront animées par la dynamique Jiana Saad. \nLe lien pour rejoindre le cours virtuellement sera transmis par courriel avant chaque cours aux membres. \nPour information et inscription\, veuillez communiquer avec Sylvie Gagnon à conference@rsdo.org \n  \n 
URL:https://www.rsdo.org/evenements/cours-de-zumba-virtuel/2021-02-09/
LOCATION:ZOOM
CATEGORIES:Cours
ATTACH;FMTTYPE=image/jpeg:https://www.rsdo.org/wp-content/uploads/2020/12/Image-zumba.jpg
END:VEVENT
BEGIN:VEVENT
DTSTART;TZID=America/New_York:20210209T190000
DTEND;TZID=America/New_York:20210209T210000
DTSTAMP:20260424T095404
CREATED:20210114T220308Z
LAST-MODIFIED:20210114T223852Z
UID:10001832-1612897200-1612904400@www.rsdo.org
SUMMARY:Atelier d'écriture
DESCRIPTION:Cette activité gratuite est réservée aux membres et sera transmise virtuellement.\n\nJocelyn Thouin propose un atelier exploratoire dynamique et convivial axé sur l’écriture créative et le plaisir de la langue française.\nL’artiste réalise quelques performances\, présente une courte histoire du slam et de la poésie québécoise et explore les outils que sont les figures de style.\nPuis\, il amène les participants à écrire individuellement un court texte et les volontaires à présenter le leur devant le groupe.\nLe groupe passe par toute une gamme d’émotions. Au-delà du côté artistique\, nombreux sont ceux qui perçoivent\, par cet atelier\, le côté sain et libérateur d’écrire pour soi\, de nommer ce que l’on vit.\nAinsi\, si vous vivez ou avez vécu des émotions qui prennent toute la place\, nous vous proposons une façon de les exprimer et ainsi de vous libérez par l’entremise de l’écriture.\n\nMatériel : cahier\, crayon et efface\n\nMaximum : 25 personnes\n\nInscription requise à conference@rsdo.org
URL:https://www.rsdo.org/evenements/atelier-decriture/
LOCATION:ZOOM
CATEGORIES:Cours
ATTACH;FMTTYPE=image/jpeg:https://www.rsdo.org/wp-content/uploads/2021/01/Mots-pêle-mêle-815x500.jpeg
END:VEVENT
END:VCALENDAR