BEGIN:VCALENDAR
VERSION:2.0
PRODID:-//RSDO - ECPv6.15.20//NONSGML v1.0//EN
CALSCALE:GREGORIAN
METHOD:PUBLISH
X-WR-CALNAME:RSDO
X-ORIGINAL-URL:https://www.rsdo.org
X-WR-CALDESC:Évènements pour RSDO
REFRESH-INTERVAL;VALUE=DURATION:PT1H
X-Robots-Tag:noindex
X-PUBLISHED-TTL:PT1H
BEGIN:VTIMEZONE
TZID:America/New_York
BEGIN:DAYLIGHT
TZOFFSETFROM:-0500
TZOFFSETTO:-0400
TZNAME:EDT
DTSTART:20190310T070000
END:DAYLIGHT
BEGIN:STANDARD
TZOFFSETFROM:-0400
TZOFFSETTO:-0500
TZNAME:EST
DTSTART:20191103T060000
END:STANDARD
BEGIN:DAYLIGHT
TZOFFSETFROM:-0500
TZOFFSETTO:-0400
TZNAME:EDT
DTSTART:20200308T070000
END:DAYLIGHT
BEGIN:STANDARD
TZOFFSETFROM:-0400
TZOFFSETTO:-0500
TZNAME:EST
DTSTART:20201101T060000
END:STANDARD
BEGIN:DAYLIGHT
TZOFFSETFROM:-0500
TZOFFSETTO:-0400
TZNAME:EDT
DTSTART:20210314T070000
END:DAYLIGHT
BEGIN:STANDARD
TZOFFSETFROM:-0400
TZOFFSETTO:-0500
TZNAME:EST
DTSTART:20211107T060000
END:STANDARD
END:VTIMEZONE
BEGIN:VEVENT
DTSTART;TZID=America/New_York:20200128T193000
DTEND;TZID=America/New_York:20200128T213000
DTSTAMP:20260425T072911
CREATED:20200103T172942Z
LAST-MODIFIED:20200121T010049Z
UID:10001624-1580239800-1580247000@www.rsdo.org
SUMMARY:La chorale du RSDO
DESCRIPTION:Si la chanson vous interpelle\, venez voir et participer à une de nos pratiques. Nous sommes certains que vous serez enchanté(e)s et aurez le goût d`y revenir. La participation dans un chœur de chants procure beaucoup de plaisir\, et nous enrichit tant sur les plans : émotionnel\, intellectuel\, social\, spirituel que physique. On vous attend\, venez au rendez-vous.Les  pratiques auront lieu les mardis soirs du 7 janvier au 28 avril 2020.  Deux ou           trois concerts seront présentés en mai. \nRenseignements :        Pauline P. au 514 465-3428 \nVeuillez noter qu’il faut être membre du RSDO pour participer aux différentes activités.
URL:https://www.rsdo.org/evenements/la-chorale-du-rsdo/2020-01-28/
LOCATION:CHSLD Denis Benjamin Viger\, 3292 rue Cherrier\, L’Île-Bizard\, Québec\, H9C 2N4\, Canada
CATEGORIES:Cours
GEO:45.4904577;-73.8692953
X-APPLE-STRUCTURED-LOCATION;VALUE=URI;X-ADDRESS=CHSLD Denis Benjamin Viger 3292 rue Cherrier L’Île-Bizard Québec H9C 2N4 Canada;X-APPLE-RADIUS=500;X-TITLE=3292 rue Cherrier:geo:-73.8692953,45.4904577
END:VEVENT
END:VCALENDAR