BEGIN:VCALENDAR
VERSION:2.0
PRODID:-//RSDO - ECPv6.15.20//NONSGML v1.0//EN
CALSCALE:GREGORIAN
METHOD:PUBLISH
X-ORIGINAL-URL:https://www.rsdo.org
X-WR-CALDESC:Évènements pour RSDO
REFRESH-INTERVAL;VALUE=DURATION:PT1H
X-Robots-Tag:noindex
X-PUBLISHED-TTL:PT1H
BEGIN:VTIMEZONE
TZID:America/New_York
BEGIN:DAYLIGHT
TZOFFSETFROM:-0500
TZOFFSETTO:-0400
TZNAME:EDT
DTSTART:20200308T070000
END:DAYLIGHT
BEGIN:STANDARD
TZOFFSETFROM:-0400
TZOFFSETTO:-0500
TZNAME:EST
DTSTART:20201101T060000
END:STANDARD
BEGIN:DAYLIGHT
TZOFFSETFROM:-0500
TZOFFSETTO:-0400
TZNAME:EDT
DTSTART:20210314T070000
END:DAYLIGHT
BEGIN:STANDARD
TZOFFSETFROM:-0400
TZOFFSETTO:-0500
TZNAME:EST
DTSTART:20211107T060000
END:STANDARD
BEGIN:DAYLIGHT
TZOFFSETFROM:-0500
TZOFFSETTO:-0400
TZNAME:EDT
DTSTART:20220313T070000
END:DAYLIGHT
BEGIN:STANDARD
TZOFFSETFROM:-0400
TZOFFSETTO:-0500
TZNAME:EST
DTSTART:20221106T060000
END:STANDARD
END:VTIMEZONE
BEGIN:VEVENT
DTSTART;TZID=America/New_York:20211002T101500
DTEND;TZID=America/New_York:20211002T111500
DTSTAMP:20260423T180525
CREATED:20211003T183235Z
LAST-MODIFIED:20211003T184946Z
UID:10000669-1633169700-1633173300@www.rsdo.org
SUMMARY:Musculation et Yoga
DESCRIPTION:Activité gratuite exclusive aux membres \nEssai gratuit d’un cours pour les non-membres \nInscription obligatoire \nMaximum de 20 participants \nLes samedis de 10 h 15 à 11 h 15 \nÀ partir du mois d’octobre\, nous offrirons des sessions de musculation et yoga qui seront animées par Josey Deroy. \n\n\n\nPour votre confort\, nous vous suggérons de prévoir : \n·       Un tapis \n·       Des blocs de mousse \n·       Une serviette \n·       Une bouteille d’eau \n·       Des espadrilles \n·       Des poids de 2 à 5 kg\n\n\n\n\n\n\nDates : Du 2 octobre au 11 décembre 2021 (11 semaines) \nLieu : Chalet Roxboro à partir du 9 octobre \nInscription : Vous devez vous inscrire au plus tard le 26 septembre. \nPour informations et inscription\, veuillez communiquer avec Chantal Mark au 514-696-9408 ou auprès du RSDO au 438-390-7736.
URL:https://www.rsdo.org/evenements/musculation-et-yoga/2021-10-02/
LOCATION:Chalet Roxboro\, 10 11 rue\, Roxboro\, Quebec\, H8Y 2P3\, Canada
CATEGORIES:Cours
ATTACH;FMTTYPE=image/jpeg:https://www.rsdo.org/wp-content/uploads/2020/01/Yoga.jpg
GEO:45.5053201;-73.8030777
X-APPLE-STRUCTURED-LOCATION;VALUE=URI;X-ADDRESS=Chalet Roxboro 10 11 rue Roxboro Quebec H8Y 2P3 Canada;X-APPLE-RADIUS=500;X-TITLE=10 11 rue:geo:-73.8030777,45.5053201
END:VEVENT
BEGIN:VEVENT
DTSTART;TZID=America/New_York:20211003T100000
DTEND;TZID=America/New_York:20211003T110000
DTSTAMP:20260423T180525
CREATED:20210823T171202Z
LAST-MODIFIED:20211002T165522Z
UID:10000658-1633255200-1633258800@www.rsdo.org
SUMMARY:Qi Gong sur Zoom
DESCRIPTION:Pour suivre cet atelier\, il faut être membre du RSDO (un essai gratuit pour les non-membres)\n\nLe Qi Gong (prononcez tchi gong est un ensemble d’exercices énergétiques issus de la médecine traditionnelle chinoise et de la philosophie Taoïste.  Cette pratique rétablit la libre circulation de l’énergie dans les méridiens\, stimulant ainsi le potentiel naturel de guérison et la capacité de faire face au stress.  Les mouvements peuvent se faire debout ou assis ou si vous avez un tapis\, au sol. .  Ils sont doux\, fluides\, souples et faciles d’exécution\, ils améliorent la flexibilité\, la posture\, l’équilibre\, harmonisent les émotions\, apaisent l’esprit\, stimulent et fortifient tout le corps.  Cette pratique s’adresse à tout le monde et s’adapte à toutes les conditions.\nEmmenez votre chaise ou cousin.\nLe lien Zoom: https://us06web.zoom.us/j/84779125665?pwd=bFZwNE9adFdBb2ZtTFQ0MWFnVEs0Zz09\n\nAnimatrice : Luce Desgagné\, enseignante Qi Gong depuis 1998
URL:https://www.rsdo.org/evenements/qi-gong-plein-air-8/
LOCATION:Québec
CATEGORIES:Cours
ATTACH;FMTTYPE=image/jpeg:https://www.rsdo.org/wp-content/uploads/2019/09/Luce-Desgagnés.jpg
END:VEVENT
BEGIN:VEVENT
DTSTART;TZID=America/New_York:20211005T190000
DTEND;TZID=America/New_York:20211005T200000
DTSTAMP:20260423T180525
CREATED:20210904T195618Z
LAST-MODIFIED:20210904T195618Z
UID:10002000-1633460400-1633464000@www.rsdo.org
SUMMARY:Le Choeur du RSDO - Rencontres virtuelles
DESCRIPTION:Au RSDO\, on continue de briser l’isolement en chantant virtuellement !  Notre directeur de chorale\, Jocelyn Bigras\, poursuit les rencontres de chant afin de pratiquer avec lui sur nos écrans de la maison.  À partir de chansons connues du répertoire qu’il nous propose\, Jocelyn s’exécute et nous accompagne au piano ou à l’accordéon. \nNous sommes invités à chanter avec lui\, ensemble\, chacun de notre côté.  L’expérience\, bien que très différente de ce que nous connaissons\, nous apporte la sensation d’être entouré et d’être dans une action de groupe. \nDes montages vidéo seront aussi créés afin de partager notre enthousiasme ! \nCoût : Gratuit pour les membres du RSDO. \nRenseignements : Sylvie Beaupré 514 865-4377 ou sbeaupre01@hotmail.com \nN’hésitez pas si vous avez des questions et au plaisir de chanter ensemble !
URL:https://www.rsdo.org/evenements/choeur-rsdo-rencontres-virtuelles/2021-10-05/
LOCATION:ZOOM
CATEGORIES:Cours
ATTACH;FMTTYPE=image/jpeg:https://www.rsdo.org/wp-content/uploads/2018/01/Chorale-1.jpg
END:VEVENT
BEGIN:VEVENT
DTSTART;TZID=America/New_York:20211006T103000
DTEND;TZID=America/New_York:20211006T113000
DTSTAMP:20260423T180525
CREATED:20210830T130316Z
LAST-MODIFIED:20210830T130625Z
UID:10001984-1633516200-1633519800@www.rsdo.org
SUMMARY:Cours virtuel de zumba
DESCRIPTION:Cette activité gratuite est réservée aux membres et sera transmise virtuellement. \nEssai gratuit d’un cours pour les non-membres; par la suite\, il faut payer la cotisation annuelle de 15$. \nLa Zumba est un programme d’entraînement physique complet\, alliant tous les éléments de la remise en forme : cardio et préparation musculaire\, équilibre et flexibilité. \nLes chorégraphies s’inspirent principalement des danses latines\, mais aussi de styles variés comme la danse du ventre ou la Quebradita. \nLes sessions virtuelles seront animées par la dynamique Jiana Saad. \nAvant le premier cours nous enverrons le lien Zoom à tous les membres du RSDO et vous pourrez utiliser ce même lien pour chaque cours\, durant toute la session.
URL:https://www.rsdo.org/evenements/cours-virtuel-de-zumba/2021-10-06/
LOCATION:ZOOM
CATEGORIES:Cours
ATTACH;FMTTYPE=image/jpeg:https://www.rsdo.org/wp-content/uploads/2020/12/Image-zumba.jpg
END:VEVENT
BEGIN:VEVENT
DTSTART;TZID=America/New_York:20211009T101500
DTEND;TZID=America/New_York:20211009T111500
DTSTAMP:20260423T180525
CREATED:20211003T183235Z
LAST-MODIFIED:20211003T184946Z
UID:10000670-1633774500-1633778100@www.rsdo.org
SUMMARY:Musculation et Yoga
DESCRIPTION:Activité gratuite exclusive aux membres \nEssai gratuit d’un cours pour les non-membres \nInscription obligatoire \nMaximum de 20 participants \nLes samedis de 10 h 15 à 11 h 15 \nÀ partir du mois d’octobre\, nous offrirons des sessions de musculation et yoga qui seront animées par Josey Deroy. \n\n\n\nPour votre confort\, nous vous suggérons de prévoir : \n·       Un tapis \n·       Des blocs de mousse \n·       Une serviette \n·       Une bouteille d’eau \n·       Des espadrilles \n·       Des poids de 2 à 5 kg\n\n\n\n\n\n\nDates : Du 2 octobre au 11 décembre 2021 (11 semaines) \nLieu : Chalet Roxboro à partir du 9 octobre \nInscription : Vous devez vous inscrire au plus tard le 26 septembre. \nPour informations et inscription\, veuillez communiquer avec Chantal Mark au 514-696-9408 ou auprès du RSDO au 438-390-7736.
URL:https://www.rsdo.org/evenements/musculation-et-yoga/2021-10-09/
LOCATION:Chalet Roxboro\, 10 11 rue\, Roxboro\, Quebec\, H8Y 2P3\, Canada
CATEGORIES:Cours
ATTACH;FMTTYPE=image/jpeg:https://www.rsdo.org/wp-content/uploads/2020/01/Yoga.jpg
GEO:45.5053201;-73.8030777
X-APPLE-STRUCTURED-LOCATION;VALUE=URI;X-ADDRESS=Chalet Roxboro 10 11 rue Roxboro Quebec H8Y 2P3 Canada;X-APPLE-RADIUS=500;X-TITLE=10 11 rue:geo:-73.8030777,45.5053201
END:VEVENT
BEGIN:VEVENT
DTSTART;TZID=America/New_York:20211012T190000
DTEND;TZID=America/New_York:20211012T200000
DTSTAMP:20260423T180525
CREATED:20210904T195618Z
LAST-MODIFIED:20210904T195618Z
UID:10002001-1634065200-1634068800@www.rsdo.org
SUMMARY:Le Choeur du RSDO - Rencontres virtuelles
DESCRIPTION:Au RSDO\, on continue de briser l’isolement en chantant virtuellement !  Notre directeur de chorale\, Jocelyn Bigras\, poursuit les rencontres de chant afin de pratiquer avec lui sur nos écrans de la maison.  À partir de chansons connues du répertoire qu’il nous propose\, Jocelyn s’exécute et nous accompagne au piano ou à l’accordéon. \nNous sommes invités à chanter avec lui\, ensemble\, chacun de notre côté.  L’expérience\, bien que très différente de ce que nous connaissons\, nous apporte la sensation d’être entouré et d’être dans une action de groupe. \nDes montages vidéo seront aussi créés afin de partager notre enthousiasme ! \nCoût : Gratuit pour les membres du RSDO. \nRenseignements : Sylvie Beaupré 514 865-4377 ou sbeaupre01@hotmail.com \nN’hésitez pas si vous avez des questions et au plaisir de chanter ensemble !
URL:https://www.rsdo.org/evenements/choeur-rsdo-rencontres-virtuelles/2021-10-12/
LOCATION:ZOOM
CATEGORIES:Cours
ATTACH;FMTTYPE=image/jpeg:https://www.rsdo.org/wp-content/uploads/2018/01/Chorale-1.jpg
END:VEVENT
BEGIN:VEVENT
DTSTART;TZID=America/New_York:20211013T103000
DTEND;TZID=America/New_York:20211013T113000
DTSTAMP:20260423T180526
CREATED:20210830T130316Z
LAST-MODIFIED:20210830T130625Z
UID:10001985-1634121000-1634124600@www.rsdo.org
SUMMARY:Cours virtuel de zumba
DESCRIPTION:Cette activité gratuite est réservée aux membres et sera transmise virtuellement. \nEssai gratuit d’un cours pour les non-membres; par la suite\, il faut payer la cotisation annuelle de 15$. \nLa Zumba est un programme d’entraînement physique complet\, alliant tous les éléments de la remise en forme : cardio et préparation musculaire\, équilibre et flexibilité. \nLes chorégraphies s’inspirent principalement des danses latines\, mais aussi de styles variés comme la danse du ventre ou la Quebradita. \nLes sessions virtuelles seront animées par la dynamique Jiana Saad. \nAvant le premier cours nous enverrons le lien Zoom à tous les membres du RSDO et vous pourrez utiliser ce même lien pour chaque cours\, durant toute la session.
URL:https://www.rsdo.org/evenements/cours-virtuel-de-zumba/2021-10-13/
LOCATION:ZOOM
CATEGORIES:Cours
ATTACH;FMTTYPE=image/jpeg:https://www.rsdo.org/wp-content/uploads/2020/12/Image-zumba.jpg
END:VEVENT
BEGIN:VEVENT
DTSTART;TZID=America/New_York:20211016T101500
DTEND;TZID=America/New_York:20211016T111500
DTSTAMP:20260423T180526
CREATED:20211003T183235Z
LAST-MODIFIED:20211003T184946Z
UID:10000671-1634379300-1634382900@www.rsdo.org
SUMMARY:Musculation et Yoga
DESCRIPTION:Activité gratuite exclusive aux membres \nEssai gratuit d’un cours pour les non-membres \nInscription obligatoire \nMaximum de 20 participants \nLes samedis de 10 h 15 à 11 h 15 \nÀ partir du mois d’octobre\, nous offrirons des sessions de musculation et yoga qui seront animées par Josey Deroy. \n\n\n\nPour votre confort\, nous vous suggérons de prévoir : \n·       Un tapis \n·       Des blocs de mousse \n·       Une serviette \n·       Une bouteille d’eau \n·       Des espadrilles \n·       Des poids de 2 à 5 kg\n\n\n\n\n\n\nDates : Du 2 octobre au 11 décembre 2021 (11 semaines) \nLieu : Chalet Roxboro à partir du 9 octobre \nInscription : Vous devez vous inscrire au plus tard le 26 septembre. \nPour informations et inscription\, veuillez communiquer avec Chantal Mark au 514-696-9408 ou auprès du RSDO au 438-390-7736.
URL:https://www.rsdo.org/evenements/musculation-et-yoga/2021-10-16/
LOCATION:Chalet Roxboro\, 10 11 rue\, Roxboro\, Quebec\, H8Y 2P3\, Canada
CATEGORIES:Cours
ATTACH;FMTTYPE=image/jpeg:https://www.rsdo.org/wp-content/uploads/2020/01/Yoga.jpg
GEO:45.5053201;-73.8030777
X-APPLE-STRUCTURED-LOCATION;VALUE=URI;X-ADDRESS=Chalet Roxboro 10 11 rue Roxboro Quebec H8Y 2P3 Canada;X-APPLE-RADIUS=500;X-TITLE=10 11 rue:geo:-73.8030777,45.5053201
END:VEVENT
BEGIN:VEVENT
DTSTART;TZID=America/New_York:20211017T090000
DTEND;TZID=America/New_York:20211017T110000
DTSTAMP:20260423T180526
CREATED:20211003T123649Z
LAST-MODIFIED:20211003T164426Z
UID:10000665-1634461200-1634468400@www.rsdo.org
SUMMARY:Le subconscient et sa puissance
DESCRIPTION:Activité gratuite pour les membres  \n5 $ pour les non-membres  \nInscription obligatoire sur ce lien: https://forms.office.com/r/1YadjygJGi ou en écrivant ou téléphonant à \nÉtienne Lajoie conference@rsdo.org / 438-495-6777 \nMaximum de 23 participants  \nVêtements sports et passeport vaccinal requis. \n  \n« Tout ce que l’esprit peut concevoir et croire\, il peut le réaliser »  \n                                                                                         Napoleon Hill  \n  \n Au cours de cet atelier\, l’animatrice Jiana Saad\, vous expliquera\, d’une façon simplifiée\, ce qu’est le subconscient\, ses différences avec le conscient\, comment programmer le subconscient pour bien vous en servir\, et pourquoi il est parfois difficile d’atteindre vos objectifs.   \n  \nElle vous donnera des exercices et des exemples qui ont fonctionné pour elle\, afin de transformer les histoires limitées en épopées puissantes et vous permettre de définir la façon d’utiliser le subconscient pour améliorer votre rendement et votre efficacité afin d’atteindre vos objectifs.  \n 
URL:https://www.rsdo.org/evenements/5161/
LOCATION:Salle paroissiale de l’église Sainte-Geneviève\, 16037 Boul Gouin O\, Sainte-Geneviève\, Québec\, H9H 1C7\, Canada
CATEGORIES:Cours
ATTACH;FMTTYPE=image/jpeg:https://www.rsdo.org/wp-content/uploads/2020/12/Jiana-Saad-1.jpg
GEO:45.4802657;-73.8719786
X-APPLE-STRUCTURED-LOCATION;VALUE=URI;X-ADDRESS=Salle paroissiale de l’église Sainte-Geneviève 16037 Boul Gouin O Sainte-Geneviève Québec H9H 1C7 Canada;X-APPLE-RADIUS=500;X-TITLE=16037 Boul Gouin O:geo:-73.8719786,45.4802657
END:VEVENT
BEGIN:VEVENT
DTSTART;TZID=America/New_York:20211019T190000
DTEND;TZID=America/New_York:20211019T200000
DTSTAMP:20260423T180526
CREATED:20210904T195618Z
LAST-MODIFIED:20210904T195618Z
UID:10002002-1634670000-1634673600@www.rsdo.org
SUMMARY:Le Choeur du RSDO - Rencontres virtuelles
DESCRIPTION:Au RSDO\, on continue de briser l’isolement en chantant virtuellement !  Notre directeur de chorale\, Jocelyn Bigras\, poursuit les rencontres de chant afin de pratiquer avec lui sur nos écrans de la maison.  À partir de chansons connues du répertoire qu’il nous propose\, Jocelyn s’exécute et nous accompagne au piano ou à l’accordéon. \nNous sommes invités à chanter avec lui\, ensemble\, chacun de notre côté.  L’expérience\, bien que très différente de ce que nous connaissons\, nous apporte la sensation d’être entouré et d’être dans une action de groupe. \nDes montages vidéo seront aussi créés afin de partager notre enthousiasme ! \nCoût : Gratuit pour les membres du RSDO. \nRenseignements : Sylvie Beaupré 514 865-4377 ou sbeaupre01@hotmail.com \nN’hésitez pas si vous avez des questions et au plaisir de chanter ensemble !
URL:https://www.rsdo.org/evenements/choeur-rsdo-rencontres-virtuelles/2021-10-19/
LOCATION:ZOOM
CATEGORIES:Cours
ATTACH;FMTTYPE=image/jpeg:https://www.rsdo.org/wp-content/uploads/2018/01/Chorale-1.jpg
END:VEVENT
BEGIN:VEVENT
DTSTART;TZID=America/New_York:20211020T103000
DTEND;TZID=America/New_York:20211020T113000
DTSTAMP:20260423T180526
CREATED:20210830T130316Z
LAST-MODIFIED:20210830T130625Z
UID:10001986-1634725800-1634729400@www.rsdo.org
SUMMARY:Cours virtuel de zumba
DESCRIPTION:Cette activité gratuite est réservée aux membres et sera transmise virtuellement. \nEssai gratuit d’un cours pour les non-membres; par la suite\, il faut payer la cotisation annuelle de 15$. \nLa Zumba est un programme d’entraînement physique complet\, alliant tous les éléments de la remise en forme : cardio et préparation musculaire\, équilibre et flexibilité. \nLes chorégraphies s’inspirent principalement des danses latines\, mais aussi de styles variés comme la danse du ventre ou la Quebradita. \nLes sessions virtuelles seront animées par la dynamique Jiana Saad. \nAvant le premier cours nous enverrons le lien Zoom à tous les membres du RSDO et vous pourrez utiliser ce même lien pour chaque cours\, durant toute la session.
URL:https://www.rsdo.org/evenements/cours-virtuel-de-zumba/2021-10-20/
LOCATION:ZOOM
CATEGORIES:Cours
ATTACH;FMTTYPE=image/jpeg:https://www.rsdo.org/wp-content/uploads/2020/12/Image-zumba.jpg
END:VEVENT
BEGIN:VEVENT
DTSTART;TZID=America/New_York:20211023T101500
DTEND;TZID=America/New_York:20211023T111500
DTSTAMP:20260423T180526
CREATED:20211003T183235Z
LAST-MODIFIED:20211003T184946Z
UID:10000672-1634984100-1634987700@www.rsdo.org
SUMMARY:Musculation et Yoga
DESCRIPTION:Activité gratuite exclusive aux membres \nEssai gratuit d’un cours pour les non-membres \nInscription obligatoire \nMaximum de 20 participants \nLes samedis de 10 h 15 à 11 h 15 \nÀ partir du mois d’octobre\, nous offrirons des sessions de musculation et yoga qui seront animées par Josey Deroy. \n\n\n\nPour votre confort\, nous vous suggérons de prévoir : \n·       Un tapis \n·       Des blocs de mousse \n·       Une serviette \n·       Une bouteille d’eau \n·       Des espadrilles \n·       Des poids de 2 à 5 kg\n\n\n\n\n\n\nDates : Du 2 octobre au 11 décembre 2021 (11 semaines) \nLieu : Chalet Roxboro à partir du 9 octobre \nInscription : Vous devez vous inscrire au plus tard le 26 septembre. \nPour informations et inscription\, veuillez communiquer avec Chantal Mark au 514-696-9408 ou auprès du RSDO au 438-390-7736.
URL:https://www.rsdo.org/evenements/musculation-et-yoga/2021-10-23/
LOCATION:Chalet Roxboro\, 10 11 rue\, Roxboro\, Quebec\, H8Y 2P3\, Canada
CATEGORIES:Cours
ATTACH;FMTTYPE=image/jpeg:https://www.rsdo.org/wp-content/uploads/2020/01/Yoga.jpg
GEO:45.5053201;-73.8030777
X-APPLE-STRUCTURED-LOCATION;VALUE=URI;X-ADDRESS=Chalet Roxboro 10 11 rue Roxboro Quebec H8Y 2P3 Canada;X-APPLE-RADIUS=500;X-TITLE=10 11 rue:geo:-73.8030777,45.5053201
END:VEVENT
BEGIN:VEVENT
DTSTART;TZID=America/New_York:20211024T100000
DTEND;TZID=America/New_York:20211024T110000
DTSTAMP:20260423T180526
CREATED:20210823T171423Z
LAST-MODIFIED:20211003T122752Z
UID:10000655-1635069600-1635073200@www.rsdo.org
SUMMARY:Qi Gong en plein air
DESCRIPTION:Pour suivre cet atelier\, il faut être membre du RSDO (un essai gratuit pour les non-membres)\n\nLe Qi Gong (prononcez tchi gong est un ensemble d’exercices énergétiques issus de la médecine traditionnelle chinoise et de la philosophie Taoïste.  Cette pratique rétablit la libre circulation de l’énergie dans les méridiens\, stimulant ainsi le potentiel naturel de guérison et la capacité de faire face au stress.  Les mouvements peuvent se faire debout ou assis ou si vous avez un tapis\, au sol. .  Ils sont doux\, fluides\, souples et faciles d’exécution\, ils améliorent la flexibilité\, la posture\, l’équilibre\, harmonisent les émotions\, apaisent l’esprit\, stimulent et fortifient tout le corps.  Cette pratique s’adresse à tout le monde et s’adapte à toutes les conditions.\nEmmenez votre chaise ou cousin.\nLe rendez-vous sera près d’un très grand saule pleurer à côté du stationnement.\n\nAnimatrice : Luce Desgagné\, enseignante Qi Gong depuis 1998
URL:https://www.rsdo.org/evenements/qi-gong-plein-air-9/
LOCATION:Parc Edgewater\, Pointe-Claire\, Québec\, H9S 4K6\, Canada
CATEGORIES:Cours
ATTACH;FMTTYPE=image/jpeg:https://www.rsdo.org/wp-content/uploads/2019/09/Luce-Desgagnés.jpg
END:VEVENT
BEGIN:VEVENT
DTSTART;TZID=America/New_York:20211026T190000
DTEND;TZID=America/New_York:20211026T200000
DTSTAMP:20260423T180526
CREATED:20210904T195618Z
LAST-MODIFIED:20210904T195618Z
UID:10002003-1635274800-1635278400@www.rsdo.org
SUMMARY:Le Choeur du RSDO - Rencontres virtuelles
DESCRIPTION:Au RSDO\, on continue de briser l’isolement en chantant virtuellement !  Notre directeur de chorale\, Jocelyn Bigras\, poursuit les rencontres de chant afin de pratiquer avec lui sur nos écrans de la maison.  À partir de chansons connues du répertoire qu’il nous propose\, Jocelyn s’exécute et nous accompagne au piano ou à l’accordéon. \nNous sommes invités à chanter avec lui\, ensemble\, chacun de notre côté.  L’expérience\, bien que très différente de ce que nous connaissons\, nous apporte la sensation d’être entouré et d’être dans une action de groupe. \nDes montages vidéo seront aussi créés afin de partager notre enthousiasme ! \nCoût : Gratuit pour les membres du RSDO. \nRenseignements : Sylvie Beaupré 514 865-4377 ou sbeaupre01@hotmail.com \nN’hésitez pas si vous avez des questions et au plaisir de chanter ensemble !
URL:https://www.rsdo.org/evenements/choeur-rsdo-rencontres-virtuelles/2021-10-26/
LOCATION:ZOOM
CATEGORIES:Cours
ATTACH;FMTTYPE=image/jpeg:https://www.rsdo.org/wp-content/uploads/2018/01/Chorale-1.jpg
END:VEVENT
BEGIN:VEVENT
DTSTART;TZID=America/New_York:20211027T103000
DTEND;TZID=America/New_York:20211027T113000
DTSTAMP:20260423T180526
CREATED:20210830T130316Z
LAST-MODIFIED:20210830T130625Z
UID:10001987-1635330600-1635334200@www.rsdo.org
SUMMARY:Cours virtuel de zumba
DESCRIPTION:Cette activité gratuite est réservée aux membres et sera transmise virtuellement. \nEssai gratuit d’un cours pour les non-membres; par la suite\, il faut payer la cotisation annuelle de 15$. \nLa Zumba est un programme d’entraînement physique complet\, alliant tous les éléments de la remise en forme : cardio et préparation musculaire\, équilibre et flexibilité. \nLes chorégraphies s’inspirent principalement des danses latines\, mais aussi de styles variés comme la danse du ventre ou la Quebradita. \nLes sessions virtuelles seront animées par la dynamique Jiana Saad. \nAvant le premier cours nous enverrons le lien Zoom à tous les membres du RSDO et vous pourrez utiliser ce même lien pour chaque cours\, durant toute la session.
URL:https://www.rsdo.org/evenements/cours-virtuel-de-zumba/2021-10-27/
LOCATION:ZOOM
CATEGORIES:Cours
ATTACH;FMTTYPE=image/jpeg:https://www.rsdo.org/wp-content/uploads/2020/12/Image-zumba.jpg
END:VEVENT
BEGIN:VEVENT
DTSTART;TZID=America/New_York:20211030T101500
DTEND;TZID=America/New_York:20211030T111500
DTSTAMP:20260423T180526
CREATED:20211003T183235Z
LAST-MODIFIED:20211003T184946Z
UID:10000673-1635588900-1635592500@www.rsdo.org
SUMMARY:Musculation et Yoga
DESCRIPTION:Activité gratuite exclusive aux membres \nEssai gratuit d’un cours pour les non-membres \nInscription obligatoire \nMaximum de 20 participants \nLes samedis de 10 h 15 à 11 h 15 \nÀ partir du mois d’octobre\, nous offrirons des sessions de musculation et yoga qui seront animées par Josey Deroy. \n\n\n\nPour votre confort\, nous vous suggérons de prévoir : \n·       Un tapis \n·       Des blocs de mousse \n·       Une serviette \n·       Une bouteille d’eau \n·       Des espadrilles \n·       Des poids de 2 à 5 kg\n\n\n\n\n\n\nDates : Du 2 octobre au 11 décembre 2021 (11 semaines) \nLieu : Chalet Roxboro à partir du 9 octobre \nInscription : Vous devez vous inscrire au plus tard le 26 septembre. \nPour informations et inscription\, veuillez communiquer avec Chantal Mark au 514-696-9408 ou auprès du RSDO au 438-390-7736.
URL:https://www.rsdo.org/evenements/musculation-et-yoga/2021-10-30/
LOCATION:Chalet Roxboro\, 10 11 rue\, Roxboro\, Quebec\, H8Y 2P3\, Canada
CATEGORIES:Cours
ATTACH;FMTTYPE=image/jpeg:https://www.rsdo.org/wp-content/uploads/2020/01/Yoga.jpg
GEO:45.5053201;-73.8030777
X-APPLE-STRUCTURED-LOCATION;VALUE=URI;X-ADDRESS=Chalet Roxboro 10 11 rue Roxboro Quebec H8Y 2P3 Canada;X-APPLE-RADIUS=500;X-TITLE=10 11 rue:geo:-73.8030777,45.5053201
END:VEVENT
BEGIN:VEVENT
DTSTART;TZID=America/New_York:20211030T130000
DTEND;TZID=America/New_York:20211030T160000
DTSTAMP:20260423T180526
CREATED:20211003T180901Z
LAST-MODIFIED:20211003T180901Z
UID:10000668-1635598800-1635609600@www.rsdo.org
SUMMARY:Peinture Acrylique
DESCRIPTION:Activité gratuite exclusive aux membres \nInscription obligatoire  \nLes dimanches 30 octobre et 20 novembre 2021 dès 13 h \nAu cours de ces ateliers d’une durée de 2 à 3 heures\, Jeremy Costa\, artiste en arts visuels\, vous aidera à développer votre créativité et votre confiance en soi pour ce médium. \n 
URL:https://www.rsdo.org/evenements/peinture-acrylique/
LOCATION:Salle paroissiale de l’église Sainte-Geneviève\, 16037 Boul Gouin O\, Sainte-Geneviève\, Québec\, H9H 1C7\, Canada
CATEGORIES:Cours
ATTACH;FMTTYPE=image/png:https://www.rsdo.org/wp-content/uploads/2021/10/Screenshot-3.png
GEO:45.4802657;-73.8719786
X-APPLE-STRUCTURED-LOCATION;VALUE=URI;X-ADDRESS=Salle paroissiale de l’église Sainte-Geneviève 16037 Boul Gouin O Sainte-Geneviève Québec H9H 1C7 Canada;X-APPLE-RADIUS=500;X-TITLE=16037 Boul Gouin O:geo:-73.8719786,45.4802657
END:VEVENT
END:VCALENDAR