BEGIN:VCALENDAR
VERSION:2.0
PRODID:-//RSDO - ECPv6.15.20//NONSGML v1.0//EN
CALSCALE:GREGORIAN
METHOD:PUBLISH
X-WR-CALNAME:RSDO
X-ORIGINAL-URL:https://www.rsdo.org
X-WR-CALDESC:Évènements pour RSDO
REFRESH-INTERVAL;VALUE=DURATION:PT1H
X-Robots-Tag:noindex
X-PUBLISHED-TTL:PT1H
BEGIN:VTIMEZONE
TZID:America/New_York
BEGIN:DAYLIGHT
TZOFFSETFROM:-0500
TZOFFSETTO:-0400
TZNAME:EDT
DTSTART:20190310T070000
END:DAYLIGHT
BEGIN:STANDARD
TZOFFSETFROM:-0400
TZOFFSETTO:-0500
TZNAME:EST
DTSTART:20191103T060000
END:STANDARD
BEGIN:DAYLIGHT
TZOFFSETFROM:-0500
TZOFFSETTO:-0400
TZNAME:EDT
DTSTART:20200308T070000
END:DAYLIGHT
BEGIN:STANDARD
TZOFFSETFROM:-0400
TZOFFSETTO:-0500
TZNAME:EST
DTSTART:20201101T060000
END:STANDARD
BEGIN:DAYLIGHT
TZOFFSETFROM:-0500
TZOFFSETTO:-0400
TZNAME:EDT
DTSTART:20210314T070000
END:DAYLIGHT
BEGIN:STANDARD
TZOFFSETFROM:-0400
TZOFFSETTO:-0500
TZNAME:EST
DTSTART:20211107T060000
END:STANDARD
END:VTIMEZONE
BEGIN:VEVENT
DTSTART;TZID=America/New_York:20200902T190000
DTEND;TZID=America/New_York:20200902T200000
DTSTAMP:20260424T161807
CREATED:20200922T160357Z
LAST-MODIFIED:20200922T160357Z
UID:10000464-1599073200-1599076800@www.rsdo.org
SUMMARY:Le choeur du RSDO
DESCRIPTION:Gratuit pour les membres. \nAu RSDO\, on brise l’isolement en chantant virtuellement !  Notre directeur de chorale\, Jocelyn Bigras\, poursuit les rencontres de chant afin de pratiquer avec lui sur nos écrans de la maison.  À partir de chansons connues du répertoire qu’il nous propose\, Jocelyn s’exécute et nous accompagne au piano ou à l’accordéon. \nNous sommes invités à chanter avec lui\, ensemble\, chacun de notre côté.  L’expérience\, bien que très différente de ce que nous connaissons\, nous apporte la sensation d’être entouré et d’être dans une action de groupe. \nDes montages vidéo seront aussi créés afin de partager notre enthousiasme ! \nLa chorale du RSDO utilise l’application ZOOM. Lorsque vous en faites la demande\, un courriel est envoyé avec le lien. \nRenseignements : Sylvie Beaupré 514 865-4377
URL:https://www.rsdo.org/evenements/le-choeur-du-rsdo-6/2020-09-02/
LOCATION:Québec
CATEGORIES:Cours
END:VEVENT
BEGIN:VEVENT
DTSTART;TZID=America/New_York:20200905T100000
DTEND;TZID=America/New_York:20200905T110000
DTSTAMP:20260424T161807
CREATED:20200909T002219Z
LAST-MODIFIED:20200909T002219Z
UID:10001793-1599300000-1599303600@www.rsdo.org
SUMMARY:Cours de yoga à l'extérieur de l'été 2020 - prolongation
DESCRIPTION:Pour les membres seulement\nLe RSDO vous offre gratuitement un cours de yoga d’une durée d’une heure pour la période estivale\, soit les samedis du 4 Juillet au 29 août\, avec votre intructrice habituelle\, Josey Deroy.\nLes inscriptions et les présences se feront sur place.\nPour votre confort\, apporter un tapis\, des blocs de mousse\, serviette et bouteille d’eau\, (facultatif: plastique ou toile de protection à mettre sous le tapis).\nVeuillez noter que les règles de distanciation sociale seront respectées.\n\nEn cas de pluie\, le cours sera automatiquement annulé.\nRenseignements: Chantal 514-696-9408 ou RSDO: 438-390-7736
URL:https://www.rsdo.org/evenements/cours-de-yoga-a-lexterieur-de-lete-2020-prolongation/2020-09-05/
LOCATION:Parc Jacques-Cardinal\, 16037\, boulevard Gouin Ouest\,\, Pierrefonds\, Québec\, H9H 2X3\, Canada
CATEGORIES:Cours
ATTACH;FMTTYPE=image/jpeg:https://www.rsdo.org/wp-content/uploads/2020/07/Yoga-extérieur-3-b.jpg
ORGANIZER;CN="Josey Deroy":MAILTO:josey.yoga.fitness@gmail.com
GEO:45.4805517;-73.8725251
X-APPLE-STRUCTURED-LOCATION;VALUE=URI;X-ADDRESS=Parc Jacques-Cardinal 16037 boulevard Gouin Ouest Pierrefonds Québec H9H 2X3 Canada;X-APPLE-RADIUS=500;X-TITLE=16037\, boulevard Gouin Ouest\,:geo:-73.8725251,45.4805517
END:VEVENT
BEGIN:VEVENT
DTSTART;TZID=America/New_York:20200906T100000
DTEND;TZID=America/New_York:20200906T111500
DTSTAMP:20260424T161807
CREATED:20200807T193314Z
LAST-MODIFIED:20201013T001137Z
UID:10001776-1599386400-1599390900@www.rsdo.org
SUMMARY:Qi Gong en plein air
DESCRIPTION:Pour suivre cet atelier\, il faut être membre du RSDO (un essai gratuit pour les non-membres)\n\nLe Qi Gong (prononcez tchi gong est un ensemble d’exercices énergétiques issus de la médecine traditionnelle chinoise et de la philosophie Taoïste.  Cette pratique rétablit la libre circulation de l’énergie dans les méridiens\, stimulant ainsi le potentiel naturel de guérison et la capacité de faire face au stress.  Les mouvements se feront debout ou assis vu que l’on sera en plein air.  Ils sont doux\, fluides\, souples et faciles d’exécution\, ils améliorent la flexibilité\, la posture\, l’équilibre\, harmonisent les émotions\, apaisent l’esprit\, stimulent et fortifient tout le corps.  Cette pratique s’adresse à tout le monde et s’adapte à toutes les conditions.\n\nCoût : gratuit pour les membres\nAnimatrice : Luce Desgagné\, enseignante Qi Gong depuis 1998\n\n\n\n\nInscription :  conference@rsdo.org
URL:https://www.rsdo.org/evenements/qi-gong-plein-air/2020-09-06/
LOCATION:Parc Edgewater\, Pointe-Claire\, Québec\, H9S 4K6\, Canada
CATEGORIES:Cours
ATTACH;FMTTYPE=image/jpeg:https://www.rsdo.org/wp-content/uploads/2019/09/Luce-Desgagnés.jpg
END:VEVENT
BEGIN:VEVENT
DTSTART;TZID=America/New_York:20200909T190000
DTEND;TZID=America/New_York:20200909T200000
DTSTAMP:20260424T161807
CREATED:20200922T160357Z
LAST-MODIFIED:20200922T160357Z
UID:10000465-1599678000-1599681600@www.rsdo.org
SUMMARY:Le choeur du RSDO
DESCRIPTION:Gratuit pour les membres. \nAu RSDO\, on brise l’isolement en chantant virtuellement !  Notre directeur de chorale\, Jocelyn Bigras\, poursuit les rencontres de chant afin de pratiquer avec lui sur nos écrans de la maison.  À partir de chansons connues du répertoire qu’il nous propose\, Jocelyn s’exécute et nous accompagne au piano ou à l’accordéon. \nNous sommes invités à chanter avec lui\, ensemble\, chacun de notre côté.  L’expérience\, bien que très différente de ce que nous connaissons\, nous apporte la sensation d’être entouré et d’être dans une action de groupe. \nDes montages vidéo seront aussi créés afin de partager notre enthousiasme ! \nLa chorale du RSDO utilise l’application ZOOM. Lorsque vous en faites la demande\, un courriel est envoyé avec le lien. \nRenseignements : Sylvie Beaupré 514 865-4377
URL:https://www.rsdo.org/evenements/le-choeur-du-rsdo-6/2020-09-09/
LOCATION:Québec
CATEGORIES:Cours
END:VEVENT
BEGIN:VEVENT
DTSTART;TZID=America/New_York:20200912T100000
DTEND;TZID=America/New_York:20200912T110000
DTSTAMP:20260424T161807
CREATED:20200909T002219Z
LAST-MODIFIED:20200909T002219Z
UID:10001794-1599904800-1599908400@www.rsdo.org
SUMMARY:Cours de yoga à l'extérieur de l'été 2020 - prolongation
DESCRIPTION:Pour les membres seulement\nLe RSDO vous offre gratuitement un cours de yoga d’une durée d’une heure pour la période estivale\, soit les samedis du 4 Juillet au 29 août\, avec votre intructrice habituelle\, Josey Deroy.\nLes inscriptions et les présences se feront sur place.\nPour votre confort\, apporter un tapis\, des blocs de mousse\, serviette et bouteille d’eau\, (facultatif: plastique ou toile de protection à mettre sous le tapis).\nVeuillez noter que les règles de distanciation sociale seront respectées.\n\nEn cas de pluie\, le cours sera automatiquement annulé.\nRenseignements: Chantal 514-696-9408 ou RSDO: 438-390-7736
URL:https://www.rsdo.org/evenements/cours-de-yoga-a-lexterieur-de-lete-2020-prolongation/2020-09-12/
LOCATION:Parc Jacques-Cardinal\, 16037\, boulevard Gouin Ouest\,\, Pierrefonds\, Québec\, H9H 2X3\, Canada
CATEGORIES:Cours
ATTACH;FMTTYPE=image/jpeg:https://www.rsdo.org/wp-content/uploads/2020/07/Yoga-extérieur-3-b.jpg
ORGANIZER;CN="Josey Deroy":MAILTO:josey.yoga.fitness@gmail.com
GEO:45.4805517;-73.8725251
X-APPLE-STRUCTURED-LOCATION;VALUE=URI;X-ADDRESS=Parc Jacques-Cardinal 16037 boulevard Gouin Ouest Pierrefonds Québec H9H 2X3 Canada;X-APPLE-RADIUS=500;X-TITLE=16037\, boulevard Gouin Ouest\,:geo:-73.8725251,45.4805517
END:VEVENT
BEGIN:VEVENT
DTSTART;TZID=America/New_York:20200916T190000
DTEND;TZID=America/New_York:20200916T200000
DTSTAMP:20260424T161807
CREATED:20200922T160357Z
LAST-MODIFIED:20200922T160357Z
UID:10000466-1600282800-1600286400@www.rsdo.org
SUMMARY:Le choeur du RSDO
DESCRIPTION:Gratuit pour les membres. \nAu RSDO\, on brise l’isolement en chantant virtuellement !  Notre directeur de chorale\, Jocelyn Bigras\, poursuit les rencontres de chant afin de pratiquer avec lui sur nos écrans de la maison.  À partir de chansons connues du répertoire qu’il nous propose\, Jocelyn s’exécute et nous accompagne au piano ou à l’accordéon. \nNous sommes invités à chanter avec lui\, ensemble\, chacun de notre côté.  L’expérience\, bien que très différente de ce que nous connaissons\, nous apporte la sensation d’être entouré et d’être dans une action de groupe. \nDes montages vidéo seront aussi créés afin de partager notre enthousiasme ! \nLa chorale du RSDO utilise l’application ZOOM. Lorsque vous en faites la demande\, un courriel est envoyé avec le lien. \nRenseignements : Sylvie Beaupré 514 865-4377
URL:https://www.rsdo.org/evenements/le-choeur-du-rsdo-6/2020-09-16/
LOCATION:Québec
CATEGORIES:Cours
END:VEVENT
BEGIN:VEVENT
DTSTART;TZID=America/New_York:20200919T100000
DTEND;TZID=America/New_York:20200919T110000
DTSTAMP:20260424T161807
CREATED:20200909T002219Z
LAST-MODIFIED:20200909T002219Z
UID:10001795-1600509600-1600513200@www.rsdo.org
SUMMARY:Cours de yoga à l'extérieur de l'été 2020 - prolongation
DESCRIPTION:Pour les membres seulement\nLe RSDO vous offre gratuitement un cours de yoga d’une durée d’une heure pour la période estivale\, soit les samedis du 4 Juillet au 29 août\, avec votre intructrice habituelle\, Josey Deroy.\nLes inscriptions et les présences se feront sur place.\nPour votre confort\, apporter un tapis\, des blocs de mousse\, serviette et bouteille d’eau\, (facultatif: plastique ou toile de protection à mettre sous le tapis).\nVeuillez noter que les règles de distanciation sociale seront respectées.\n\nEn cas de pluie\, le cours sera automatiquement annulé.\nRenseignements: Chantal 514-696-9408 ou RSDO: 438-390-7736
URL:https://www.rsdo.org/evenements/cours-de-yoga-a-lexterieur-de-lete-2020-prolongation/2020-09-19/
LOCATION:Parc Jacques-Cardinal\, 16037\, boulevard Gouin Ouest\,\, Pierrefonds\, Québec\, H9H 2X3\, Canada
CATEGORIES:Cours
ATTACH;FMTTYPE=image/jpeg:https://www.rsdo.org/wp-content/uploads/2020/07/Yoga-extérieur-3-b.jpg
ORGANIZER;CN="Josey Deroy":MAILTO:josey.yoga.fitness@gmail.com
GEO:45.4805517;-73.8725251
X-APPLE-STRUCTURED-LOCATION;VALUE=URI;X-ADDRESS=Parc Jacques-Cardinal 16037 boulevard Gouin Ouest Pierrefonds Québec H9H 2X3 Canada;X-APPLE-RADIUS=500;X-TITLE=16037\, boulevard Gouin Ouest\,:geo:-73.8725251,45.4805517
END:VEVENT
BEGIN:VEVENT
DTSTART;TZID=America/New_York:20200920T100000
DTEND;TZID=America/New_York:20200920T111500
DTSTAMP:20260424T161807
CREATED:20200807T193314Z
LAST-MODIFIED:20201013T001137Z
UID:10001777-1600596000-1600600500@www.rsdo.org
SUMMARY:Qi Gong en plein air
DESCRIPTION:Pour suivre cet atelier\, il faut être membre du RSDO (un essai gratuit pour les non-membres)\n\nLe Qi Gong (prononcez tchi gong est un ensemble d’exercices énergétiques issus de la médecine traditionnelle chinoise et de la philosophie Taoïste.  Cette pratique rétablit la libre circulation de l’énergie dans les méridiens\, stimulant ainsi le potentiel naturel de guérison et la capacité de faire face au stress.  Les mouvements se feront debout ou assis vu que l’on sera en plein air.  Ils sont doux\, fluides\, souples et faciles d’exécution\, ils améliorent la flexibilité\, la posture\, l’équilibre\, harmonisent les émotions\, apaisent l’esprit\, stimulent et fortifient tout le corps.  Cette pratique s’adresse à tout le monde et s’adapte à toutes les conditions.\n\nCoût : gratuit pour les membres\nAnimatrice : Luce Desgagné\, enseignante Qi Gong depuis 1998\n\n\n\n\nInscription :  conference@rsdo.org
URL:https://www.rsdo.org/evenements/qi-gong-plein-air/2020-09-20/
LOCATION:Parc Edgewater\, Pointe-Claire\, Québec\, H9S 4K6\, Canada
CATEGORIES:Cours
ATTACH;FMTTYPE=image/jpeg:https://www.rsdo.org/wp-content/uploads/2019/09/Luce-Desgagnés.jpg
END:VEVENT
BEGIN:VEVENT
DTSTART;TZID=America/New_York:20200923T190000
DTEND;TZID=America/New_York:20200923T200000
DTSTAMP:20260424T161807
CREATED:20200922T160357Z
LAST-MODIFIED:20200922T160357Z
UID:10000467-1600887600-1600891200@www.rsdo.org
SUMMARY:Le choeur du RSDO
DESCRIPTION:Gratuit pour les membres. \nAu RSDO\, on brise l’isolement en chantant virtuellement !  Notre directeur de chorale\, Jocelyn Bigras\, poursuit les rencontres de chant afin de pratiquer avec lui sur nos écrans de la maison.  À partir de chansons connues du répertoire qu’il nous propose\, Jocelyn s’exécute et nous accompagne au piano ou à l’accordéon. \nNous sommes invités à chanter avec lui\, ensemble\, chacun de notre côté.  L’expérience\, bien que très différente de ce que nous connaissons\, nous apporte la sensation d’être entouré et d’être dans une action de groupe. \nDes montages vidéo seront aussi créés afin de partager notre enthousiasme ! \nLa chorale du RSDO utilise l’application ZOOM. Lorsque vous en faites la demande\, un courriel est envoyé avec le lien. \nRenseignements : Sylvie Beaupré 514 865-4377
URL:https://www.rsdo.org/evenements/le-choeur-du-rsdo-6/2020-09-23/
LOCATION:Québec
CATEGORIES:Cours
END:VEVENT
BEGIN:VEVENT
DTSTART;TZID=America/New_York:20200926T100000
DTEND;TZID=America/New_York:20200926T110000
DTSTAMP:20260424T161807
CREATED:20200909T002219Z
LAST-MODIFIED:20200909T002219Z
UID:10001796-1601114400-1601118000@www.rsdo.org
SUMMARY:Cours de yoga à l'extérieur de l'été 2020 - prolongation
DESCRIPTION:Pour les membres seulement\nLe RSDO vous offre gratuitement un cours de yoga d’une durée d’une heure pour la période estivale\, soit les samedis du 4 Juillet au 29 août\, avec votre intructrice habituelle\, Josey Deroy.\nLes inscriptions et les présences se feront sur place.\nPour votre confort\, apporter un tapis\, des blocs de mousse\, serviette et bouteille d’eau\, (facultatif: plastique ou toile de protection à mettre sous le tapis).\nVeuillez noter que les règles de distanciation sociale seront respectées.\n\nEn cas de pluie\, le cours sera automatiquement annulé.\nRenseignements: Chantal 514-696-9408 ou RSDO: 438-390-7736
URL:https://www.rsdo.org/evenements/cours-de-yoga-a-lexterieur-de-lete-2020-prolongation/2020-09-26/
LOCATION:Parc Jacques-Cardinal\, 16037\, boulevard Gouin Ouest\,\, Pierrefonds\, Québec\, H9H 2X3\, Canada
CATEGORIES:Cours
ATTACH;FMTTYPE=image/jpeg:https://www.rsdo.org/wp-content/uploads/2020/07/Yoga-extérieur-3-b.jpg
ORGANIZER;CN="Josey Deroy":MAILTO:josey.yoga.fitness@gmail.com
GEO:45.4805517;-73.8725251
X-APPLE-STRUCTURED-LOCATION;VALUE=URI;X-ADDRESS=Parc Jacques-Cardinal 16037 boulevard Gouin Ouest Pierrefonds Québec H9H 2X3 Canada;X-APPLE-RADIUS=500;X-TITLE=16037\, boulevard Gouin Ouest\,:geo:-73.8725251,45.4805517
END:VEVENT
BEGIN:VEVENT
DTSTART;TZID=America/New_York:20200930T190000
DTEND;TZID=America/New_York:20200930T200000
DTSTAMP:20260424T161807
CREATED:20200922T160357Z
LAST-MODIFIED:20200922T160357Z
UID:10000468-1601492400-1601496000@www.rsdo.org
SUMMARY:Le choeur du RSDO
DESCRIPTION:Gratuit pour les membres. \nAu RSDO\, on brise l’isolement en chantant virtuellement !  Notre directeur de chorale\, Jocelyn Bigras\, poursuit les rencontres de chant afin de pratiquer avec lui sur nos écrans de la maison.  À partir de chansons connues du répertoire qu’il nous propose\, Jocelyn s’exécute et nous accompagne au piano ou à l’accordéon. \nNous sommes invités à chanter avec lui\, ensemble\, chacun de notre côté.  L’expérience\, bien que très différente de ce que nous connaissons\, nous apporte la sensation d’être entouré et d’être dans une action de groupe. \nDes montages vidéo seront aussi créés afin de partager notre enthousiasme ! \nLa chorale du RSDO utilise l’application ZOOM. Lorsque vous en faites la demande\, un courriel est envoyé avec le lien. \nRenseignements : Sylvie Beaupré 514 865-4377
URL:https://www.rsdo.org/evenements/le-choeur-du-rsdo-6/2020-09-30/
LOCATION:Québec
CATEGORIES:Cours
END:VEVENT
END:VCALENDAR