BEGIN:VCALENDAR
VERSION:2.0
PRODID:-//RSDO - ECPv6.15.20//NONSGML v1.0//EN
CALSCALE:GREGORIAN
METHOD:PUBLISH
X-ORIGINAL-URL:https://www.rsdo.org
X-WR-CALDESC:Évènements pour RSDO
REFRESH-INTERVAL;VALUE=DURATION:PT1H
X-Robots-Tag:noindex
X-PUBLISHED-TTL:PT1H
BEGIN:VTIMEZONE
TZID:America/New_York
BEGIN:DAYLIGHT
TZOFFSETFROM:-0500
TZOFFSETTO:-0400
TZNAME:EDT
DTSTART:20180311T070000
END:DAYLIGHT
BEGIN:STANDARD
TZOFFSETFROM:-0400
TZOFFSETTO:-0500
TZNAME:EST
DTSTART:20181104T060000
END:STANDARD
BEGIN:DAYLIGHT
TZOFFSETFROM:-0500
TZOFFSETTO:-0400
TZNAME:EDT
DTSTART:20190310T070000
END:DAYLIGHT
BEGIN:STANDARD
TZOFFSETFROM:-0400
TZOFFSETTO:-0500
TZNAME:EST
DTSTART:20191103T060000
END:STANDARD
BEGIN:DAYLIGHT
TZOFFSETFROM:-0500
TZOFFSETTO:-0400
TZNAME:EDT
DTSTART:20200308T070000
END:DAYLIGHT
BEGIN:STANDARD
TZOFFSETFROM:-0400
TZOFFSETTO:-0500
TZNAME:EST
DTSTART:20201101T060000
END:STANDARD
END:VTIMEZONE
BEGIN:VEVENT
DTSTART;TZID=America/New_York:20191102T100000
DTEND;TZID=America/New_York:20191102T113000
DTSTAMP:20260425T115633
CREATED:20190903T000724Z
LAST-MODIFIED:20190903T000724Z
UID:10001539-1572688800-1572694200@www.rsdo.org
SUMMARY:Cours de conditionnement physique et de yoga
DESCRIPTION:Pour suivre ce cours\, il faut être membre du RSDO sauf pour le 1er cours. \nLe RSDO vous offre gratuitement un cours de yoga d’une heure combiné avec le conditionnement physique d’une durée de 30 minutes. Vous avez le choix de faire l’un ou l’autre ou les deux. \nHoraire :  conditionnement physique de 10 h à 10 h 30;  yoga de 10 h 30 à 11 h 30. \nInstructrice : Josey Deroy \nPour votre confort au yoga\, apportez un tapis\, des blocs en mousse\, serviette et bouteille d’eau. \nPour le conditionnement physique\, des espadrilles et des poids de 2 à 5 kg. \nRenseignements : Chantal 514-696-9408 ou RSDO 438-390-7736
URL:https://www.rsdo.org/evenements/cours-de-conditionnement-physique-de-yoga-4/2019-11-02/
LOCATION:Chalet Roxboro\, 10 11 rue\, Roxboro\, Quebec\, H8Y 2P3\, Canada
CATEGORIES:Cours
ATTACH;FMTTYPE=image/jpeg:https://www.rsdo.org/wp-content/uploads/2018/09/download-1-1.jpg
GEO:45.5053201;-73.8030777
X-APPLE-STRUCTURED-LOCATION;VALUE=URI;X-ADDRESS=Chalet Roxboro 10 11 rue Roxboro Quebec H8Y 2P3 Canada;X-APPLE-RADIUS=500;X-TITLE=10 11 rue:geo:-73.8030777,45.5053201
END:VEVENT
BEGIN:VEVENT
DTSTART;TZID=America/New_York:20191104T183000
DTEND;TZID=America/New_York:20191104T203000
DTSTAMP:20260425T115633
CREATED:20190902T235715Z
LAST-MODIFIED:20190929T152319Z
UID:10001525-1572892200-1572899400@www.rsdo.org
SUMMARY:L'informatique au goût de chacun - Annulé - Minimum de participants non atteint
DESCRIPTION:Pour suivre ce cours\, il faut être membre du RSDO. \nL’informatique est devenue un véritable phénomène de société touchant des personnes de tous âges et de tous les secteurs. Pour la session d’automne\, les cours d’informatique seront de niveau intermédiaire (word\,excel) etc. Programmation à venir. \n Inscription: Les personnes qui s’inscrivent pour la première fois doivent apporter: leur certificat de naissance (grand format)\, carte de citoyenneté ou résident permanent et la carte d’assurance maladie. \n Dates : Les lundis (fin du mois de septembre à décembre 2019). Dates à confirmer. \nCoût : Gratuit. \nRenseignements : Louise D. 514 542-1308 ou le RSDO 438 390-7736
URL:https://www.rsdo.org/evenements/linformatique-gout-de-chacun-3/2019-11-04/
LOCATION:Centre d’éducation des adultes Jeanne-Sauvé\, 305\, avenue Mimosa\,\, Dorval\, Québec\, H9S 3K5\, Canada
CATEGORIES:Cours
ATTACH;FMTTYPE=image/jpeg:https://www.rsdo.org/wp-content/uploads/2018/09/keyboard-621830__340.jpg
GEO:45.4443775;-73.7377077
X-APPLE-STRUCTURED-LOCATION;VALUE=URI;X-ADDRESS=Centre d’éducation des adultes Jeanne-Sauvé 305 avenue Mimosa Dorval Québec H9S 3K5 Canada;X-APPLE-RADIUS=500;X-TITLE=305\, avenue Mimosa\,:geo:-73.7377077,45.4443775
END:VEVENT
BEGIN:VEVENT
DTSTART;TZID=America/New_York:20191105T193000
DTEND;TZID=America/New_York:20191105T213000
DTSTAMP:20260425T115633
CREATED:20190902T224729Z
LAST-MODIFIED:20190902T230719Z
UID:10000298-1572982200-1572989400@www.rsdo.org
SUMMARY:Le choeur du RSDO
DESCRIPTION:Pour faire partie de la chorale\, il faut être membre du RSDO. \nAu RSDO\, on peut briser l’isolement en participant à un réseau d’entraide et à des cours/ateliers enrichissants qui nous font sortir de notre zone de confort et nous apportent la joie et le bonheur. Chanter dans une chorale apporte des bienfaits sur les plans émotionnel\, intellectuel (acquisition de connaissances\, stimulation cognitive)\, social\, spirituel et physique. \nLes 12 pratiques auront lieu les mardis soirs du 10 septembre au 26 novembre 2019. \nTrois concerts seront présentés (endroits et dates à déterminer). \nCoût : 20 $. Première participation gratuite. Aucun remboursement après l’inscription. \nChef de chœur : Jocelyn Bigras \nRenseignements : Pauline P. au 514 465-3428 ou le RSDO au 438 390-7736.
URL:https://www.rsdo.org/evenements/le-choeur-du-rsdo-5/2019-11-05/
LOCATION:CHSLD Denis Benjamin Viger\, 3292 rue Cherrier\, L’Île-Bizard\, Québec\, H9C 2N4\, Canada
CATEGORIES:Cours
GEO:45.4904577;-73.8692953
X-APPLE-STRUCTURED-LOCATION;VALUE=URI;X-ADDRESS=CHSLD Denis Benjamin Viger 3292 rue Cherrier L’Île-Bizard Québec H9C 2N4 Canada;X-APPLE-RADIUS=500;X-TITLE=3292 rue Cherrier:geo:-73.8692953,45.4904577
END:VEVENT
BEGIN:VEVENT
DTSTART;TZID=America/New_York:20191109T100000
DTEND;TZID=America/New_York:20191109T113000
DTSTAMP:20260425T115633
CREATED:20190903T000724Z
LAST-MODIFIED:20190903T000724Z
UID:10001540-1573293600-1573299000@www.rsdo.org
SUMMARY:Cours de conditionnement physique et de yoga
DESCRIPTION:Pour suivre ce cours\, il faut être membre du RSDO sauf pour le 1er cours. \nLe RSDO vous offre gratuitement un cours de yoga d’une heure combiné avec le conditionnement physique d’une durée de 30 minutes. Vous avez le choix de faire l’un ou l’autre ou les deux. \nHoraire :  conditionnement physique de 10 h à 10 h 30;  yoga de 10 h 30 à 11 h 30. \nInstructrice : Josey Deroy \nPour votre confort au yoga\, apportez un tapis\, des blocs en mousse\, serviette et bouteille d’eau. \nPour le conditionnement physique\, des espadrilles et des poids de 2 à 5 kg. \nRenseignements : Chantal 514-696-9408 ou RSDO 438-390-7736
URL:https://www.rsdo.org/evenements/cours-de-conditionnement-physique-de-yoga-4/2019-11-09/
LOCATION:Chalet Roxboro\, 10 11 rue\, Roxboro\, Quebec\, H8Y 2P3\, Canada
CATEGORIES:Cours
ATTACH;FMTTYPE=image/jpeg:https://www.rsdo.org/wp-content/uploads/2018/09/download-1-1.jpg
GEO:45.5053201;-73.8030777
X-APPLE-STRUCTURED-LOCATION;VALUE=URI;X-ADDRESS=Chalet Roxboro 10 11 rue Roxboro Quebec H8Y 2P3 Canada;X-APPLE-RADIUS=500;X-TITLE=10 11 rue:geo:-73.8030777,45.5053201
END:VEVENT
BEGIN:VEVENT
DTSTART;TZID=America/New_York:20191111T183000
DTEND;TZID=America/New_York:20191111T203000
DTSTAMP:20260425T115634
CREATED:20190902T235715Z
LAST-MODIFIED:20190929T152319Z
UID:10001526-1573497000-1573504200@www.rsdo.org
SUMMARY:L'informatique au goût de chacun - Annulé - Minimum de participants non atteint
DESCRIPTION:Pour suivre ce cours\, il faut être membre du RSDO. \nL’informatique est devenue un véritable phénomène de société touchant des personnes de tous âges et de tous les secteurs. Pour la session d’automne\, les cours d’informatique seront de niveau intermédiaire (word\,excel) etc. Programmation à venir. \n Inscription: Les personnes qui s’inscrivent pour la première fois doivent apporter: leur certificat de naissance (grand format)\, carte de citoyenneté ou résident permanent et la carte d’assurance maladie. \n Dates : Les lundis (fin du mois de septembre à décembre 2019). Dates à confirmer. \nCoût : Gratuit. \nRenseignements : Louise D. 514 542-1308 ou le RSDO 438 390-7736
URL:https://www.rsdo.org/evenements/linformatique-gout-de-chacun-3/2019-11-11/
LOCATION:Centre d’éducation des adultes Jeanne-Sauvé\, 305\, avenue Mimosa\,\, Dorval\, Québec\, H9S 3K5\, Canada
CATEGORIES:Cours
ATTACH;FMTTYPE=image/jpeg:https://www.rsdo.org/wp-content/uploads/2018/09/keyboard-621830__340.jpg
GEO:45.4443775;-73.7377077
X-APPLE-STRUCTURED-LOCATION;VALUE=URI;X-ADDRESS=Centre d’éducation des adultes Jeanne-Sauvé 305 avenue Mimosa Dorval Québec H9S 3K5 Canada;X-APPLE-RADIUS=500;X-TITLE=305\, avenue Mimosa\,:geo:-73.7377077,45.4443775
END:VEVENT
BEGIN:VEVENT
DTSTART;TZID=America/New_York:20191112T193000
DTEND;TZID=America/New_York:20191112T213000
DTSTAMP:20260425T115634
CREATED:20190902T224729Z
LAST-MODIFIED:20190902T230719Z
UID:10000299-1573587000-1573594200@www.rsdo.org
SUMMARY:Le choeur du RSDO
DESCRIPTION:Pour faire partie de la chorale\, il faut être membre du RSDO. \nAu RSDO\, on peut briser l’isolement en participant à un réseau d’entraide et à des cours/ateliers enrichissants qui nous font sortir de notre zone de confort et nous apportent la joie et le bonheur. Chanter dans une chorale apporte des bienfaits sur les plans émotionnel\, intellectuel (acquisition de connaissances\, stimulation cognitive)\, social\, spirituel et physique. \nLes 12 pratiques auront lieu les mardis soirs du 10 septembre au 26 novembre 2019. \nTrois concerts seront présentés (endroits et dates à déterminer). \nCoût : 20 $. Première participation gratuite. Aucun remboursement après l’inscription. \nChef de chœur : Jocelyn Bigras \nRenseignements : Pauline P. au 514 465-3428 ou le RSDO au 438 390-7736.
URL:https://www.rsdo.org/evenements/le-choeur-du-rsdo-5/2019-11-12/
LOCATION:CHSLD Denis Benjamin Viger\, 3292 rue Cherrier\, L’Île-Bizard\, Québec\, H9C 2N4\, Canada
CATEGORIES:Cours
GEO:45.4904577;-73.8692953
X-APPLE-STRUCTURED-LOCATION;VALUE=URI;X-ADDRESS=CHSLD Denis Benjamin Viger 3292 rue Cherrier L’Île-Bizard Québec H9C 2N4 Canada;X-APPLE-RADIUS=500;X-TITLE=3292 rue Cherrier:geo:-73.8692953,45.4904577
END:VEVENT
BEGIN:VEVENT
DTSTART;TZID=America/New_York:20191116T100000
DTEND;TZID=America/New_York:20191116T113000
DTSTAMP:20260425T115634
CREATED:20190903T000724Z
LAST-MODIFIED:20190903T000724Z
UID:10001541-1573898400-1573903800@www.rsdo.org
SUMMARY:Cours de conditionnement physique et de yoga
DESCRIPTION:Pour suivre ce cours\, il faut être membre du RSDO sauf pour le 1er cours. \nLe RSDO vous offre gratuitement un cours de yoga d’une heure combiné avec le conditionnement physique d’une durée de 30 minutes. Vous avez le choix de faire l’un ou l’autre ou les deux. \nHoraire :  conditionnement physique de 10 h à 10 h 30;  yoga de 10 h 30 à 11 h 30. \nInstructrice : Josey Deroy \nPour votre confort au yoga\, apportez un tapis\, des blocs en mousse\, serviette et bouteille d’eau. \nPour le conditionnement physique\, des espadrilles et des poids de 2 à 5 kg. \nRenseignements : Chantal 514-696-9408 ou RSDO 438-390-7736
URL:https://www.rsdo.org/evenements/cours-de-conditionnement-physique-de-yoga-4/2019-11-16/
LOCATION:Chalet Roxboro\, 10 11 rue\, Roxboro\, Quebec\, H8Y 2P3\, Canada
CATEGORIES:Cours
ATTACH;FMTTYPE=image/jpeg:https://www.rsdo.org/wp-content/uploads/2018/09/download-1-1.jpg
GEO:45.5053201;-73.8030777
X-APPLE-STRUCTURED-LOCATION;VALUE=URI;X-ADDRESS=Chalet Roxboro 10 11 rue Roxboro Quebec H8Y 2P3 Canada;X-APPLE-RADIUS=500;X-TITLE=10 11 rue:geo:-73.8030777,45.5053201
END:VEVENT
BEGIN:VEVENT
DTSTART;TZID=America/New_York:20191116T133000
DTEND;TZID=America/New_York:20191116T163000
DTSTAMP:20260425T115634
CREATED:20190903T003842Z
LAST-MODIFIED:20190903T003842Z
UID:10001530-1573911000-1573921800@www.rsdo.org
SUMMARY:Plaisir et peinture
DESCRIPTION:Pour suivre cet atelier il faut être membre du RSDO. \nDans un but de favoriser l’échange\, créer des liens et de s’amuser\, nous vous proposons un après-midi de croissance de groupe en faisant une activité spéciale. Vous n’avez jamais fait de la peinture? C’est le temps ou jamais de venir explorer ce passe-temps! C’est dans une ambiance agréable où l’on développe autant sa créativité que sa confiance en soi dans un climat plaisant\, sans jugement et interactif que l’on vous propose de vous joindre au groupe. \nL’atelier sera animé par Jeremy Costa\, artiste en arts visuels qui offre entre autres des ateliers Painting parties. \nAnimateur : Jeremy Costa\, artiste en arts visuels \nParticipants : Minimum 15 personnes\, maximum 40 personnes \nRenseignements : Sylvie Gagnon 514 850-1243.
URL:https://www.rsdo.org/evenements/plaisir-et-peinture/
LOCATION:Le Grenier\, 571\, rue Cherrier\, Île-Bizard\, Québec\, H9E 1J7\, Canada
CATEGORIES:Cours
ATTACH;FMTTYPE=image/jpeg:https://www.rsdo.org/wp-content/uploads/2019/09/art-1027828_960_720.jpg
GEO:45.4853816;-73.8807703
X-APPLE-STRUCTURED-LOCATION;VALUE=URI;X-ADDRESS=Le Grenier 571 rue Cherrier Île-Bizard Québec H9E 1J7 Canada;X-APPLE-RADIUS=500;X-TITLE=571\, rue Cherrier:geo:-73.8807703,45.4853816
END:VEVENT
BEGIN:VEVENT
DTSTART;TZID=America/New_York:20191118T183000
DTEND;TZID=America/New_York:20191118T203000
DTSTAMP:20260425T115634
CREATED:20190902T235715Z
LAST-MODIFIED:20190929T152319Z
UID:10001527-1574101800-1574109000@www.rsdo.org
SUMMARY:L'informatique au goût de chacun - Annulé - Minimum de participants non atteint
DESCRIPTION:Pour suivre ce cours\, il faut être membre du RSDO. \nL’informatique est devenue un véritable phénomène de société touchant des personnes de tous âges et de tous les secteurs. Pour la session d’automne\, les cours d’informatique seront de niveau intermédiaire (word\,excel) etc. Programmation à venir. \n Inscription: Les personnes qui s’inscrivent pour la première fois doivent apporter: leur certificat de naissance (grand format)\, carte de citoyenneté ou résident permanent et la carte d’assurance maladie. \n Dates : Les lundis (fin du mois de septembre à décembre 2019). Dates à confirmer. \nCoût : Gratuit. \nRenseignements : Louise D. 514 542-1308 ou le RSDO 438 390-7736
URL:https://www.rsdo.org/evenements/linformatique-gout-de-chacun-3/2019-11-18/
LOCATION:Centre d’éducation des adultes Jeanne-Sauvé\, 305\, avenue Mimosa\,\, Dorval\, Québec\, H9S 3K5\, Canada
CATEGORIES:Cours
ATTACH;FMTTYPE=image/jpeg:https://www.rsdo.org/wp-content/uploads/2018/09/keyboard-621830__340.jpg
GEO:45.4443775;-73.7377077
X-APPLE-STRUCTURED-LOCATION;VALUE=URI;X-ADDRESS=Centre d’éducation des adultes Jeanne-Sauvé 305 avenue Mimosa Dorval Québec H9S 3K5 Canada;X-APPLE-RADIUS=500;X-TITLE=305\, avenue Mimosa\,:geo:-73.7377077,45.4443775
END:VEVENT
BEGIN:VEVENT
DTSTART;TZID=America/New_York:20191119T193000
DTEND;TZID=America/New_York:20191119T213000
DTSTAMP:20260425T115634
CREATED:20190902T224729Z
LAST-MODIFIED:20190902T230719Z
UID:10000300-1574191800-1574199000@www.rsdo.org
SUMMARY:Le choeur du RSDO
DESCRIPTION:Pour faire partie de la chorale\, il faut être membre du RSDO. \nAu RSDO\, on peut briser l’isolement en participant à un réseau d’entraide et à des cours/ateliers enrichissants qui nous font sortir de notre zone de confort et nous apportent la joie et le bonheur. Chanter dans une chorale apporte des bienfaits sur les plans émotionnel\, intellectuel (acquisition de connaissances\, stimulation cognitive)\, social\, spirituel et physique. \nLes 12 pratiques auront lieu les mardis soirs du 10 septembre au 26 novembre 2019. \nTrois concerts seront présentés (endroits et dates à déterminer). \nCoût : 20 $. Première participation gratuite. Aucun remboursement après l’inscription. \nChef de chœur : Jocelyn Bigras \nRenseignements : Pauline P. au 514 465-3428 ou le RSDO au 438 390-7736.
URL:https://www.rsdo.org/evenements/le-choeur-du-rsdo-5/2019-11-19/
LOCATION:CHSLD Denis Benjamin Viger\, 3292 rue Cherrier\, L’Île-Bizard\, Québec\, H9C 2N4\, Canada
CATEGORIES:Cours
GEO:45.4904577;-73.8692953
X-APPLE-STRUCTURED-LOCATION;VALUE=URI;X-ADDRESS=CHSLD Denis Benjamin Viger 3292 rue Cherrier L’Île-Bizard Québec H9C 2N4 Canada;X-APPLE-RADIUS=500;X-TITLE=3292 rue Cherrier:geo:-73.8692953,45.4904577
END:VEVENT
BEGIN:VEVENT
DTSTART;TZID=America/New_York:20191123T100000
DTEND;TZID=America/New_York:20191123T113000
DTSTAMP:20260425T115634
CREATED:20190903T000724Z
LAST-MODIFIED:20190903T000724Z
UID:10001542-1574503200-1574508600@www.rsdo.org
SUMMARY:Cours de conditionnement physique et de yoga
DESCRIPTION:Pour suivre ce cours\, il faut être membre du RSDO sauf pour le 1er cours. \nLe RSDO vous offre gratuitement un cours de yoga d’une heure combiné avec le conditionnement physique d’une durée de 30 minutes. Vous avez le choix de faire l’un ou l’autre ou les deux. \nHoraire :  conditionnement physique de 10 h à 10 h 30;  yoga de 10 h 30 à 11 h 30. \nInstructrice : Josey Deroy \nPour votre confort au yoga\, apportez un tapis\, des blocs en mousse\, serviette et bouteille d’eau. \nPour le conditionnement physique\, des espadrilles et des poids de 2 à 5 kg. \nRenseignements : Chantal 514-696-9408 ou RSDO 438-390-7736
URL:https://www.rsdo.org/evenements/cours-de-conditionnement-physique-de-yoga-4/2019-11-23/
LOCATION:Chalet Roxboro\, 10 11 rue\, Roxboro\, Quebec\, H8Y 2P3\, Canada
CATEGORIES:Cours
ATTACH;FMTTYPE=image/jpeg:https://www.rsdo.org/wp-content/uploads/2018/09/download-1-1.jpg
GEO:45.5053201;-73.8030777
X-APPLE-STRUCTURED-LOCATION;VALUE=URI;X-ADDRESS=Chalet Roxboro 10 11 rue Roxboro Quebec H8Y 2P3 Canada;X-APPLE-RADIUS=500;X-TITLE=10 11 rue:geo:-73.8030777,45.5053201
END:VEVENT
BEGIN:VEVENT
DTSTART;TZID=America/New_York:20191125T183000
DTEND;TZID=America/New_York:20191125T203000
DTSTAMP:20260425T115634
CREATED:20190902T235715Z
LAST-MODIFIED:20190929T152319Z
UID:10001528-1574706600-1574713800@www.rsdo.org
SUMMARY:L'informatique au goût de chacun - Annulé - Minimum de participants non atteint
DESCRIPTION:Pour suivre ce cours\, il faut être membre du RSDO. \nL’informatique est devenue un véritable phénomène de société touchant des personnes de tous âges et de tous les secteurs. Pour la session d’automne\, les cours d’informatique seront de niveau intermédiaire (word\,excel) etc. Programmation à venir. \n Inscription: Les personnes qui s’inscrivent pour la première fois doivent apporter: leur certificat de naissance (grand format)\, carte de citoyenneté ou résident permanent et la carte d’assurance maladie. \n Dates : Les lundis (fin du mois de septembre à décembre 2019). Dates à confirmer. \nCoût : Gratuit. \nRenseignements : Louise D. 514 542-1308 ou le RSDO 438 390-7736
URL:https://www.rsdo.org/evenements/linformatique-gout-de-chacun-3/2019-11-25/
LOCATION:Centre d’éducation des adultes Jeanne-Sauvé\, 305\, avenue Mimosa\,\, Dorval\, Québec\, H9S 3K5\, Canada
CATEGORIES:Cours
ATTACH;FMTTYPE=image/jpeg:https://www.rsdo.org/wp-content/uploads/2018/09/keyboard-621830__340.jpg
GEO:45.4443775;-73.7377077
X-APPLE-STRUCTURED-LOCATION;VALUE=URI;X-ADDRESS=Centre d’éducation des adultes Jeanne-Sauvé 305 avenue Mimosa Dorval Québec H9S 3K5 Canada;X-APPLE-RADIUS=500;X-TITLE=305\, avenue Mimosa\,:geo:-73.7377077,45.4443775
END:VEVENT
BEGIN:VEVENT
DTSTART;TZID=America/New_York:20191126T193000
DTEND;TZID=America/New_York:20191126T213000
DTSTAMP:20260425T115634
CREATED:20190902T224729Z
LAST-MODIFIED:20190902T230719Z
UID:10000301-1574796600-1574803800@www.rsdo.org
SUMMARY:Le choeur du RSDO
DESCRIPTION:Pour faire partie de la chorale\, il faut être membre du RSDO. \nAu RSDO\, on peut briser l’isolement en participant à un réseau d’entraide et à des cours/ateliers enrichissants qui nous font sortir de notre zone de confort et nous apportent la joie et le bonheur. Chanter dans une chorale apporte des bienfaits sur les plans émotionnel\, intellectuel (acquisition de connaissances\, stimulation cognitive)\, social\, spirituel et physique. \nLes 12 pratiques auront lieu les mardis soirs du 10 septembre au 26 novembre 2019. \nTrois concerts seront présentés (endroits et dates à déterminer). \nCoût : 20 $. Première participation gratuite. Aucun remboursement après l’inscription. \nChef de chœur : Jocelyn Bigras \nRenseignements : Pauline P. au 514 465-3428 ou le RSDO au 438 390-7736.
URL:https://www.rsdo.org/evenements/le-choeur-du-rsdo-5/2019-11-26/
LOCATION:CHSLD Denis Benjamin Viger\, 3292 rue Cherrier\, L’Île-Bizard\, Québec\, H9C 2N4\, Canada
CATEGORIES:Cours
GEO:45.4904577;-73.8692953
X-APPLE-STRUCTURED-LOCATION;VALUE=URI;X-ADDRESS=CHSLD Denis Benjamin Viger 3292 rue Cherrier L’Île-Bizard Québec H9C 2N4 Canada;X-APPLE-RADIUS=500;X-TITLE=3292 rue Cherrier:geo:-73.8692953,45.4904577
END:VEVENT
BEGIN:VEVENT
DTSTART;TZID=America/New_York:20191130T100000
DTEND;TZID=America/New_York:20191130T113000
DTSTAMP:20260425T115634
CREATED:20190903T000724Z
LAST-MODIFIED:20190903T000724Z
UID:10001543-1575108000-1575113400@www.rsdo.org
SUMMARY:Cours de conditionnement physique et de yoga
DESCRIPTION:Pour suivre ce cours\, il faut être membre du RSDO sauf pour le 1er cours. \nLe RSDO vous offre gratuitement un cours de yoga d’une heure combiné avec le conditionnement physique d’une durée de 30 minutes. Vous avez le choix de faire l’un ou l’autre ou les deux. \nHoraire :  conditionnement physique de 10 h à 10 h 30;  yoga de 10 h 30 à 11 h 30. \nInstructrice : Josey Deroy \nPour votre confort au yoga\, apportez un tapis\, des blocs en mousse\, serviette et bouteille d’eau. \nPour le conditionnement physique\, des espadrilles et des poids de 2 à 5 kg. \nRenseignements : Chantal 514-696-9408 ou RSDO 438-390-7736
URL:https://www.rsdo.org/evenements/cours-de-conditionnement-physique-de-yoga-4/2019-11-30/
LOCATION:Chalet Roxboro\, 10 11 rue\, Roxboro\, Quebec\, H8Y 2P3\, Canada
CATEGORIES:Cours
ATTACH;FMTTYPE=image/jpeg:https://www.rsdo.org/wp-content/uploads/2018/09/download-1-1.jpg
GEO:45.5053201;-73.8030777
X-APPLE-STRUCTURED-LOCATION;VALUE=URI;X-ADDRESS=Chalet Roxboro 10 11 rue Roxboro Quebec H8Y 2P3 Canada;X-APPLE-RADIUS=500;X-TITLE=10 11 rue:geo:-73.8030777,45.5053201
END:VEVENT
END:VCALENDAR