BEGIN:VCALENDAR
VERSION:2.0
PRODID:-//RSDO - ECPv6.15.20//NONSGML v1.0//EN
CALSCALE:GREGORIAN
METHOD:PUBLISH
X-ORIGINAL-URL:https://www.rsdo.org
X-WR-CALDESC:Évènements pour RSDO
REFRESH-INTERVAL;VALUE=DURATION:PT1H
X-Robots-Tag:noindex
X-PUBLISHED-TTL:PT1H
BEGIN:VTIMEZONE
TZID:America/New_York
BEGIN:DAYLIGHT
TZOFFSETFROM:-0500
TZOFFSETTO:-0400
TZNAME:EDT
DTSTART:20220313T070000
END:DAYLIGHT
BEGIN:STANDARD
TZOFFSETFROM:-0400
TZOFFSETTO:-0500
TZNAME:EST
DTSTART:20221106T060000
END:STANDARD
BEGIN:DAYLIGHT
TZOFFSETFROM:-0500
TZOFFSETTO:-0400
TZNAME:EDT
DTSTART:20230312T070000
END:DAYLIGHT
BEGIN:STANDARD
TZOFFSETFROM:-0400
TZOFFSETTO:-0500
TZNAME:EST
DTSTART:20231105T060000
END:STANDARD
BEGIN:DAYLIGHT
TZOFFSETFROM:-0500
TZOFFSETTO:-0400
TZNAME:EDT
DTSTART:20240310T070000
END:DAYLIGHT
BEGIN:STANDARD
TZOFFSETFROM:-0400
TZOFFSETTO:-0500
TZNAME:EST
DTSTART:20241103T060000
END:STANDARD
END:VTIMEZONE
BEGIN:VEVENT
DTSTART;TZID=America/New_York:20230117T133000
DTEND;TZID=America/New_York:20230117T150000
DTSTAMP:20260421T063621
CREATED:20230112T182532Z
LAST-MODIFIED:20230112T200101Z
UID:10000896-1673962200-1673967600@www.rsdo.org
SUMMARY:RENCONTRES EN PLEIN-AIR (Vaudreuil-Dorion)
DESCRIPTION:Activité gratuite ouverte à tous (non-membres bienvenus) \nLe RSDO vous offre l’opportunité de rencontrer et d’échanger avec d’autres dans un contexte de marche en plein air. La durée de ces rencontres est de 60 à 90 minutes et elles sont ouvertes à toutes et à tous. \nNous avons deux points de rencontre et nous demandons aux participants de s’y présenter au moins 10 minutes avant l’heure du départ. \nLes rencontres du groupe Vaudreuil-Dorion se terminent souvent au restaurant ou dans un café\, une belle façon de poursuivre les confidences. \nPour informations générales\, veuillez communiquer avec Pauline Debonville à sociale@rsdo.org ou par téléphone au 514-830-1166 ou au 450‑510‑1931. \n__________________________________________ \nGroupe de Vaudreuil-Dorion                   Les mardis et jeudis à 13 h 30 \nPoint de rencontre     Stationnement de la rue Dumont\, derrière la Tour d’eau\, \nà côté de l’Opti-Centre Saint-Jean-Baptiste sis au 145\, boulevard Hardwood \nStationnement            Dans les stationnements voisins de la Tour d’eau \nResponsable               Pauline Debonville (450-510-1931) \n__________________________________________ \nGroupe de l’Île-Bizard                               Les lundis et jeudis à 10h  \nPoint de rencontre     Parc du Centenaire * \n3000\, rue Lake | Dollard-des-Ormeaux \n                                      Au stationnement\, près de l’entrée du parc \nStationnement            Stationnement du parc \n                                      Vers la droite\, près du boisé \nResponsables          Carole Larivière (514-626-9306) et \nGisèle Talbot (514-620-6652) \n* À noter que les marches pourront se tenir dans d’autres parcs. Les participants seront informés des  changements par courriel. \n__________________________________________
URL:https://www.rsdo.org/evenements/rencontres-plein-air/2023-01-17/
LOCATION:Québec
CATEGORIES:Ateliers
ATTACH;FMTTYPE=image/jpeg:https://www.rsdo.org/wp-content/uploads/2023/01/Rencontre-en-plein-air-Hiver-2023.jpg
END:VEVENT
BEGIN:VEVENT
DTSTART;TZID=America/New_York:20230117T183000
DTEND;TZID=America/New_York:20230117T200000
DTSTAMP:20260421T063621
CREATED:20220211T032011Z
LAST-MODIFIED:20220211T032011Z
UID:10002041-1673980200-1673985600@www.rsdo.org
SUMMARY:Soirées réconfort pour endeuillés
DESCRIPTION:Activité gratuite exclusive aux membres \nInscription obligatoire \nAnimées par Louise Racine\, TRA\, Thérapeute en Relation d’aide®\, ces soirées vous sont proposées par vidéoconférence et s’adressent exclusivement aux personnes vivant un deuil par décès. À savoir : \n\nTout endeuillé par décès (récent ou lointain)\nTout proche\, aidant naturel\, bénévole ou personnel qui écoute ou entoure un endeuillé\n\nLes objectifs de ces rencontres virtuelles sont de vous permettre de briser l’isolement\, d’échanger avec d’autres endeuillés\, de comprendre le processus d’un deuil et de recevoir du réconfort. Veuillez noter que vous pouvez assister à plus d’une rencontre. \nIl est nécessaire de réserver votre place pour chacune des rencontres sur le site du CRAM afin de recevoir l’hyperlien vers la plateforme Zoom pour vous permettre de vous joindre aux groupes: \nhttps://www.cramformation.com/activites-gratuites/soirees-reconfort-pour-endeuilles \nLes rencontres ont lieu de 18 h 30 à 20 h mais le CRAM demande que les participants se branchent dès 18 h pour s’assurer de commencer à l’heure prévue. \nDates des rencontres : \nLes jeudis 17 mars\, 28 avril et 19 mai 2022 \nPour information supplémentaire\, veuillez communiquer avec Sylvie Beaupré au 514-865-4377
URL:https://www.rsdo.org/evenements/soirees-reconfort-endeuilles/2023-01-17/
LOCATION:ZOOM
CATEGORIES:Cours
END:VEVENT
END:VCALENDAR