BEGIN:VCALENDAR
VERSION:2.0
PRODID:-//RSDO - ECPv6.15.20//NONSGML v1.0//EN
CALSCALE:GREGORIAN
METHOD:PUBLISH
X-WR-CALNAME:RSDO
X-ORIGINAL-URL:https://www.rsdo.org
X-WR-CALDESC:Évènements pour RSDO
REFRESH-INTERVAL;VALUE=DURATION:PT1H
X-Robots-Tag:noindex
X-PUBLISHED-TTL:PT1H
BEGIN:VTIMEZONE
TZID:America/New_York
BEGIN:DAYLIGHT
TZOFFSETFROM:-0500
TZOFFSETTO:-0400
TZNAME:EDT
DTSTART:20210314T070000
END:DAYLIGHT
BEGIN:STANDARD
TZOFFSETFROM:-0400
TZOFFSETTO:-0500
TZNAME:EST
DTSTART:20211107T060000
END:STANDARD
BEGIN:DAYLIGHT
TZOFFSETFROM:-0500
TZOFFSETTO:-0400
TZNAME:EDT
DTSTART:20220313T070000
END:DAYLIGHT
BEGIN:STANDARD
TZOFFSETFROM:-0400
TZOFFSETTO:-0500
TZNAME:EST
DTSTART:20221106T060000
END:STANDARD
BEGIN:DAYLIGHT
TZOFFSETFROM:-0500
TZOFFSETTO:-0400
TZNAME:EDT
DTSTART:20230312T070000
END:DAYLIGHT
BEGIN:STANDARD
TZOFFSETFROM:-0400
TZOFFSETTO:-0500
TZNAME:EST
DTSTART:20231105T060000
END:STANDARD
END:VTIMEZONE
BEGIN:VEVENT
DTSTART;TZID=America/New_York:20221219T103000
DTEND;TZID=America/New_York:20221219T114500
DTSTAMP:20260419T140419
CREATED:20220906T211625Z
LAST-MODIFIED:20220906T222547Z
UID:10002285-1671445800-1671450300@www.rsdo.org
SUMMARY:Étirement et alignement postural avec chaise
DESCRIPTION:Activité gratuite exclusive aux membres \nEssai gratuit d’une séance pour les non-membres \nRespirez tout simplement et soyez Zen !  \nLe RSDO est heureux de vous offrir cette nouvelle activité virtuelle animée par Chantal Bardier qui possède plus de 21 ans d’expérience en conditionnement physique avec la clientèle des 50 ans et plus. \nVous pouvez en apprendre plus sur le cheminement et les expériences professionnelles de Chantal en consultant : \n\n            son site web :  https://chantalbardier.weebly.com\n            sa chaîne YouTube : http://www.youtube.com/user/SingingTrainer\n            ses groupes Facebook : https://chantalbardier.weebly.com/groupes-facebook.html\n\nLes séances consisteront en exercices d’étirement et d’alignement postural avec chaise combinant étirements posturaux et de détente\, en position assise et debout\, le tout dans le respect des limites de chacun. \nLes exercices pratiqués améliorent la souplesse générale et la mobilité\, dénouent les tensions\, aident à prévenir les blessures\, apprennent à mieux respirer et à réduire l’anxiété.  Pour profiter au maximum des bénéfices qu’ils apportent\, nous vous recommandons d’éviter les repas lourds avant les séances\, de vous vêtir de vêtements confortables et d’espadrilles ou chaussettes antidérapantes et de vous munir d’une bouteille d’eau. \nDates                        Du 12 septembre au 19 décembre (15 semaines) \nComment                 Virtuellement avec la plateforme Zoom \n                                  Un hyperlien sera envoyé à tous les membres \nMatériel requis         \n\nChaise sans accoudoirs\nSangle\, ceinture ou cravate\n\nPour informations veuillez communiquer avec Sylvie Beaupré à sbeaupre01@hotmail.com ou directement auprès de Chantal Bardier à cbardier@sympatico.ca
URL:https://www.rsdo.org/evenements/etirement-alignement-postural-chaise/2022-12-19/
LOCATION:Québec
CATEGORIES:Cours
ATTACH;FMTTYPE=image/png:https://www.rsdo.org/wp-content/uploads/2022/08/Étirement-et-Alignment-Postural-avec-Chaise-Automne-2022-e1662506710785.png
END:VEVENT
END:VCALENDAR